{"text_format":"1","workbook":"xlsx","n_sheets":4,"sheets":["Project Information","SBUH Model","SCS,SBUH Equations","Lookups, Constants"],"not_rendered":{"charts":0,"images":1,"macros":1,"external_links":0,"defined_names":22,"comments":1,"pivot_tables":0},"unopened":[],"bounds":{"document_bytes":16777216,"sheet_cells":100000,"rows_first":2000,"rows_last":500,"rows_between":2000,"halvings":0,"cell_chars":16384,"cell_head_chars":4096},"cells_cut":0,"cells_raw":0,"read":"whole","date_system":"1900"}

{"sheet":"Project Information","index":0,"n_rows":46,"n_cols":16,"rows_kept":46,"cut":false,"hidden":false,"merged":[[45,0,45,1],[40,0,40,1],[39,0,39,1],[38,0,38,1],[6,2,6,3],[7,2,7,3],[22,0,22,1],[21,0,21,1],[19,0,19,1],[20,0,20,1],[30,0,30,1],[43,0,43,1],[32,0,32,1],[31,0,31,1],[44,0,44,1]]}
[null,"Central Coast Region"]
[null,"Stormwater Control Measure"]
[null,"Sizing Calculator",null,null,null,null,null,null,"Version: 7/2/2018"]
[]
[]
[null,"1. Project Information",null,null,null,null,null,null,null,null,null,null,null,null,"Ranges","Row"]
[null,"Project name: ",null,null,null,null,null,null,null,null,null,null,null,null,"DMA-UL",{"$f":"ROW(start_DMA)+1","v":21}]
[null,"Project location: ",null,null,null,null,null,null,null,null,null,null,null,null,"DMA-LR",{"$f":"ROW(end_DMA)-1","v":21}]
[null,"Tier 2/Tier 3: ",null,"Tier 3 - Retention",null,null,null,null,null,null,null,null,null,null,"SCM-UL",{"$f":"ROW(start_SCM)+1","v":32}]
[null,"Design rainfall depth (in): ",null,null,null,null,null,null,null,null,null,null,null,null,"SCM-LR",{"$f":"ROW(end_SCM)-1","v":32}]
[null,"Total project area (ft2): ",null,null,{"$f":"IF(D11=0,\"\",IF(ABS((D11-(D12+D17))/D11)<0.02,\"\",\"Check Total DMA and SCM areas to ensure they match total project area\"))","v":""},null,null,null,null,null,null,null,null,null,"OUT-UL",{"$f":"ROW(start_Output)+1","v":40}]
[null,"Total DMA area (ft2): ",null,{"$f":"SUM(D13:D16)","v":0},null,null,null,null,null,null,null,null,null,null,"OUT-LR",{"$f":"ROW(end_Output)-1","v":40}]
[null,"Total new impervious area (ft2): "]
[null,"Total replaced impervious within a USA (ft2): "]
[null,"Total replaced impervious not in a USA (ft2): "]
[null,"Total pervious/landscape area (ft2): "]
[null,"Total SCM area (ft2): "]
[]
[null,"2. DMA Characterization"]
["Name",null,"DMA Type","Area (ft2)","Surface Type","New, Replaced?","Connection",null,null,"CN","SCM CODE (DMA_CN_Weight)"]
[null,null,null,null,null,null,null,null,null,{"$f":"IF(E21=\"\",\"\",VLOOKUP(E21,'Lookups, Constants'!$A$14:$B$23,2,FALSE))","v":""},{"$f":"IF(J21=\"\",\"\",IF(J21=98,G21 & \"_\" & VLOOKUP(C21,'Lookups, Constants'!$A$4:$B$7,2,FALSE)&\"_\"&VLOOKUP(F21,'Lookups, Constants'!$A$44:$B$46,2,FALSE),G21 & \"_\" & J21))","v":""}]
["end_DMA"]
["DMA Summary Area Check"]
[null,"Total assigned DMA area (ft2): ",null,{"$f":"SUM(IF($C$21:C22=\"Drains to SCM\",IF(LEN($G$21:G22)>0,$D$21:D22,0),0))+SUM(IF($C$21:C22=\"Self-Treating\",$D$21:D22,0))+SUM(IF($C$21:C22=\"Self-Retaining\",$D$21:D22,0))+SUM(IF($C$21:C22=\"Drains to Self-Retaining\",IF(LEN($G$21:G22)>0,$D$21:D22,0),0))","v":0},{"$f":"IF(D12=0,IF(D12<>0,\"Check 'DMA to SCM connections' and DMA table areas against plan sheet areas\",\"\"),IF(ABS(D12-D24)/D12>0.02,\"Check 'DMA to SCM connections' DMA table areas against plan sheet areas\",\"\"))","v":""}]
[null,"New impervious area (ft2): ",null,{"$f":"SUM(IF($J$21:J22=98,IF($F$21:F22=\"New\",$D$21:D22,0),0))+SUM(IF($J$21:J22=98,IF($C$21:C22=\"Drains to Self-Retaining\",$D$21:D22,0),0))","v":0},{"$f":"IF(D25=0,IF(D13<>0,\"Check DMA table areas against plan sheet areas\",\"\"),IF(D13=0,\"Check DMA table areas against plan sheet areas\",IF(ABS(D13-D25)/D13>0.02,\"Check DMA table areas against plan sheet areas\",\"\")))","v":""}]
[null,"Replaced impervious within a USA (ft2): ",null,{"$f":"SUM(IF($J$21:J22=98,IF($F$21:F22=\"Replaced within a USA\",$D$21:D22,0),0))","v":0},{"$f":"IF(D26=0,IF(D14<>0,\"Check DMA table areas against plan sheet areas\",\"\"),IF(D14=0,\"Check DMA table areas against plan sheet areas\",IF(ABS(D14-D26)/D14>0.02,\"Check DMA table areas against plan sheet areas\",\"\")))","v":""}]
[null,"Replaced impervious not in a USA (ft2): ",null,{"$f":"SUM(IF($J$21:J22=98,IF($F$21:F22=\"Replaced\",$D$21:D22,0),0))","v":0},{"$f":"IF(D27=0,IF(D15<>0,\"Check DMA table areas against plan sheet areas\",\"\"),IF(D15=0,\"Check DMA table areas against plan sheet areas\",IF(ABS(D15-D27)/D15>0.02,\"Check DMA table areas against plan sheet areas\",\"\")))","v":""}]
[null,"Total pervious/landscape area (ft2): ",null,{"$f":"SUM(IF($C$21:C22=\"Drains to SCM\",IF($J$21:J22<98,$D$21:D22,0),0))+SUM(IF($C$21:C22=\"Self-Treating\",$D$21:D22,0))+SUM(IF($C$21:C22=\"Self-Retaining\",$D$21:D22,0))","v":0},{"$f":"IF(D28=0,IF(D16<>0,\"Check DMA table areas against plan sheet areas\",\"\"),IF(D16=0,\"Check DMA table areas against plan sheet areas\",IF(ABS(D16-D28)/D16>0.02,\"Check DMA table areas against plan sheet areas\",\"\")))","v":""}]
[null,null,null,null,null,null,null,null,null,null,"_2SCM_NEW","_2SCM_RUSA","_2SCM_RPL","_68","_89"]
[null,"3. SCM Characterization",null,null,null,null,null,"Flow Control","Reservoir",null,"New Imp Area","Rpl Imp USA","Rpl Imp non-USA","Landscape","Solid unit pavers","SUM"]
["Name",null,"SCM Type","Safety Factor","SCM Soil Type","Infilt. Rate (in/hr)","Area (ft2)","Orifice?","Depth (in)"]
[null,null,null,{"$f":"IF(C32=\"\",\"\",IF(C32=\"Bioretention\",1,2))","v":""},null,null,null,null,null,{"$f":"IF(A32=\"\",\"\",A32)","v":""},{"$f":"IF(J32=\"\",\"\",SUMIF($K$21:$K$22,$A32 & K$29,$D$21:$D$22))","v":""},{"$f":"IF(J32=\"\",\"\",SUMIF($K$21:$K$22,$A32 & L$29,$D$21:$D$22))","v":""},{"$f":"IF(J32=\"\",\"\",SUMIF($K$21:$K$22,$A32 & M$29,$D$21:$D$22))","v":""},{"$f":"IF(J32=\"\",\"\",SUMIF($K$21:$K$22,$A32 & N$29,$D$21:$D$22))","v":""},{"$f":"IF(J32=\"\",\"\",SUMIF($K$21:$K$22,$A32 & O$29,$D$21:$D$22))","v":""},{"$f":"SUM(K32:O32)","v":0}]
["end_SCM",null,{"$f":"IF(D17=0,\"\",IF(ABS(D17-SUM($G$32:G33))/D17>0.02,\"Note: SCM areas in 'Project Information' and 'SCM Characterization' blocks differ by more than 2%. Please check.\",\"\"))","v":""},null,null,null,null,null,null,null,{"$f":"IF(J33=\"\",\"\",SUMIF($K$21:$K$22,$A33 & K$29,$D$21:$D$22))","v":""},{"$f":"IF(J33=\"\",\"\",SUMIF($K$21:$K$22,$A33 & L$29,$D$21:$D$22))","v":""},{"$f":"IF(J33=\"\",\"\",SUMIF($K$21:$K$22,$A33 & M$29,$D$21:$D$22))","v":""},{"$f":"IF(J33=\"\",\"\",SUMIF($K$21:$K$22,$A33 & N$29,$D$21:$D$22))","v":""},{"$f":"IF(J33=\"\",\"\",SUMIF($K$21:$K$22,$A33 & O$29,$D$21:$D$22))","v":""}]
[null,"4. Run SBUH Model"]
[]
[]
[]
[null,"5. SCM Minimum Sizing Requirements"]
["SCM Name",null,"Min. Required Storage Vol. (ft3)","Depth Below Underdrain (ft)","Drain Time (hours)","Orifice Diameter (in)"]
[]
["end_Output"]
[]
[null,"6. Self-Retaining Area Sizing Checks"]
["Self-Retaining DMA Name",null,"Self-Retaining DMA Area (ft2)","Tributary DMA Name(s)","Eff. Tributary DMA Area (ft2)","Effective Tributary / SRA Area Ratio "]
[]
["end_SRA"]

{"sheet":"SBUH Model","index":1,"n_rows":1221,"n_cols":16,"rows_kept":1221,"cut":false,"hidden":false,"merged":[[18,4,18,5],[18,6,18,7],[18,8,18,9]]}
["scm 1"]
[]
["SBUH Parameters: ",null,null,null,null,null,null,null,null,"Runoff to SCM: ",null,null,"SCM Parameters: "]
[null,null,"Design rainfall depth (in) = ",{"$f":"'Project Information'!$D$10","v":0},null,null,null,null,null,"Total runoff (in) = ",{"$f":"D4*(SUM(D8:D10)*E17+D11*G17+D12*I17)/SUM(D8:D12)","v":{"$error":"#DIV/0!"}},null,null,"Plan area (ft2) = ",1000]
[null,null,"Model time step (min) = ",{"$f":"A22-A21","v":6},null,null,null,null,null,"Total runoff (ft3) = ",{"$f":"D4*(SUM(D8:D10)*E17+D11*G17+D12*I17)/12","v":{"$error":"#DIV/0!"}},null,null,"Sizing factor = ",{"$f":"O4/SUM(D8:D12)","v":0.1}]
[]
[null,null,"DMA Summary","Area (ft2)","CN","S","Weighting ","Imp. Weighting",null,null,null,null,null,"Design infiltration rate (in/hr) = ",0.25]
[null,null,"New impervious area: ",10000,98,{"$f":"(1000/E8)-10","v":0.20408163265306101},1,1,null,null,null,null,null,"Safety factor = ",1]
[null,null,"Replaced impervious in USA: ",0,98,{"$f":"(1000/E9)-10","v":0.20408163265306101},0,1,null,null,null,null,null,"SCM Exfiltration rate (cfs) = ",{"$f":"O4*(O7/12/3600)/O8","v":5.7870370370370367E-3}]
[null,null,"Replaced impervious not USA: ",0,98,{"$f":"(1000/E10)-10","v":0.20408163265306101},0.5,1,null,null,null,null,null,"Drainage time (hours) = ",{"$f":"(VLOOKUP(1440,A21:P1221,16)/O9)/3600","v":{"$error":"#DIV/0!"}}]
[null,null,"Landscape area: ",0,68,{"$f":"(1000/E11)-10","v":4.7058823529411757},1,{"$f":"G17/E17","v":{"$error":"#DIV/0!"}},null,null,null,null,null,"Minimum storage volume (ft3) = ",{"$f":"MAX(O4*1*'Lookups, Constants'!$F$3,MAX(P21:P1221)*IF(O10>48,1.2,1))","v":{"$error":"#DIV/0!"}}]
[null,null,"Solid unit pavers set in sand: ",0,89,{"$f":"(1000/E12)-10","v":1.2359550561797761},1,{"$f":"I17/E17","v":{"$error":"#DIV/0!"}},null,null,null,null,null,"Gravel volume (ft3) = ",{"$f":"O11/'Lookups, Constants'!$F$3","v":{"$error":"#DIV/0!"}}]
[null,null,"Non-runoff generating area: ",{"$f":"SUMIF('Project Information'!$J$21:J22,\"<69\",'Project Information'!$D$21:D22)","v":0},"N/A","N/A",0,0,null,null,null,null,null,"Gravel depth (ft) = ",{"$f":"MAX(1,O12/O4)","v":{"$error":"#DIV/0!"}}]
[null,null,"Weighted impervious (ft2) = ",{"$f":"SUMPRODUCT(D8:D13,H8:H13)","v":{"$error":"#DIV/0!"}}]
[null,null,"Travel path length (ft) = ",{"$f":"SQRT(2*SUM(D8,D11:D13))","v":141.42135623730951},null,null,null,null,null,null,null,null,null,null,"% inflow that "]
[null,null,"Time of concentration (min) = ",{"$f":"MAX(5,60*0.007*(0.011*D15)^0.8/D4^0.5/0.005^0.4)","v":{"$error":"#DIV/0!"}},"(rain/runoff)",null,"(rain/runoff)",null,"(rain/runoff)",null,null,null,"runoff %","direct rain vol","is exfiltrated","(max/total vol.)"]
[null,null,null,null,{"$f":"MAX(E21:E1221)/$D$4","v":{"$error":"#DIV/0!"}},null,{"$f":"MAX(G21:G1221)/$D$4","v":{"$error":"#DIV/0!"}},null,{"$f":"MAX(I21:I1221)/$D$4","v":{"$error":"#DIV/0!"}},null,null,null,{"$f":"SUM(M21:M741)/(($D$4/12)*SUM(D$8:D$12))","v":{"$error":"#DIV/0!"}},{"$f":"SUM(N21:N741)","v":0},{"$f":"-SUM(O21:O741)/SUM(M21:N741)","v":{"$error":"#DIV/0!"}},{"$f":"MAX(P21:P741)/SUM($M$21:$N$741)","v":{"$error":"#DIV/0!"}}]
["SBUH Runoff Calculations",null,null,null,null,null,null,null,null,null,null,null,"Bioretention Hydraulics"]
[null,null,null,null,"Impervious",null,"Landscape",null,"Solid unit pavers set in sand"]
["Time (minutes)","Distribution \n(Type I)","Rainfall Depth (in)","Cumulative Rainfall (in)","Cumulative Runoff Depth (in)","Instantaneous Runoff (in)","Cumulative Runoff Depth (in)","Instantaneous Runoff (in)","Cumulative Runoff Depth (in)","Instantaneous Runoff (in)","Instantaneous Runoff Rate (cfs)","Routed Flow Rate (cfs)","Stormwater Inflow (ft3)","Direct Rain (ft3)","Exfiltration Outflow (ft3)","Bioretention Water Volume (ft3)"]
[0,0,{"$f":"$D$4*'SBUH Model'!B21","v":0},{"$f":"C21","v":0},{"$f":"IF(D21<0.2*F$8,0,(D21-0.2*F$8)^2/(D21+0.8*F$8))","v":0},0,{"$f":"IF(D21<0.2*F$11,0,(D21-0.2*F$11)^2/(D21+0.8*F$11))","v":0},0,{"$f":"IF(D21<0.2*F$12,0,(D21-0.2*F$12)^2/(D21+0.8*F$12))","v":0},0,{"$f":"((F21/12)*SUMPRODUCT(D$8:D$10,G$8:G$10)+(H21/12)*D$11+(J21/12)*D$12)/($D$5*60)","v":0},0,{"$f":"L21*($D$5*60)","v":0},{"$f":"(C21/12)*O$4","v":0},0,0]
[{"$f":"A21+6","v":6},1.74E-3,{"$f":"$D$4*'SBUH Model'!B22","v":0},{"$f":"C22+D21","v":0},{"$f":"IF(D22<0.2*F$8,0,(D22-0.2*F$8)^2/(D22+0.8*F$8))","v":0},{"$f":"MAX(0,E22-E21)","v":0},{"$f":"IF(D22<0.2*F$11,0,(D22-0.2*F$11)^2/(D22+0.8*F$11))","v":0},{"$f":"MAX(0,G22-G21)","v":0},{"$f":"IF(D22<0.2*F$12,0,(D22-0.2*F$12)^2/(D22+0.8*F$12))","v":0},{"$f":"MAX(0,I22-I21)","v":0},{"$f":"((F22/12)*SUMPRODUCT(D$8:D$10,G$8:G$10)+(H22/12)*D$11+(J22/12)*D$12)/($D$5*60)","v":0},{"$f":"MAX(0,L21+(D$5/(2*D$16+D$5))*(K21+K22-2*L21))","v":{"$error":"#DIV/0!"}},{"$error":"#DIV/0!"},0,{"$f":"-MIN(O$9*D$5*60,SUM(M22,N22,P21))","v":{"$error":"#DIV/0!"}},{"$f":"P21+SUM(M22:O22)","v":{"$error":"#DIV/0!"}}]
[{"$f":"A22+6","v":12},1.7419999999999998E-3,{"$f":"$D$4*'SBUH Model'!B23","v":0},0,0,{"$f":"MAX(0,E23-E22)","v":0},0,0,0,0,{"$f":"((F23/12)*SUMPRODUCT(D$8:D$10,G$8:G$10)+(H23/12)*D$11+(J23/12)*D$12)/($D$5*60)","v":0},{"$f":"MAX(0,L22+(D$5/(2*D$16+D$5))*(K22+K23-2*L22))","v":{"$error":"#DIV/0!"}},{"$error":"#DIV/0!"},0,{"$error":"#DIV/0!"},{"$f":"P22+SUM(M23:O23)","v":{"$error":"#DIV/0!"}}]
[18,1.7420000000000005E-3,{"$f":"$D$4*'SBUH Model'!B24","v":0},0,0,0,0,0,0,0,0,{"$error":"#DIV/0!"},{"$error":"#DIV/0!"},0,{"$error":"#DIV/0!"},{"$error":"#DIV/0!"}]
[24,1.7439999999999999E-3,{"$f":"$D$4*'SBUH Model'!B25","v":0},0,0,0,0,0,0,0,0,{"$error":"#DIV/0!"},{"$error":"#DIV/0!"},0,{"$error":"#DIV/0!"},{"$error":"#DIV/0!"}]
[30,1.743999999999999E-3,{"$f":"$D$4*'SBUH Model'!B26","v":0},0,0,0,0,0,0,0,0,{"$error":"#DIV/0!"},{"$error":"#DIV/0!"},0,{"$error":"#DIV/0!"},{"$error":"#DIV/0!"}]
[36,1.746000000000001E-3,{"$f":"$D$4*'SBUH Model'!B27","v":0},0,0,0,0,0,0,0,0,{"$error":"#DIV/0!"},{"$error":"#DIV/0!"},0,{"$error":"#DIV/0!"},{"$error":"#DIV/0!"}]
[42,1.7459999999999993E-3,{"$f":"$D$4*'SBUH Model'!B28","v":0},0,0,0,0,0,0,0,0,{"$error":"#DIV/0!"},{"$error":"#DIV/0!"},0,{"$error":"#DIV/0!"},{"$error":"#DIV/0!"}]
[48,1.7480000000000013E-3,{"$f":"$D$4*'SBUH Model'!B29","v":0},0,0,0,0,0,0,0,0,{"$error":"#DIV/0!"},{"$error":"#DIV/0!"},0,{"$error":"#DIV/0!"},{"$error":"#DIV/0!"}]
[54,1.7479999999999978E-3,{"$f":"$D$4*'SBUH Model'!B30","v":0},0,0,0,0,0,0,0,0,{"$error":"#DIV/0!"},{"$error":"#DIV/0!"},0,{"$error":"#DIV/0!"},{"$error":"#DIV/0!"}]
[60,1.7500000000000016E-3,{"$f":"$D$4*'SBUH Model'!B31","v":0},0,0,0,0,0,0,0,0,{"$error":"#DIV/0!"},{"$error":"#DIV/0!"},0,{"$error":"#DIV/0!"},{"$error":"#DIV/0!"}]
[66,1.7499999999999981E-3,{"$f":"$D$4*'SBUH Model'!B32","v":0},0,0,0,0,0,0,0,0,{"$error":"#DIV/0!"},{"$error":"#DIV/0!"},0,{"$error":"#DIV/0!"},{"$error":"#DIV/0!"}]
[72,1.7520000000000001E-3,{"$f":"$D$4*'SBUH Model'!B33","v":0},0,0,0,0,0,0,0,0,{"$error":"#DIV/0!"},{"$error":"#DIV/0!"},0,{"$error":"#DIV/0!"},{"$error":"#DIV/0!"}]
[78,1.7520000000000001E-3,{"$f":"$D$4*'SBUH Model'!B34","v":0},0,0,0,0,0,0,0,0,{"$error":"#DIV/0!"},{"$error":"#DIV/0!"},0,{"$error":"#DIV/0!"},{"$error":"#DIV/0!"}]
[84,1.7540000000000021E-3,{"$f":"$D$4*'SBUH Model'!B35","v":0},0,0,0,0,0,0,0,0,{"$error":"#DIV/0!"},{"$error":"#DIV/0!"},0,{"$error":"#DIV/0!"},{"$error":"#DIV/0!"}]
[90,1.7539999999999986E-3,{"$f":"$D$4*'SBUH Model'!B36","v":0},0,0,0,0,0,0,0,0,{"$error":"#DIV/0!"},{"$error":"#DIV/0!"},0,{"$error":"#DIV/0!"},{"$error":"#DIV/0!"}]
[96,1.7560000000000006E-3,{"$f":"$D$4*'SBUH Model'!B37","v":0},0,0,0,0,0,0,0,0,{"$error":"#DIV/0!"},{"$error":"#DIV/0!"},0,{"$error":"#DIV/0!"},{"$error":"#DIV/0!"}]
[102,1.7560000000000006E-3,{"$f":"$D$4*'SBUH Model'!B38","v":0},0,0,0,0,0,0,0,0,{"$error":"#DIV/0!"},{"$error":"#DIV/0!"},0,{"$error":"#DIV/0!"},{"$error":"#DIV/0!"}]
[108,1.7580000000000026E-3,{"$f":"$D$4*'SBUH Model'!B39","v":0},0,0,0,0,0,0,0,0,{"$error":"#DIV/0!"},{"$error":"#DIV/0!"},0,{"$error":"#DIV/0!"},{"$error":"#DIV/0!"}]
[114,1.7579999999999957E-3,{"$f":"$D$4*'SBUH Model'!B40","v":0},0,0,0,0,0,0,0,0,{"$error":"#DIV/0!"},{"$error":"#DIV/0!"},0,{"$error":"#DIV/0!"},{"$error":"#DIV/0!"}]
[120,1.7600000000000046E-3,{"$f":"$D$4*'SBUH Model'!B41","v":0},0,0,0,0,0,0,0,0,{"$error":"#DIV/0!"},{"$error":"#DIV/0!"},0,{"$error":"#DIV/0!"},{"$error":"#DIV/0!"}]
[126,1.7749999999999988E-3,{"$f":"$D$4*'SBUH Model'!B42","v":0},0,0,0,0,0,0,0,0,{"$error":"#DIV/0!"},{"$error":"#DIV/0!"},0,{"$error":"#DIV/0!"},{"$error":"#DIV/0!"}]
[132,1.802999999999999E-3,{"$f":"$D$4*'SBUH Model'!B43","v":0},0,0,0,0,0,0,0,0,{"$error":"#DIV/0!"},{"$error":"#DIV/0!"},0,{"$error":"#DIV/0!"},{"$error":"#DIV/0!"}]
[138,1.8330000000000013E-3,{"$f":"$D$4*'SBUH Model'!B44","v":0},0,0,0,0,0,0,0,0,{"$error":"#DIV/0!"},{"$error":"#DIV/0!"},0,{"$error":"#DIV/0!"},{"$error":"#DIV/0!"}]
[144,1.8609999999999946E-3,{"$f":"$D$4*'SBUH Model'!B45","v":0},0,0,0,0,0,0,0,0,{"$error":"#DIV/0!"},{"$error":"#DIV/0!"},0,{"$error":"#DIV/0!"},{"$error":"#DIV/0!"}]
[150,1.8910000000000038E-3,{"$f":"$D$4*'SBUH Model'!B46","v":0},0,0,0,0,0,0,0,0,{"$error":"#DIV/0!"},{"$error":"#DIV/0!"},0,{"$error":"#DIV/0!"},{"$error":"#DIV/0!"}]
[156,1.9189999999999971E-3,{"$f":"$D$4*'SBUH Model'!B47","v":0},0,0,0,0,0,0,0,0,{"$error":"#DIV/0!"},{"$error":"#DIV/0!"},0,{"$error":"#DIV/0!"},{"$error":"#DIV/0!"}]
[162,1.9480000000000053E-3,{"$f":"$D$4*'SBUH Model'!B48","v":0},0,0,0,0,0,0,0,0,{"$error":"#DIV/0!"},{"$error":"#DIV/0!"},0,{"$error":"#DIV/0!"},{"$error":"#DIV/0!"}]
[168,1.9779999999999937E-3,{"$f":"$D$4*'SBUH Model'!B49","v":0},0,0,0,0,0,0,0,0,{"$error":"#DIV/0!"},{"$error":"#DIV/0!"},0,{"$error":"#DIV/0!"},{"$error":"#DIV/0!"}]
[174,2.0060000000000008E-3,{"$f":"$D$4*'SBUH Model'!B50","v":0},0,0,0,0,0,0,0,0,{"$error":"#DIV/0!"},{"$error":"#DIV/0!"},0,{"$error":"#DIV/0!"},{"$error":"#DIV/0!"}]
[180,2.0360000000000031E-3,{"$f":"$D$4*'SBUH Model'!B51","v":0},0,0,0,0,0,0,0,0,{"$error":"#DIV/0!"},{"$error":"#DIV/0!"},0,{"$error":"#DIV/0!"},{"$error":"#DIV/0!"}]
[186,2.0639999999999964E-3,{"$f":"$D$4*'SBUH Model'!B52","v":0},0,0,0,0,0,0,0,0,{"$error":"#DIV/0!"},{"$error":"#DIV/0!"},0,{"$error":"#DIV/0!"},{"$error":"#DIV/0!"}]
[192,2.0940000000000056E-3,{"$f":"$D$4*'SBUH Model'!B53","v":0},0,0,0,0,0,0,0,0,{"$error":"#DIV/0!"},{"$error":"#DIV/0!"},0,{"$error":"#DIV/0!"},{"$error":"#DIV/0!"}]
[198,2.1219999999999989E-3,{"$f":"$D$4*'SBUH Model'!B54","v":0},0,0,0,0,0,0,0,0,{"$error":"#DIV/0!"},{"$error":"#DIV/0!"},0,{"$error":"#DIV/0!"},{"$error":"#DIV/0!"}]
[204,2.1520000000000011E-3,{"$f":"$D$4*'SBUH Model'!B55","v":0},0,0,0,0,0,0,0,0,{"$error":"#DIV/0!"},{"$error":"#DIV/0!"},0,{"$error":"#DIV/0!"},{"$error":"#DIV/0!"}]
[210,2.1799999999999944E-3,{"$f":"$D$4*'SBUH Model'!B56","v":0},0,0,0,0,0,0,0,0,{"$error":"#DIV/0!"},{"$error":"#DIV/0!"},0,{"$error":"#DIV/0!"},{"$error":"#DIV/0!"}]
[216,2.2100000000000036E-3,{"$f":"$D$4*'SBUH Model'!B57","v":0},0,0,0,0,0,0,0,0,{"$error":"#DIV/0!"},{"$error":"#DIV/0!"},0,{"$error":"#DIV/0!"},{"$error":"#DIV/0!"}]
[222,2.2380000000000039E-3,{"$f":"$D$4*'SBUH Model'!B58","v":0},0,0,0,0,0,0,0,0,{"$error":"#DIV/0!"},{"$error":"#DIV/0!"},0,{"$error":"#DIV/0!"},{"$error":"#DIV/0!"}]
[228,2.2679999999999922E-3,{"$f":"$D$4*'SBUH Model'!B59","v":0},0,0,0,0,0,0,0,0,{"$error":"#DIV/0!"},{"$error":"#DIV/0!"},0,{"$error":"#DIV/0!"},{"$error":"#DIV/0!"}]
[234,2.2970000000000074E-3,{"$f":"$D$4*'SBUH Model'!B60","v":0},0,0,0,0,0,0,0,0,{"$error":"#DIV/0!"},{"$error":"#DIV/0!"},0,{"$error":"#DIV/0!"},{"$error":"#DIV/0!"}]
[240,2.3249999999999937E-3,{"$f":"$D$4*'SBUH Model'!B61","v":0},0,0,0,0,0,0,0,0,{"$error":"#DIV/0!"},{"$error":"#DIV/0!"},0,{"$error":"#DIV/0!"},{"$error":"#DIV/0!"}]
[246,2.3449999999999999E-3,{"$f":"$D$4*'SBUH Model'!B62","v":0},0,0,0,0,0,0,0,0,{"$error":"#DIV/0!"},{"$error":"#DIV/0!"},0,{"$error":"#DIV/0!"},{"$error":"#DIV/0!"}]
[252,2.356999999999998E-3,{"$f":"$D$4*'SBUH Model'!B63","v":0},0,0,0,0,0,0,0,0,{"$error":"#DIV/0!"},{"$error":"#DIV/0!"},0,{"$error":"#DIV/0!"},{"$error":"#DIV/0!"}]
[258,2.368000000000009E-3,{"$f":"$D$4*'SBUH Model'!B64","v":0},0,0,0,0,0,0,0,0,{"$error":"#DIV/0!"},{"$error":"#DIV/0!"},0,{"$error":"#DIV/0!"},{"$error":"#DIV/0!"}]
[264,2.3779999999999912E-3,{"$f":"$D$4*'SBUH Model'!B65","v":0},0,0,0,0,0,0,0,0,{"$error":"#DIV/0!"},{"$error":"#DIV/0!"},0,{"$error":"#DIV/0!"},{"$error":"#DIV/0!"}]
[270,2.3890000000000022E-3,{"$f":"$D$4*'SBUH Model'!B66","v":0},0,0,0,0,0,0,0,0,{"$error":"#DIV/0!"},{"$error":"#DIV/0!"},0,{"$error":"#DIV/0!"},{"$error":"#DIV/0!"}]
[276,2.4010000000000004E-3,{"$f":"$D$4*'SBUH Model'!B67","v":0},0,0,0,0,0,0,0,0,{"$error":"#DIV/0!"},{"$error":"#DIV/0!"},0,{"$error":"#DIV/0!"},{"$error":"#DIV/0!"}]
[282,2.4109999999999965E-3,{"$f":"$D$4*'SBUH Model'!B68","v":0},0,0,0,0,0,0,0,0,{"$error":"#DIV/0!"},{"$error":"#DIV/0!"},0,{"$error":"#DIV/0!"},{"$error":"#DIV/0!"}]
[288,2.4230000000000085E-3,{"$f":"$D$4*'SBUH Model'!B69","v":0},0,0,0,0,0,0,0,0,{"$error":"#DIV/0!"},{"$error":"#DIV/0!"},0,{"$error":"#DIV/0!"},{"$error":"#DIV/0!"}]
[294,2.4329999999999907E-3,{"$f":"$D$4*'SBUH Model'!B70","v":0},0,0,0,0,0,0,0,0,{"$error":"#DIV/0!"},{"$error":"#DIV/0!"},0,{"$error":"#DIV/0!"},{"$error":"#DIV/0!"}]
[300,2.4450000000000027E-3,{"$f":"$D$4*'SBUH Model'!B71","v":0},0,0,0,0,0,0,0,0,{"$error":"#DIV/0!"},{"$error":"#DIV/0!"},0,{"$error":"#DIV/0!"},{"$error":"#DIV/0!"}]
[306,2.4549999999999988E-3,{"$f":"$D$4*'SBUH Model'!B72","v":0},0,0,0,0,0,0,0,0,{"$error":"#DIV/0!"},{"$error":"#DIV/0!"},0,{"$error":"#DIV/0!"},{"$error":"#DIV/0!"}]
[312,2.4670000000000109E-3,{"$f":"$D$4*'SBUH Model'!B73","v":0},0,0,0,0,0,0,0,0,{"$error":"#DIV/0!"},{"$error":"#DIV/0!"},0,{"$error":"#DIV/0!"},{"$error":"#DIV/0!"}]
[318,2.4779999999999941E-3,{"$f":"$D$4*'SBUH Model'!B74","v":0},0,0,0,0,0,0,0,0,{"$error":"#DIV/0!"},{"$error":"#DIV/0!"},0,{"$error":"#DIV/0!"},{"$error":"#DIV/0!"}]
[324,2.4880000000000041E-3,{"$f":"$D$4*'SBUH Model'!B75","v":0},0,0,0,0,0,0,0,0,{"$error":"#DIV/0!"},{"$error":"#DIV/0!"},0,{"$error":"#DIV/0!"},{"$error":"#DIV/0!"}]
[330,2.4990000000000012E-3,{"$f":"$D$4*'SBUH Model'!B76","v":0},0,0,0,0,0,0,0,0,{"$error":"#DIV/0!"},{"$error":"#DIV/0!"},0,{"$error":"#DIV/0!"},{"$error":"#DIV/0!"}]
[336,2.5109999999999993E-3,{"$f":"$D$4*'SBUH Model'!B77","v":0},0,0,0,0,0,0,0,0,{"$error":"#DIV/0!"},{"$error":"#DIV/0!"},0,{"$error":"#DIV/0!"},{"$error":"#DIV/0!"}]
[342,2.5219999999999965E-3,{"$f":"$D$4*'SBUH Model'!B78","v":0},0,0,0,0,0,0,0,0,{"$error":"#DIV/0!"},{"$error":"#DIV/0!"},0,{"$error":"#DIV/0!"},{"$error":"#DIV/0!"}]
[348,2.5319999999999926E-3,{"$f":"$D$4*'SBUH Model'!B79","v":0},0,0,0,0,0,0,0,0,{"$error":"#DIV/0!"},{"$error":"#DIV/0!"},0,{"$error":"#DIV/0!"},{"$error":"#DIV/0!"}]
[354,2.5430000000000036E-3,{"$f":"$D$4*'SBUH Model'!B80","v":0},0,0,0,0,0,0,0,0,{"$error":"#DIV/0!"},{"$error":"#DIV/0!"},0,{"$error":"#DIV/0!"},{"$error":"#DIV/0!"}]
[360,2.5550000000000017E-3,{"$f":"$D$4*'SBUH Model'!B81","v":0},0,0,0,0,0,0,0,0,{"$error":"#DIV/0!"},{"$error":"#DIV/0!"},0,{"$error":"#DIV/0!"},{"$error":"#DIV/0!"}]
[366,2.6140000000000052E-3,{"$f":"$D$4*'SBUH Model'!B82","v":0},0,0,0,0,0,0,0,0,{"$error":"#DIV/0!"},{"$error":"#DIV/0!"},0,{"$error":"#DIV/0!"},{"$error":"#DIV/0!"}]
[372,2.7220000000000022E-3,{"$f":"$D$4*'SBUH Model'!B83","v":0},0,0,0,0,0,0,0,0,{"$error":"#DIV/0!"},{"$error":"#DIV/0!"},0,{"$error":"#DIV/0!"},{"$error":"#DIV/0!"}]
[378,2.8299999999999992E-3,{"$f":"$D$4*'SBUH Model'!B84","v":0},0,0,0,0,0,0,0,0,{"$error":"#DIV/0!"},{"$error":"#DIV/0!"},0,{"$error":"#DIV/0!"},{"$error":"#DIV/0!"}]
[384,2.9379999999999962E-3,{"$f":"$D$4*'SBUH Model'!B85","v":0},0,0,0,0,0,0,0,0,{"$error":"#DIV/0!"},{"$f":"L85*($D$5*60)","v":{"$error":"#DIV/0!"}},{"$f":"(C85/12)*O$4","v":0},{"$error":"#DIV/0!"},{"$error":"#DIV/0!"}]
[390,3.0459999999999932E-3,{"$f":"$D$4*'SBUH Model'!B86","v":0},{"$f":"C86+D85","v":0},{"$f":"IF(D86<0.2*F$8,0,(D86-0.2*F$8)^2/(D86+0.8*F$8))","v":0},0,{"$f":"IF(D86<0.2*F$11,0,(D86-0.2*F$11)^2/(D86+0.8*F$11))","v":0},0,{"$f":"IF(D86<0.2*F$12,0,(D86-0.2*F$12)^2/(D86+0.8*F$12))","v":0},0,{"$f":"((F86/12)*SUMPRODUCT(D$8:D$10,G$8:G$10)+(H86/12)*D$11+(J86/12)*D$12)/($D$5*60)","v":0},{"$error":"#DIV/0!"},{"$error":"#DIV/0!"},0,{"$f":"-MIN(O$9*D$5*60,SUM(M86,N86,P85))","v":{"$error":"#DIV/0!"}},{"$error":"#DIV/0!"}]
[{"$f":"A86+6","v":396},3.1540000000000179E-3,{"$f":"$D$4*'SBUH Model'!B87","v":0},0,0,{"$f":"MAX(0,E87-E86)","v":0},0,0,0,0,0,{"$f":"MAX(0,L86+(D$5/(2*D$16+D$5))*(K86+K87-2*L86))","v":{"$error":"#DIV/0!"}},{"$error":"#DIV/0!"},0,{"$error":"#DIV/0!"},{"$f":"P86+SUM(M87:O87)","v":{"$error":"#DIV/0!"}}]
[402,3.2619999999999871E-3,{"$f":"$D$4*'SBUH Model'!B88","v":0},0,0,0,0,0,0,0,0,{"$error":"#DIV/0!"},{"$error":"#DIV/0!"},0,{"$error":"#DIV/0!"},{"$error":"#DIV/0!"}]
[408,3.3700000000000119E-3,{"$f":"$D$4*'SBUH Model'!B89","v":0},0,0,0,0,0,0,0,0,{"$error":"#DIV/0!"},{"$error":"#DIV/0!"},0,{"$error":"#DIV/0!"},{"$error":"#DIV/0!"}]
[414,3.4779999999999811E-3,{"$f":"$D$4*'SBUH Model'!B90","v":0},0,0,0,0,0,0,0,0,{"$error":"#DIV/0!"},{"$error":"#DIV/0!"},0,{"$error":"#DIV/0!"},{"$error":"#DIV/0!"}]
[420,3.5860000000000058E-3,{"$f":"$D$4*'SBUH Model'!B91","v":0},0,0,0,0,0,0,0,0,{"$error":"#DIV/0!"},{"$error":"#DIV/0!"},0,{"$error":"#DIV/0!"},{"$error":"#DIV/0!"}]
[426,3.6559999999999926E-3,{"$f":"$D$4*'SBUH Model'!B92","v":0},0,0,0,0,0,0,0,0,{"$error":"#DIV/0!"},{"$error":"#DIV/0!"},0,{"$error":"#DIV/0!"},{"$error":"#DIV/0!"}]
[432,3.6879999999999968E-3,{"$f":"$D$4*'SBUH Model'!B93","v":0},0,0,0,0,0,0,0,0,{"$error":"#DIV/0!"},{"$error":"#DIV/0!"},0,{"$error":"#DIV/0!"},{"$error":"#DIV/0!"}]
[438,3.7200000000000011E-3,{"$f":"$D$4*'SBUH Model'!B94","v":0},0,0,0,0,0,0,0,0,{"$error":"#DIV/0!"},{"$error":"#DIV/0!"},0,{"$error":"#DIV/0!"},{"$error":"#DIV/0!"}]
[444,3.7520000000000053E-3,{"$f":"$D$4*'SBUH Model'!B95","v":0},0,0,0,0,0,0,0,0,{"$error":"#DIV/0!"},{"$error":"#DIV/0!"},0,{"$error":"#DIV/0!"},{"$error":"#DIV/0!"}]
[450,3.7840000000000096E-3,{"$f":"$D$4*'SBUH Model'!B96","v":0},0,0,0,0,0,0,0,0,{"$error":"#DIV/0!"},{"$error":"#DIV/0!"},0,{"$error":"#DIV/0!"},{"$error":"#DIV/0!"}]
[456,3.8159999999999861E-3,{"$f":"$D$4*'SBUH Model'!B97","v":0},0,0,0,0,0,0,0,0,{"$error":"#DIV/0!"},{"$error":"#DIV/0!"},0,{"$error":"#DIV/0!"},{"$error":"#DIV/0!"}]
[462,3.8480000000000181E-3,{"$f":"$D$4*'SBUH Model'!B98","v":0},0,0,0,0,0,0,0,0,{"$error":"#DIV/0!"},{"$error":"#DIV/0!"},0,{"$error":"#DIV/0!"},{"$error":"#DIV/0!"}]
[468,3.8799999999999946E-3,{"$f":"$D$4*'SBUH Model'!B99","v":0},0,0,0,0,0,0,0,0,{"$error":"#DIV/0!"},{"$error":"#DIV/0!"},0,{"$error":"#DIV/0!"},{"$error":"#DIV/0!"}]
[474,3.9119999999999988E-3,{"$f":"$D$4*'SBUH Model'!B100","v":0},0,0,0,0,0,0,0,0,{"$error":"#DIV/0!"},{"$error":"#DIV/0!"},0,{"$error":"#DIV/0!"},{"$error":"#DIV/0!"}]
[480,3.9440000000000031E-3,{"$f":"$D$4*'SBUH Model'!B101","v":0},0,0,0,0,0,0,0,0,{"$error":"#DIV/0!"},{"$error":"#DIV/0!"},0,{"$error":"#DIV/0!"},{"$error":"#DIV/0!"}]
[486,4.168000000000005E-3,{"$f":"$D$4*'SBUH Model'!B102","v":0},0,0,0,0,0,0,0,0,{"$error":"#DIV/0!"},{"$error":"#DIV/0!"},0,{"$error":"#DIV/0!"},{"$error":"#DIV/0!"}]
[492,4.583999999999977E-3,{"$f":"$D$4*'SBUH Model'!B103","v":0},0,0,0,0,0,0,0,0,{"$error":"#DIV/0!"},{"$error":"#DIV/0!"},0,{"$error":"#DIV/0!"},{"$error":"#DIV/0!"}]
[498,5.0000000000000044E-3,{"$f":"$D$4*'SBUH Model'!B104","v":0},0,0,0,0,0,0,0,0,{"$error":"#DIV/0!"},{"$error":"#DIV/0!"},0,{"$error":"#DIV/0!"},{"$error":"#DIV/0!"}]
[504,5.4160000000000041E-3,{"$f":"$D$4*'SBUH Model'!B105","v":0},0,0,0,0,0,0,0,0,{"$error":"#DIV/0!"},{"$error":"#DIV/0!"},0,{"$error":"#DIV/0!"},{"$error":"#DIV/0!"}]
[510,5.8320000000000038E-3,{"$f":"$D$4*'SBUH Model'!B106","v":0},0,0,0,0,0,0,0,0,{"$error":"#DIV/0!"},{"$error":"#DIV/0!"},0,{"$error":"#DIV/0!"},{"$error":"#DIV/0!"}]
[516,6.2319999999999875E-3,{"$f":"$D$4*'SBUH Model'!B107","v":0},0,0,0,0,0,0,0,0,{"$error":"#DIV/0!"},{"$error":"#DIV/0!"},0,{"$error":"#DIV/0!"},{"$error":"#DIV/0!"}]
[522,6.6160000000000108E-3,{"$f":"$D$4*'SBUH Model'!B108","v":0},0,0,0,0,0,0,0,0,{"$error":"#DIV/0!"},{"$error":"#DIV/0!"},0,{"$error":"#DIV/0!"},{"$error":"#DIV/0!"}]
[528,7.0000000000000062E-3,{"$f":"$D$4*'SBUH Model'!B109","v":0},0,0,0,0,0,0,0,0,{"$error":"#DIV/0!"},{"$error":"#DIV/0!"},0,{"$error":"#DIV/0!"},{"$error":"#DIV/0!"}]
[534,7.3840000000000017E-3,{"$f":"$D$4*'SBUH Model'!B110","v":0},0,0,0,0,0,0,0,0,{"$error":"#DIV/0!"},{"$error":"#DIV/0!"},0,{"$error":"#DIV/0!"},{"$error":"#DIV/0!"}]
[540,7.7679999999999971E-3,{"$f":"$D$4*'SBUH Model'!B111","v":0},0,0,0,0,0,0,0,0,{"$error":"#DIV/0!"},{"$error":"#DIV/0!"},0,{"$error":"#DIV/0!"},{"$error":"#DIV/0!"}]
[546,8.3280000000000021E-3,{"$f":"$D$4*'SBUH Model'!B112","v":0},0,0,0,0,0,0,0,0,{"$error":"#DIV/0!"},{"$error":"#DIV/0!"},0,{"$error":"#DIV/0!"},{"$error":"#DIV/0!"}]
[552,9.0640000000000165E-3,{"$f":"$D$4*'SBUH Model'!B113","v":0},0,0,0,0,0,0,0,0,{"$error":"#DIV/0!"},{"$error":"#DIV/0!"},0,{"$error":"#DIV/0!"},{"$error":"#DIV/0!"}]
[558,9.7999999999999754E-3,{"$f":"$D$4*'SBUH Model'!B114","v":0},0,0,0,0,0,0,0,0,{"$error":"#DIV/0!"},{"$error":"#DIV/0!"},0,{"$error":"#DIV/0!"},{"$error":"#DIV/0!"}]
[564,1.053599999999999E-2,{"$f":"$D$4*'SBUH Model'!B115","v":0},0,0,0,0,0,0,0,0,{"$error":"#DIV/0!"},{"$error":"#DIV/0!"},0,{"$error":"#DIV/0!"},{"$error":"#DIV/0!"}]
[570,1.1272000000000004E-2,{"$f":"$D$4*'SBUH Model'!B116","v":0},0,0,0,0,0,0,0,0,{"$error":"#DIV/0!"},{"$error":"#DIV/0!"},0,{"$error":"#DIV/0!"},{"$error":"#DIV/0!"}]
[576,1.6423999999999994E-2,{"$f":"$D$4*'SBUH Model'!B117","v":0},0,0,0,0,0,0,0,0,{"$error":"#DIV/0!"},{"$error":"#DIV/0!"},0,{"$error":"#DIV/0!"},{"$error":"#DIV/0!"}]
[582,2.5992000000000015E-2,{"$f":"$D$4*'SBUH Model'!B118","v":0},0,0,0,0,0,0,0,0,{"$error":"#DIV/0!"},{"$error":"#DIV/0!"},0,{"$error":"#DIV/0!"},{"$error":"#DIV/0!"}]
[588,4.2426999999999992E-2,{"$f":"$D$4*'SBUH Model'!B119","v":0},0,0,0,0,0,0,0,0,{"$error":"#DIV/0!"},{"$error":"#DIV/0!"},0,{"$error":"#DIV/0!"},{"$error":"#DIV/0!"}]
[594,7.5319000000000025E-2,{"$f":"$D$4*'SBUH Model'!B120","v":0},0,0,0,0,0,0,0,0,{"$error":"#DIV/0!"},{"$error":"#DIV/0!"},0,{"$error":"#DIV/0!"},{"$error":"#DIV/0!"}]
[600,5.1837999999999995E-2,{"$f":"$D$4*'SBUH Model'!B121","v":0},0,0,0,0,0,0,0,0,{"$error":"#DIV/0!"},{"$error":"#DIV/0!"},0,{"$error":"#DIV/0!"},{"$error":"#DIV/0!"}]
[606,1.7199999999999993E-2,{"$f":"$D$4*'SBUH Model'!B122","v":0},0,0,0,0,0,0,0,0,{"$error":"#DIV/0!"},{"$error":"#DIV/0!"},0,{"$error":"#DIV/0!"},{"$error":"#DIV/0!"}]
[612,1.5399999999999969E-2,{"$f":"$D$4*'SBUH Model'!B123","v":0},0,0,0,0,0,0,0,0,{"$error":"#DIV/0!"},{"$error":"#DIV/0!"},0,{"$error":"#DIV/0!"},{"$error":"#DIV/0!"}]
[618,1.3600000000000056E-2,{"$f":"$D$4*'SBUH Model'!B124","v":0},0,0,0,0,0,0,0,0,{"$error":"#DIV/0!"},{"$error":"#DIV/0!"},0,{"$error":"#DIV/0!"},{"$error":"#DIV/0!"}]
[624,1.1799999999999922E-2,{"$f":"$D$4*'SBUH Model'!B125","v":0},0,0,0,0,0,0,0,0,{"$error":"#DIV/0!"},{"$error":"#DIV/0!"},0,{"$error":"#DIV/0!"},{"$error":"#DIV/0!"}]
[630,1.0000000000000009E-2,{"$f":"$D$4*'SBUH Model'!B126","v":0},0,0,0,0,0,0,0,0,{"$error":"#DIV/0!"},{"$error":"#DIV/0!"},0,{"$error":"#DIV/0!"},{"$error":"#DIV/0!"}]
[636,8.879999999999999E-3,{"$f":"$D$4*'SBUH Model'!B127","v":0},0,0,0,0,0,0,0,0,{"$error":"#DIV/0!"},{"$error":"#DIV/0!"},0,{"$error":"#DIV/0!"},{"$error":"#DIV/0!"}]
[642,8.4400000000000031E-3,{"$f":"$D$4*'SBUH Model'!B128","v":0},0,0,0,0,0,0,0,0,{"$error":"#DIV/0!"},{"$error":"#DIV/0!"},0,{"$error":"#DIV/0!"},{"$error":"#DIV/0!"}]
[648,8.0000000000000071E-3,{"$f":"$D$4*'SBUH Model'!B129","v":0},0,0,0,0,0,0,0,0,{"$error":"#DIV/0!"},{"$error":"#DIV/0!"},0,{"$error":"#DIV/0!"},{"$error":"#DIV/0!"}]
[654,7.5600000000000112E-3,{"$f":"$D$4*'SBUH Model'!B130","v":0},0,0,0,0,0,0,0,0,{"$error":"#DIV/0!"},{"$error":"#DIV/0!"},0,{"$error":"#DIV/0!"},{"$error":"#DIV/0!"}]
[660,7.1200000000000152E-3,{"$f":"$D$4*'SBUH Model'!B131","v":0},0,0,0,0,0,0,0,0,{"$error":"#DIV/0!"},{"$error":"#DIV/0!"},0,{"$error":"#DIV/0!"},{"$error":"#DIV/0!"}]
[666,6.8200000000000482E-3,{"$f":"$D$4*'SBUH Model'!B132","v":0},0,0,0,0,0,0,0,0,{"$error":"#DIV/0!"},{"$error":"#DIV/0!"},0,{"$error":"#DIV/0!"},{"$error":"#DIV/0!"}]
[672,6.6599999999999993E-3,{"$f":"$D$4*'SBUH Model'!B133","v":0},0,0,0,0,0,0,0,0,{"$error":"#DIV/0!"},{"$error":"#DIV/0!"},0,{"$error":"#DIV/0!"},{"$error":"#DIV/0!"}]
[678,6.4999999999999503E-3,{"$f":"$D$4*'SBUH Model'!B134","v":0},0,0,0,0,0,0,0,0,{"$error":"#DIV/0!"},{"$error":"#DIV/0!"},0,{"$error":"#DIV/0!"},{"$error":"#DIV/0!"}]
[684,6.3400000000000123E-3,{"$f":"$D$4*'SBUH Model'!B135","v":0},0,0,0,0,0,0,0,0,{"$error":"#DIV/0!"},{"$error":"#DIV/0!"},0,{"$error":"#DIV/0!"},{"$error":"#DIV/0!"}]
[690,6.1799999999999633E-3,{"$f":"$D$4*'SBUH Model'!B136","v":0},0,0,0,0,0,0,0,0,{"$error":"#DIV/0!"},{"$error":"#DIV/0!"},0,{"$error":"#DIV/0!"},{"$error":"#DIV/0!"}]
[696,6.0200000000000253E-3,{"$f":"$D$4*'SBUH Model'!B137","v":0},0,0,0,0,0,0,0,0,{"$error":"#DIV/0!"},{"$error":"#DIV/0!"},0,{"$error":"#DIV/0!"},{"$error":"#DIV/0!"}]
[702,5.8599999999999763E-3,{"$f":"$D$4*'SBUH Model'!B138","v":0},0,0,0,0,0,0,0,0,{"$error":"#DIV/0!"},{"$error":"#DIV/0!"},0,{"$error":"#DIV/0!"},{"$error":"#DIV/0!"}]
[708,5.7000000000000384E-3,{"$f":"$D$4*'SBUH Model'!B139","v":0},0,0,0,0,0,0,0,0,{"$error":"#DIV/0!"},{"$error":"#DIV/0!"},0,{"$error":"#DIV/0!"},{"$error":"#DIV/0!"}]
[714,5.5399999999999894E-3,{"$f":"$D$4*'SBUH Model'!B140","v":0},0,0,0,0,0,0,0,0,{"$error":"#DIV/0!"},{"$error":"#DIV/0!"},0,{"$error":"#DIV/0!"},{"$error":"#DIV/0!"}]
[720,5.3800000000000514E-3,{"$f":"$D$4*'SBUH Model'!B141","v":0},0,0,0,0,0,0,0,0,{"$error":"#DIV/0!"},{"$error":"#DIV/0!"},0,{"$error":"#DIV/0!"},{"$error":"#DIV/0!"}]
[726,5.2499999999999769E-3,{"$f":"$D$4*'SBUH Model'!B142","v":0},0,0,0,0,0,0,0,0,{"$error":"#DIV/0!"},{"$error":"#DIV/0!"},0,{"$error":"#DIV/0!"},{"$error":"#DIV/0!"}]
[732,5.1499999999999879E-3,{"$f":"$D$4*'SBUH Model'!B143","v":0},0,0,0,0,0,0,0,0,{"$error":"#DIV/0!"},{"$error":"#DIV/0!"},0,{"$error":"#DIV/0!"},{"$error":"#DIV/0!"}]
[738,5.0499999999999989E-3,{"$f":"$D$4*'SBUH Model'!B144","v":0},0,0,0,0,0,0,0,0,{"$error":"#DIV/0!"},{"$error":"#DIV/0!"},0,{"$error":"#DIV/0!"},{"$error":"#DIV/0!"}]
[744,4.9500000000000099E-3,{"$f":"$D$4*'SBUH Model'!B145","v":0},0,0,0,0,0,0,0,0,{"$error":"#DIV/0!"},{"$error":"#DIV/0!"},0,{"$error":"#DIV/0!"},{"$error":"#DIV/0!"}]
[750,4.850000000000021E-3,{"$f":"$D$4*'SBUH Model'!B146","v":0},0,0,0,0,0,0,0,0,{"$error":"#DIV/0!"},{"$error":"#DIV/0!"},0,{"$error":"#DIV/0!"},{"$error":"#DIV/0!"}]
[756,4.749999999999921E-3,{"$f":"$D$4*'SBUH Model'!B147","v":0},0,0,0,0,0,0,0,0,{"$error":"#DIV/0!"},{"$error":"#DIV/0!"},0,{"$error":"#DIV/0!"},{"$error":"#DIV/0!"}]
[762,4.650000000000043E-3,{"$f":"$D$4*'SBUH Model'!B148","v":0},0,0,0,0,0,0,0,0,{"$error":"#DIV/0!"},{"$error":"#DIV/0!"},0,{"$error":"#DIV/0!"},{"$error":"#DIV/0!"}]
[768,4.549999999999943E-3,{"$f":"$D$4*'SBUH Model'!B149","v":0},0,0,0,0,0,0,0,0,{"$error":"#DIV/0!"},{"$f":"L149*($D$5*60)","v":{"$error":"#DIV/0!"}},{"$f":"(C149/12)*O$4","v":0},{"$error":"#DIV/0!"},{"$error":"#DIV/0!"}]
[774,4.450000000000065E-3,{"$f":"$D$4*'SBUH Model'!B150","v":0},{"$f":"C150+D149","v":0},{"$f":"IF(D150<0.2*F$8,0,(D150-0.2*F$8)^2/(D150+0.8*F$8))","v":0},0,{"$f":"IF(D150<0.2*F$11,0,(D150-0.2*F$11)^2/(D150+0.8*F$11))","v":0},0,{"$f":"IF(D150<0.2*F$12,0,(D150-0.2*F$12)^2/(D150+0.8*F$12))","v":0},0,{"$f":"((F150/12)*SUMPRODUCT(D$8:D$10,G$8:G$10)+(H150/12)*D$11+(J150/12)*D$12)/($D$5*60)","v":0},{"$error":"#DIV/0!"},{"$error":"#DIV/0!"},0,{"$f":"-MIN(O$9*D$5*60,SUM(M150,N150,P149))","v":{"$error":"#DIV/0!"}},{"$error":"#DIV/0!"}]
[{"$f":"A150+6","v":780},4.349999999999965E-3,{"$f":"$D$4*'SBUH Model'!B151","v":0},0,0,{"$f":"MAX(0,E151-E150)","v":0},0,0,0,0,0,{"$f":"MAX(0,L150+(D$5/(2*D$16+D$5))*(K150+K151-2*L150))","v":{"$error":"#DIV/0!"}},{"$error":"#DIV/0!"},0,{"$error":"#DIV/0!"},{"$f":"P150+SUM(M151:O151)","v":{"$error":"#DIV/0!"}}]
[786,4.249999999999976E-3,{"$f":"$D$4*'SBUH Model'!B152","v":0},0,0,0,0,0,0,0,0,{"$error":"#DIV/0!"},{"$error":"#DIV/0!"},0,{"$error":"#DIV/0!"},{"$error":"#DIV/0!"}]
[792,4.149999999999987E-3,{"$f":"$D$4*'SBUH Model'!B153","v":0},0,0,0,0,0,0,0,0,{"$error":"#DIV/0!"},{"$error":"#DIV/0!"},0,{"$error":"#DIV/0!"},{"$error":"#DIV/0!"}]
[798,4.049999999999998E-3,{"$f":"$D$4*'SBUH Model'!B154","v":0},0,0,0,0,0,0,0,0,{"$error":"#DIV/0!"},{"$error":"#DIV/0!"},0,{"$error":"#DIV/0!"},{"$error":"#DIV/0!"}]
[804,3.9500000000000091E-3,{"$f":"$D$4*'SBUH Model'!B155","v":0},0,0,0,0,0,0,0,0,{"$error":"#DIV/0!"},{"$error":"#DIV/0!"},0,{"$error":"#DIV/0!"},{"$error":"#DIV/0!"}]
[810,3.8500000000000201E-3,{"$f":"$D$4*'SBUH Model'!B156","v":0},0,0,0,0,0,0,0,0,{"$error":"#DIV/0!"},{"$error":"#DIV/0!"},0,{"$error":"#DIV/0!"},{"$error":"#DIV/0!"}]
[816,3.7500000000000311E-3,{"$f":"$D$4*'SBUH Model'!B157","v":0},0,0,0,0,0,0,0,0,{"$error":"#DIV/0!"},{"$error":"#DIV/0!"},0,{"$error":"#DIV/0!"},{"$error":"#DIV/0!"}]
[822,3.6500000000000421E-3,{"$f":"$D$4*'SBUH Model'!B158","v":0},0,0,0,0,0,0,0,0,{"$error":"#DIV/0!"},{"$error":"#DIV/0!"},0,{"$error":"#DIV/0!"},{"$error":"#DIV/0!"}]
[828,3.5499999999999421E-3,{"$f":"$D$4*'SBUH Model'!B159","v":0},0,0,0,0,0,0,0,0,{"$error":"#DIV/0!"},{"$error":"#DIV/0!"},0,{"$error":"#DIV/0!"},{"$error":"#DIV/0!"}]
[834,3.4500000000000641E-3,{"$f":"$D$4*'SBUH Model'!B160","v":0},0,0,0,0,0,0,0,0,{"$error":"#DIV/0!"},{"$error":"#DIV/0!"},0,{"$error":"#DIV/0!"},{"$error":"#DIV/0!"}]
[840,3.3499999999999641E-3,{"$f":"$D$4*'SBUH Model'!B161","v":0},0,0,0,0,0,0,0,0,{"$error":"#DIV/0!"},{"$error":"#DIV/0!"},0,{"$error":"#DIV/0!"},{"$error":"#DIV/0!"}]
[846,3.2900000000000151E-3,{"$f":"$D$4*'SBUH Model'!B162","v":0},0,0,0,0,0,0,0,0,{"$error":"#DIV/0!"},{"$error":"#DIV/0!"},0,{"$error":"#DIV/0!"},{"$error":"#DIV/0!"}]
[852,3.2699999999999951E-3,{"$f":"$D$4*'SBUH Model'!B163","v":0},0,0,0,0,0,0,0,0,{"$error":"#DIV/0!"},{"$error":"#DIV/0!"},0,{"$error":"#DIV/0!"},{"$error":"#DIV/0!"}]
[858,3.2499999999999751E-3,{"$f":"$D$4*'SBUH Model'!B164","v":0},0,0,0,0,0,0,0,0,{"$error":"#DIV/0!"},{"$error":"#DIV/0!"},0,{"$error":"#DIV/0!"},{"$error":"#DIV/0!"}]
[864,3.2299999999999551E-3,{"$f":"$D$4*'SBUH Model'!B165","v":0},0,0,0,0,0,0,0,0,{"$error":"#DIV/0!"},{"$error":"#DIV/0!"},0,{"$error":"#DIV/0!"},{"$error":"#DIV/0!"}]
[870,3.2100000000000461E-3,{"$f":"$D$4*'SBUH Model'!B166","v":0},0,0,0,0,0,0,0,0,{"$error":"#DIV/0!"},{"$error":"#DIV/0!"},0,{"$error":"#DIV/0!"},{"$error":"#DIV/0!"}]
[876,3.1900000000000261E-3,{"$f":"$D$4*'SBUH Model'!B167","v":0},0,0,0,0,0,0,0,0,{"$error":"#DIV/0!"},{"$error":"#DIV/0!"},0,{"$error":"#DIV/0!"},{"$error":"#DIV/0!"}]
[882,3.1700000000000061E-3,{"$f":"$D$4*'SBUH Model'!B168","v":0},0,0,0,0,0,0,0,0,{"$error":"#DIV/0!"},{"$error":"#DIV/0!"},0,{"$error":"#DIV/0!"},{"$error":"#DIV/0!"}]
[888,3.1499999999999861E-3,{"$f":"$D$4*'SBUH Model'!B169","v":0},0,0,0,0,0,0,0,0,{"$error":"#DIV/0!"},{"$error":"#DIV/0!"},0,{"$error":"#DIV/0!"},{"$error":"#DIV/0!"}]
[894,3.1299999999999661E-3,{"$f":"$D$4*'SBUH Model'!B170","v":0},0,0,0,0,0,0,0,0,{"$error":"#DIV/0!"},{"$error":"#DIV/0!"},0,{"$error":"#DIV/0!"},{"$error":"#DIV/0!"}]
[900,3.1100000000000572E-3,{"$f":"$D$4*'SBUH Model'!B171","v":0},0,0,0,0,0,0,0,0,{"$error":"#DIV/0!"},{"$error":"#DIV/0!"},0,{"$error":"#DIV/0!"},{"$error":"#DIV/0!"}]
[906,3.0899999999999261E-3,{"$f":"$D$4*'SBUH Model'!B172","v":0},0,0,0,0,0,0,0,0,{"$error":"#DIV/0!"},{"$error":"#DIV/0!"},0,{"$error":"#DIV/0!"},{"$error":"#DIV/0!"}]
[912,3.0700000000000172E-3,{"$f":"$D$4*'SBUH Model'!B173","v":0},0,0,0,0,0,0,0,0,{"$error":"#DIV/0!"},{"$error":"#DIV/0!"},0,{"$error":"#DIV/0!"},{"$error":"#DIV/0!"}]
[918,3.0499999999999972E-3,{"$f":"$D$4*'SBUH Model'!B174","v":0},0,0,0,0,0,0,0,0,{"$error":"#DIV/0!"},{"$error":"#DIV/0!"},0,{"$error":"#DIV/0!"},{"$error":"#DIV/0!"}]
[924,3.0299999999999772E-3,{"$f":"$D$4*'SBUH Model'!B175","v":0},0,0,0,0,0,0,0,0,{"$error":"#DIV/0!"},{"$error":"#DIV/0!"},0,{"$error":"#DIV/0!"},{"$error":"#DIV/0!"}]
[930,3.0100000000000682E-3,{"$f":"$D$4*'SBUH Model'!B176","v":0},0,0,0,0,0,0,0,0,{"$error":"#DIV/0!"},{"$error":"#DIV/0!"},0,{"$error":"#DIV/0!"},{"$error":"#DIV/0!"}]
[936,2.9899999999999372E-3,{"$f":"$D$4*'SBUH Model'!B177","v":0},0,0,0,0,0,0,0,0,{"$error":"#DIV/0!"},{"$error":"#DIV/0!"},0,{"$error":"#DIV/0!"},{"$error":"#DIV/0!"}]
[942,2.9700000000000282E-3,{"$f":"$D$4*'SBUH Model'!B178","v":0},0,0,0,0,0,0,0,0,{"$error":"#DIV/0!"},{"$error":"#DIV/0!"},0,{"$error":"#DIV/0!"},{"$error":"#DIV/0!"}]
[948,2.9500000000000082E-3,{"$f":"$D$4*'SBUH Model'!B179","v":0},0,0,0,0,0,0,0,0,{"$error":"#DIV/0!"},{"$error":"#DIV/0!"},0,{"$error":"#DIV/0!"},{"$error":"#DIV/0!"}]
[954,2.9299999999999882E-3,{"$f":"$D$4*'SBUH Model'!B180","v":0},0,0,0,0,0,0,0,0,{"$error":"#DIV/0!"},{"$error":"#DIV/0!"},0,{"$error":"#DIV/0!"},{"$error":"#DIV/0!"}]
[960,2.9099999999999682E-3,{"$f":"$D$4*'SBUH Model'!B181","v":0},0,0,0,0,0,0,0,0,{"$error":"#DIV/0!"},{"$error":"#DIV/0!"},0,{"$error":"#DIV/0!"},{"$error":"#DIV/0!"}]
[966,2.8900000000000592E-3,{"$f":"$D$4*'SBUH Model'!B182","v":0},0,0,0,0,0,0,0,0,{"$error":"#DIV/0!"},{"$error":"#DIV/0!"},0,{"$error":"#DIV/0!"},{"$error":"#DIV/0!"}]
[972,2.8699999999999282E-3,{"$f":"$D$4*'SBUH Model'!B183","v":0},0,0,0,0,0,0,0,0,{"$error":"#DIV/0!"},{"$error":"#DIV/0!"},0,{"$error":"#DIV/0!"},{"$error":"#DIV/0!"}]
[978,2.8500000000000192E-3,{"$f":"$D$4*'SBUH Model'!B184","v":0},0,0,0,0,0,0,0,0,{"$error":"#DIV/0!"},{"$error":"#DIV/0!"},0,{"$error":"#DIV/0!"},{"$error":"#DIV/0!"}]
[984,2.8299999999999992E-3,{"$f":"$D$4*'SBUH Model'!B185","v":0},0,0,0,0,0,0,0,0,{"$error":"#DIV/0!"},{"$error":"#DIV/0!"},0,{"$error":"#DIV/0!"},{"$error":"#DIV/0!"}]
[990,2.8099999999999792E-3,{"$f":"$D$4*'SBUH Model'!B186","v":0},0,0,0,0,0,0,0,0,{"$error":"#DIV/0!"},{"$error":"#DIV/0!"},0,{"$error":"#DIV/0!"},{"$error":"#DIV/0!"}]
[996,2.7900000000000702E-3,{"$f":"$D$4*'SBUH Model'!B187","v":0},0,0,0,0,0,0,0,0,{"$error":"#DIV/0!"},{"$error":"#DIV/0!"},0,{"$error":"#DIV/0!"},{"$error":"#DIV/0!"}]
[1002,2.7699999999999392E-3,{"$f":"$D$4*'SBUH Model'!B188","v":0},0,0,0,0,0,0,0,0,{"$error":"#DIV/0!"},{"$error":"#DIV/0!"},0,{"$error":"#DIV/0!"},{"$error":"#DIV/0!"}]
[1008,2.7500000000000302E-3,{"$f":"$D$4*'SBUH Model'!B189","v":0},0,0,0,0,0,0,0,0,{"$error":"#DIV/0!"},{"$error":"#DIV/0!"},0,{"$error":"#DIV/0!"},{"$error":"#DIV/0!"}]
[1014,2.7300000000000102E-3,{"$f":"$D$4*'SBUH Model'!B190","v":0},0,0,0,0,0,0,0,0,{"$error":"#DIV/0!"},{"$error":"#DIV/0!"},0,{"$error":"#DIV/0!"},{"$error":"#DIV/0!"}]
[1020,2.7099999999999902E-3,{"$f":"$D$4*'SBUH Model'!B191","v":0},0,0,0,0,0,0,0,0,{"$error":"#DIV/0!"},{"$error":"#DIV/0!"},0,{"$error":"#DIV/0!"},{"$error":"#DIV/0!"}]
[1026,2.6899999999999702E-3,{"$f":"$D$4*'SBUH Model'!B192","v":0},0,0,0,0,0,0,0,0,{"$error":"#DIV/0!"},{"$error":"#DIV/0!"},0,{"$error":"#DIV/0!"},{"$error":"#DIV/0!"}]
[1032,2.6700000000000612E-3,{"$f":"$D$4*'SBUH Model'!B193","v":0},0,0,0,0,0,0,0,0,{"$error":"#DIV/0!"},{"$error":"#DIV/0!"},0,{"$error":"#DIV/0!"},{"$error":"#DIV/0!"}]
[1038,2.6499999999999302E-3,{"$f":"$D$4*'SBUH Model'!B194","v":0},0,0,0,0,0,0,0,0,{"$error":"#DIV/0!"},{"$error":"#DIV/0!"},0,{"$error":"#DIV/0!"},{"$error":"#DIV/0!"}]
[1044,2.6300000000000212E-3,{"$f":"$D$4*'SBUH Model'!B195","v":0},0,0,0,0,0,0,0,0,{"$error":"#DIV/0!"},{"$error":"#DIV/0!"},0,{"$error":"#DIV/0!"},{"$error":"#DIV/0!"}]
[1050,2.6100000000000012E-3,{"$f":"$D$4*'SBUH Model'!B196","v":0},0,0,0,0,0,0,0,0,{"$error":"#DIV/0!"},{"$error":"#DIV/0!"},0,{"$error":"#DIV/0!"},{"$error":"#DIV/0!"}]
[1056,2.5899999999999812E-3,{"$f":"$D$4*'SBUH Model'!B197","v":0},0,0,0,0,0,0,0,0,{"$error":"#DIV/0!"},{"$error":"#DIV/0!"},0,{"$error":"#DIV/0!"},{"$error":"#DIV/0!"}]
[1062,2.5700000000000722E-3,{"$f":"$D$4*'SBUH Model'!B198","v":0},0,0,0,0,0,0,0,0,{"$error":"#DIV/0!"},{"$error":"#DIV/0!"},0,{"$error":"#DIV/0!"},{"$error":"#DIV/0!"}]
[1068,2.5499999999999412E-3,{"$f":"$D$4*'SBUH Model'!B199","v":0},0,0,0,0,0,0,0,0,{"$error":"#DIV/0!"},{"$error":"#DIV/0!"},0,{"$error":"#DIV/0!"},{"$error":"#DIV/0!"}]
[1074,2.5300000000000322E-3,{"$f":"$D$4*'SBUH Model'!B200","v":0},0,0,0,0,0,0,0,0,{"$error":"#DIV/0!"},{"$error":"#DIV/0!"},0,{"$error":"#DIV/0!"},{"$error":"#DIV/0!"}]
[1080,2.5100000000000122E-3,{"$f":"$D$4*'SBUH Model'!B201","v":0},0,0,0,0,0,0,0,0,{"$error":"#DIV/0!"},{"$error":"#DIV/0!"},0,{"$error":"#DIV/0!"},{"$error":"#DIV/0!"}]
[1086,2.4899999999999922E-3,{"$f":"$D$4*'SBUH Model'!B202","v":0},0,0,0,0,0,0,0,0,{"$error":"#DIV/0!"},{"$error":"#DIV/0!"},0,{"$error":"#DIV/0!"},{"$error":"#DIV/0!"}]
[1092,2.4699999999999722E-3,{"$f":"$D$4*'SBUH Model'!B203","v":0},0,0,0,0,0,0,0,0,{"$error":"#DIV/0!"},{"$error":"#DIV/0!"},0,{"$error":"#DIV/0!"},{"$error":"#DIV/0!"}]
[1098,2.4500000000000632E-3,{"$f":"$D$4*'SBUH Model'!B204","v":0},0,0,0,0,0,0,0,0,{"$error":"#DIV/0!"},{"$error":"#DIV/0!"},0,{"$error":"#DIV/0!"},{"$error":"#DIV/0!"}]
[1104,2.4299999999999322E-3,{"$f":"$D$4*'SBUH Model'!B205","v":0},0,0,0,0,0,0,0,0,{"$error":"#DIV/0!"},{"$error":"#DIV/0!"},0,{"$error":"#DIV/0!"},{"$error":"#DIV/0!"}]
[1110,2.4100000000000232E-3,{"$f":"$D$4*'SBUH Model'!B206","v":0},0,0,0,0,0,0,0,0,{"$error":"#DIV/0!"},{"$error":"#DIV/0!"},0,{"$error":"#DIV/0!"},{"$error":"#DIV/0!"}]
[1116,2.3900000000000032E-3,{"$f":"$D$4*'SBUH Model'!B207","v":0},0,0,0,0,0,0,0,0,{"$error":"#DIV/0!"},{"$error":"#DIV/0!"},0,{"$error":"#DIV/0!"},{"$error":"#DIV/0!"}]
[1122,2.3699999999999832E-3,{"$f":"$D$4*'SBUH Model'!B208","v":0},0,0,0,0,0,0,0,0,{"$error":"#DIV/0!"},{"$error":"#DIV/0!"},0,{"$error":"#DIV/0!"},{"$error":"#DIV/0!"}]
[1128,2.3500000000000743E-3,{"$f":"$D$4*'SBUH Model'!B209","v":0},0,0,0,0,0,0,0,0,{"$error":"#DIV/0!"},{"$error":"#DIV/0!"},0,{"$error":"#DIV/0!"},{"$error":"#DIV/0!"}]
[1134,2.3299999999999432E-3,{"$f":"$D$4*'SBUH Model'!B210","v":0},0,0,0,0,0,0,0,0,{"$error":"#DIV/0!"},{"$error":"#DIV/0!"},0,{"$error":"#DIV/0!"},{"$error":"#DIV/0!"}]
[1140,2.3100000000000342E-3,{"$f":"$D$4*'SBUH Model'!B211","v":0},0,0,0,0,0,0,0,0,{"$error":"#DIV/0!"},{"$error":"#DIV/0!"},0,{"$error":"#DIV/0!"},{"$error":"#DIV/0!"}]
[1146,2.2900000000000142E-3,{"$f":"$D$4*'SBUH Model'!B212","v":0},0,0,0,0,0,0,0,0,{"$error":"#DIV/0!"},{"$error":"#DIV/0!"},0,{"$error":"#DIV/0!"},{"$error":"#DIV/0!"}]
[1152,2.2699999999999942E-3,{"$f":"$D$4*'SBUH Model'!B213","v":0},0,0,0,0,0,0,0,0,{"$error":"#DIV/0!"},{"$f":"L213*($D$5*60)","v":{"$error":"#DIV/0!"}},{"$f":"(C213/12)*O$4","v":0},{"$error":"#DIV/0!"},{"$error":"#DIV/0!"}]
[1158,2.2499999999999742E-3,{"$f":"$D$4*'SBUH Model'!B214","v":0},{"$f":"C214+D213","v":0},{"$f":"IF(D214<0.2*F$8,0,(D214-0.2*F$8)^2/(D214+0.8*F$8))","v":0},0,{"$f":"IF(D214<0.2*F$11,0,(D214-0.2*F$11)^2/(D214+0.8*F$11))","v":0},0,{"$f":"IF(D214<0.2*F$12,0,(D214-0.2*F$12)^2/(D214+0.8*F$12))","v":0},0,{"$f":"((F214/12)*SUMPRODUCT(D$8:D$10,G$8:G$10)+(H214/12)*D$11+(J214/12)*D$12)/($D$5*60)","v":0},{"$error":"#DIV/0!"},{"$error":"#DIV/0!"},0,{"$f":"-MIN(O$9*D$5*60,SUM(M214,N214,P213))","v":{"$error":"#DIV/0!"}},{"$error":"#DIV/0!"}]
[{"$f":"A214+6","v":1164},2.2299999999999542E-3,{"$f":"$D$4*'SBUH Model'!B215","v":0},0,0,{"$f":"MAX(0,E215-E214)","v":0},0,0,0,0,0,{"$f":"MAX(0,L214+(D$5/(2*D$16+D$5))*(K214+K215-2*L214))","v":{"$error":"#DIV/0!"}},{"$error":"#DIV/0!"},0,{"$error":"#DIV/0!"},{"$f":"P214+SUM(M215:O215)","v":{"$error":"#DIV/0!"}}]
[1170,2.2100000000000453E-3,{"$f":"$D$4*'SBUH Model'!B216","v":0},0,0,0,0,0,0,0,0,{"$error":"#DIV/0!"},{"$error":"#DIV/0!"},0,{"$error":"#DIV/0!"},{"$error":"#DIV/0!"}]
[1176,2.1900000000000253E-3,{"$f":"$D$4*'SBUH Model'!B217","v":0},0,0,0,0,0,0,0,0,{"$error":"#DIV/0!"},{"$error":"#DIV/0!"},0,{"$error":"#DIV/0!"},{"$error":"#DIV/0!"}]
[1182,2.1700000000000053E-3,{"$f":"$D$4*'SBUH Model'!B218","v":0},0,0,0,0,0,0,0,0,{"$error":"#DIV/0!"},{"$error":"#DIV/0!"},0,{"$error":"#DIV/0!"},{"$error":"#DIV/0!"}]
[1188,2.1499999999999853E-3,{"$f":"$D$4*'SBUH Model'!B219","v":0},0,0,0,0,0,0,0,0,{"$error":"#DIV/0!"},{"$error":"#DIV/0!"},0,{"$error":"#DIV/0!"},{"$error":"#DIV/0!"}]
[1194,2.1299999999999653E-3,{"$f":"$D$4*'SBUH Model'!B220","v":0},0,0,0,0,0,0,0,0,{"$error":"#DIV/0!"},{"$error":"#DIV/0!"},0,{"$error":"#DIV/0!"},{"$error":"#DIV/0!"}]
[1200,2.1100000000000563E-3,{"$f":"$D$4*'SBUH Model'!B221","v":0},0,0,0,0,0,0,0,0,{"$error":"#DIV/0!"},{"$error":"#DIV/0!"},0,{"$error":"#DIV/0!"},{"$error":"#DIV/0!"}]
[1206,2.0899999999999253E-3,{"$f":"$D$4*'SBUH Model'!B222","v":0},0,0,0,0,0,0,0,0,{"$error":"#DIV/0!"},{"$error":"#DIV/0!"},0,{"$error":"#DIV/0!"},{"$error":"#DIV/0!"}]
[1212,2.0700000000000163E-3,{"$f":"$D$4*'SBUH Model'!B223","v":0},0,0,0,0,0,0,0,0,{"$error":"#DIV/0!"},{"$error":"#DIV/0!"},0,{"$error":"#DIV/0!"},{"$error":"#DIV/0!"}]
[1218,2.0499999999999963E-3,{"$f":"$D$4*'SBUH Model'!B224","v":0},0,0,0,0,0,0,0,0,{"$error":"#DIV/0!"},{"$error":"#DIV/0!"},0,{"$error":"#DIV/0!"},{"$error":"#DIV/0!"}]
[1224,2.0299999999999763E-3,{"$f":"$D$4*'SBUH Model'!B225","v":0},0,0,0,0,0,0,0,0,{"$error":"#DIV/0!"},{"$error":"#DIV/0!"},0,{"$error":"#DIV/0!"},{"$error":"#DIV/0!"}]
[1230,2.0100000000000673E-3,{"$f":"$D$4*'SBUH Model'!B226","v":0},0,0,0,0,0,0,0,0,{"$error":"#DIV/0!"},{"$error":"#DIV/0!"},0,{"$error":"#DIV/0!"},{"$error":"#DIV/0!"}]
[1236,1.9899999999999363E-3,{"$f":"$D$4*'SBUH Model'!B227","v":0},0,0,0,0,0,0,0,0,{"$error":"#DIV/0!"},{"$error":"#DIV/0!"},0,{"$error":"#DIV/0!"},{"$error":"#DIV/0!"}]
[1242,1.9700000000000273E-3,{"$f":"$D$4*'SBUH Model'!B228","v":0},0,0,0,0,0,0,0,0,{"$error":"#DIV/0!"},{"$error":"#DIV/0!"},0,{"$error":"#DIV/0!"},{"$error":"#DIV/0!"}]
[1248,1.9500000000000073E-3,{"$f":"$D$4*'SBUH Model'!B229","v":0},0,0,0,0,0,0,0,0,{"$error":"#DIV/0!"},{"$error":"#DIV/0!"},0,{"$error":"#DIV/0!"},{"$error":"#DIV/0!"}]
[1254,1.9299999999999873E-3,{"$f":"$D$4*'SBUH Model'!B230","v":0},0,0,0,0,0,0,0,0,{"$error":"#DIV/0!"},{"$error":"#DIV/0!"},0,{"$error":"#DIV/0!"},{"$error":"#DIV/0!"}]
[1260,1.9099999999999673E-3,{"$f":"$D$4*'SBUH Model'!B231","v":0},0,0,0,0,0,0,0,0,{"$error":"#DIV/0!"},{"$error":"#DIV/0!"},0,{"$error":"#DIV/0!"},{"$error":"#DIV/0!"}]
[1266,1.8900000000000583E-3,{"$f":"$D$4*'SBUH Model'!B232","v":0},0,0,0,0,0,0,0,0,{"$error":"#DIV/0!"},{"$error":"#DIV/0!"},0,{"$error":"#DIV/0!"},{"$error":"#DIV/0!"}]
[1272,1.8700000000000383E-3,{"$f":"$D$4*'SBUH Model'!B233","v":0},0,0,0,0,0,0,0,0,{"$error":"#DIV/0!"},{"$error":"#DIV/0!"},0,{"$error":"#DIV/0!"},{"$error":"#DIV/0!"}]
[1278,1.8499999999999073E-3,{"$f":"$D$4*'SBUH Model'!B234","v":0},0,0,0,0,0,0,0,0,{"$error":"#DIV/0!"},{"$error":"#DIV/0!"},0,{"$error":"#DIV/0!"},{"$error":"#DIV/0!"}]
[1284,1.8299999999999983E-3,{"$f":"$D$4*'SBUH Model'!B235","v":0},0,0,0,0,0,0,0,0,{"$error":"#DIV/0!"},{"$error":"#DIV/0!"},0,{"$error":"#DIV/0!"},{"$error":"#DIV/0!"}]
[1290,1.8100000000000893E-3,{"$f":"$D$4*'SBUH Model'!B236","v":0},0,0,0,0,0,0,0,0,{"$error":"#DIV/0!"},{"$error":"#DIV/0!"},0,{"$error":"#DIV/0!"},{"$error":"#DIV/0!"}]
[1296,1.7899999999999583E-3,{"$f":"$D$4*'SBUH Model'!B237","v":0},0,0,0,0,0,0,0,0,{"$error":"#DIV/0!"},{"$error":"#DIV/0!"},0,{"$error":"#DIV/0!"},{"$error":"#DIV/0!"}]
[1302,1.7699999999999383E-3,{"$f":"$D$4*'SBUH Model'!B238","v":0},0,0,0,0,0,0,0,0,{"$error":"#DIV/0!"},{"$error":"#DIV/0!"},0,{"$error":"#DIV/0!"},{"$error":"#DIV/0!"}]
[1308,1.7500000000000293E-3,{"$f":"$D$4*'SBUH Model'!B239","v":0},0,0,0,0,0,0,0,0,{"$error":"#DIV/0!"},{"$error":"#DIV/0!"},0,{"$error":"#DIV/0!"},{"$error":"#DIV/0!"}]
[1314,1.7300000000000093E-3,{"$f":"$D$4*'SBUH Model'!B240","v":0},0,0,0,0,0,0,0,0,{"$error":"#DIV/0!"},{"$error":"#DIV/0!"},0,{"$error":"#DIV/0!"},{"$error":"#DIV/0!"}]
[1320,1.7099999999999893E-3,{"$f":"$D$4*'SBUH Model'!B241","v":0},0,0,0,0,0,0,0,0,{"$error":"#DIV/0!"},{"$error":"#DIV/0!"},0,{"$error":"#DIV/0!"},{"$error":"#DIV/0!"}]
[1326,1.6900000000000803E-3,{"$f":"$D$4*'SBUH Model'!B242","v":0},0,0,0,0,0,0,0,0,{"$error":"#DIV/0!"},{"$error":"#DIV/0!"},0,{"$error":"#DIV/0!"},{"$error":"#DIV/0!"}]
[1332,1.6699999999999493E-3,{"$f":"$D$4*'SBUH Model'!B243","v":0},0,0,0,0,0,0,0,0,{"$error":"#DIV/0!"},{"$error":"#DIV/0!"},0,{"$error":"#DIV/0!"},{"$error":"#DIV/0!"}]
[1338,1.6500000000000403E-3,{"$f":"$D$4*'SBUH Model'!B244","v":0},0,0,0,0,0,0,0,0,{"$error":"#DIV/0!"},{"$error":"#DIV/0!"},0,{"$error":"#DIV/0!"},{"$error":"#DIV/0!"}]
[1344,1.6299999999999093E-3,{"$f":"$D$4*'SBUH Model'!B245","v":0},0,0,0,0,0,0,0,0,{"$error":"#DIV/0!"},{"$error":"#DIV/0!"},0,{"$error":"#DIV/0!"},{"$error":"#DIV/0!"}]
[1350,1.6100000000000003E-3,{"$f":"$D$4*'SBUH Model'!B246","v":0},0,0,0,0,0,0,0,0,{"$error":"#DIV/0!"},{"$error":"#DIV/0!"},0,{"$error":"#DIV/0!"},{"$error":"#DIV/0!"}]
[1356,1.5900000000000913E-3,{"$f":"$D$4*'SBUH Model'!B247","v":0},0,0,0,0,0,0,0,0,{"$error":"#DIV/0!"},{"$error":"#DIV/0!"},0,{"$error":"#DIV/0!"},{"$error":"#DIV/0!"}]
[1362,1.5699999999999603E-3,{"$f":"$D$4*'SBUH Model'!B248","v":0},0,0,0,0,0,0,0,0,{"$error":"#DIV/0!"},{"$error":"#DIV/0!"},0,{"$error":"#DIV/0!"},{"$error":"#DIV/0!"}]
[1368,1.5499999999999403E-3,{"$f":"$D$4*'SBUH Model'!B249","v":0},0,0,0,0,0,0,0,0,{"$error":"#DIV/0!"},{"$error":"#DIV/0!"},0,{"$error":"#DIV/0!"},{"$error":"#DIV/0!"}]
[1374,1.5300000000000313E-3,{"$f":"$D$4*'SBUH Model'!B250","v":0},0,0,0,0,0,0,0,0,{"$error":"#DIV/0!"},{"$error":"#DIV/0!"},0,{"$error":"#DIV/0!"},{"$error":"#DIV/0!"}]
[1380,1.5100000000000113E-3,{"$f":"$D$4*'SBUH Model'!B251","v":0},0,0,0,0,0,0,0,0,{"$error":"#DIV/0!"},{"$error":"#DIV/0!"},0,{"$error":"#DIV/0!"},{"$error":"#DIV/0!"}]
[1386,1.4899999999999913E-3,{"$f":"$D$4*'SBUH Model'!B252","v":0},0,0,0,0,0,0,0,0,{"$error":"#DIV/0!"},{"$error":"#DIV/0!"},0,{"$error":"#DIV/0!"},{"$error":"#DIV/0!"}]
[1392,1.4699999999999713E-3,{"$f":"$D$4*'SBUH Model'!B253","v":0},0,0,0,0,0,0,0,0,{"$error":"#DIV/0!"},{"$error":"#DIV/0!"},0,{"$error":"#DIV/0!"},{"$error":"#DIV/0!"}]
[1398,1.4500000000000624E-3,{"$f":"$D$4*'SBUH Model'!B254","v":0},0,0,0,0,0,0,0,0,{"$error":"#DIV/0!"},{"$error":"#DIV/0!"},0,{"$error":"#DIV/0!"},{"$error":"#DIV/0!"}]
[1404,1.4300000000000423E-3,{"$f":"$D$4*'SBUH Model'!B255","v":0},0,0,0,0,0,0,0,0,{"$error":"#DIV/0!"},{"$error":"#DIV/0!"},0,{"$error":"#DIV/0!"},{"$error":"#DIV/0!"}]
[1410,1.4099999999999113E-3,{"$f":"$D$4*'SBUH Model'!B256","v":0},0,0,0,0,0,0,0,0,{"$error":"#DIV/0!"},{"$error":"#DIV/0!"},0,{"$error":"#DIV/0!"},{"$error":"#DIV/0!"}]
[1416,1.3900000000000023E-3,{"$f":"$D$4*'SBUH Model'!B257","v":0},0,0,0,0,0,0,0,0,{"$error":"#DIV/0!"},{"$error":"#DIV/0!"},0,{"$error":"#DIV/0!"},{"$error":"#DIV/0!"}]
[1422,1.3699999999999823E-3,{"$f":"$D$4*'SBUH Model'!B258","v":0},0,0,0,0,0,0,0,0,{"$error":"#DIV/0!"},{"$error":"#DIV/0!"},0,{"$error":"#DIV/0!"},{"$error":"#DIV/0!"}]
[1428,1.3500000000000734E-3,{"$f":"$D$4*'SBUH Model'!B259","v":0},0,0,0,0,0,0,0,0,{"$error":"#DIV/0!"},{"$error":"#DIV/0!"},0,{"$error":"#DIV/0!"},{"$error":"#DIV/0!"}]
[1434,1.3299999999999423E-3,{"$f":"$D$4*'SBUH Model'!B260","v":0},0,0,0,0,0,0,0,0,{"$error":"#DIV/0!"},{"$error":"#DIV/0!"},0,{"$error":"#DIV/0!"},{"$error":"#DIV/0!"}]
[1440,1.3100000000000334E-3,{"$f":"$D$4*'SBUH Model'!B261","v":0},0,0,0,0,0,0,0,0,{"$error":"#DIV/0!"},{"$error":"#DIV/0!"},0,{"$error":"#DIV/0!"},{"$error":"#DIV/0!"}]
[1446,0,{"$f":"$D$4*'SBUH Model'!B262","v":0},0,0,0,0,0,0,0,0,{"$error":"#DIV/0!"},{"$error":"#DIV/0!"},0,{"$error":"#DIV/0!"},{"$error":"#DIV/0!"}]
[1452,0,{"$f":"$D$4*'SBUH Model'!B263","v":0},0,0,0,0,0,0,0,0,{"$error":"#DIV/0!"},{"$error":"#DIV/0!"},0,{"$error":"#DIV/0!"},{"$error":"#DIV/0!"}]
[1458,0,{"$f":"$D$4*'SBUH Model'!B264","v":0},0,0,0,0,0,0,0,0,{"$error":"#DIV/0!"},{"$error":"#DIV/0!"},0,{"$error":"#DIV/0!"},{"$error":"#DIV/0!"}]
[1464,0,{"$f":"$D$4*'SBUH Model'!B265","v":0},0,0,0,0,0,0,0,0,{"$error":"#DIV/0!"},{"$error":"#DIV/0!"},0,{"$error":"#DIV/0!"},{"$error":"#DIV/0!"}]
[1470,0,{"$f":"$D$4*'SBUH Model'!B266","v":0},0,0,0,0,0,0,0,0,{"$error":"#DIV/0!"},{"$error":"#DIV/0!"},0,{"$error":"#DIV/0!"},{"$error":"#DIV/0!"}]
[1476,0,{"$f":"$D$4*'SBUH Model'!B267","v":0},0,0,0,0,0,0,0,0,{"$error":"#DIV/0!"},{"$error":"#DIV/0!"},0,{"$error":"#DIV/0!"},{"$error":"#DIV/0!"}]
[1482,0,{"$f":"$D$4*'SBUH Model'!B268","v":0},0,0,0,0,0,0,0,0,{"$error":"#DIV/0!"},{"$error":"#DIV/0!"},0,{"$error":"#DIV/0!"},{"$error":"#DIV/0!"}]
[1488,0,{"$f":"$D$4*'SBUH Model'!B269","v":0},0,0,0,0,0,0,0,0,{"$error":"#DIV/0!"},{"$error":"#DIV/0!"},0,{"$error":"#DIV/0!"},{"$error":"#DIV/0!"}]
[1494,0,{"$f":"$D$4*'SBUH Model'!B270","v":0},0,0,0,0,0,0,0,0,{"$error":"#DIV/0!"},{"$error":"#DIV/0!"},0,{"$error":"#DIV/0!"},{"$error":"#DIV/0!"}]
[1500,0,{"$f":"$D$4*'SBUH Model'!B271","v":0},0,0,0,0,0,0,0,0,{"$error":"#DIV/0!"},{"$error":"#DIV/0!"},0,{"$error":"#DIV/0!"},{"$error":"#DIV/0!"}]
[1506,0,{"$f":"$D$4*'SBUH Model'!B272","v":0},0,0,0,0,0,0,0,0,{"$error":"#DIV/0!"},{"$error":"#DIV/0!"},0,{"$error":"#DIV/0!"},{"$error":"#DIV/0!"}]
[1512,0,{"$f":"$D$4*'SBUH Model'!B273","v":0},0,0,0,0,0,0,0,0,{"$error":"#DIV/0!"},{"$error":"#DIV/0!"},0,{"$error":"#DIV/0!"},{"$error":"#DIV/0!"}]
[1518,0,{"$f":"$D$4*'SBUH Model'!B274","v":0},0,0,0,0,0,0,0,0,{"$error":"#DIV/0!"},{"$error":"#DIV/0!"},0,{"$error":"#DIV/0!"},{"$error":"#DIV/0!"}]
[1524,0,{"$f":"$D$4*'SBUH Model'!B275","v":0},0,0,0,0,0,0,0,0,{"$error":"#DIV/0!"},{"$error":"#DIV/0!"},0,{"$error":"#DIV/0!"},{"$error":"#DIV/0!"}]
[1530,0,{"$f":"$D$4*'SBUH Model'!B276","v":0},0,0,0,0,0,0,0,0,{"$error":"#DIV/0!"},{"$error":"#DIV/0!"},0,{"$error":"#DIV/0!"},{"$error":"#DIV/0!"}]
[1536,0,{"$f":"$D$4*'SBUH Model'!B277","v":0},0,0,0,0,0,0,0,0,{"$error":"#DIV/0!"},{"$f":"L277*($D$5*60)","v":{"$error":"#DIV/0!"}},{"$f":"(C277/12)*O$4","v":0},{"$error":"#DIV/0!"},{"$error":"#DIV/0!"}]
[1542,0,{"$f":"$D$4*'SBUH Model'!B278","v":0},{"$f":"C278+D277","v":0},{"$f":"IF(D278<0.2*F$8,0,(D278-0.2*F$8)^2/(D278+0.8*F$8))","v":0},0,{"$f":"IF(D278<0.2*F$11,0,(D278-0.2*F$11)^2/(D278+0.8*F$11))","v":0},0,{"$f":"IF(D278<0.2*F$12,0,(D278-0.2*F$12)^2/(D278+0.8*F$12))","v":0},0,{"$f":"((F278/12)*SUMPRODUCT(D$8:D$10,G$8:G$10)+(H278/12)*D$11+(J278/12)*D$12)/($D$5*60)","v":0},{"$error":"#DIV/0!"},{"$error":"#DIV/0!"},0,{"$f":"-MIN(O$9*D$5*60,SUM(M278,N278,P277))","v":{"$error":"#DIV/0!"}},{"$error":"#DIV/0!"}]
[{"$f":"A278+6","v":1548},0,{"$f":"$D$4*'SBUH Model'!B279","v":0},0,0,{"$f":"MAX(0,E279-E278)","v":0},0,0,0,0,0,{"$f":"MAX(0,L278+(D$5/(2*D$16+D$5))*(K278+K279-2*L278))","v":{"$error":"#DIV/0!"}},{"$error":"#DIV/0!"},0,{"$error":"#DIV/0!"},{"$f":"P278+SUM(M279:O279)","v":{"$error":"#DIV/0!"}}]
[1554,0,{"$f":"$D$4*'SBUH Model'!B280","v":0},0,0,0,0,0,0,0,0,{"$error":"#DIV/0!"},{"$error":"#DIV/0!"},0,{"$error":"#DIV/0!"},{"$error":"#DIV/0!"}]
[1560,0,{"$f":"$D$4*'SBUH Model'!B281","v":0},0,0,0,0,0,0,0,0,{"$error":"#DIV/0!"},{"$error":"#DIV/0!"},0,{"$error":"#DIV/0!"},{"$error":"#DIV/0!"}]
[1566,0,{"$f":"$D$4*'SBUH Model'!B282","v":0},0,0,0,0,0,0,0,0,{"$error":"#DIV/0!"},{"$error":"#DIV/0!"},0,{"$error":"#DIV/0!"},{"$error":"#DIV/0!"}]
[1572,0,{"$f":"$D$4*'SBUH Model'!B283","v":0},0,0,0,0,0,0,0,0,{"$error":"#DIV/0!"},{"$error":"#DIV/0!"},0,{"$error":"#DIV/0!"},{"$error":"#DIV/0!"}]
[1578,0,{"$f":"$D$4*'SBUH Model'!B284","v":0},0,0,0,0,0,0,0,0,{"$error":"#DIV/0!"},{"$error":"#DIV/0!"},0,{"$error":"#DIV/0!"},{"$error":"#DIV/0!"}]
[1584,0,{"$f":"$D$4*'SBUH Model'!B285","v":0},0,0,0,0,0,0,0,0,{"$error":"#DIV/0!"},{"$error":"#DIV/0!"},0,{"$error":"#DIV/0!"},{"$error":"#DIV/0!"}]
[1590,0,{"$f":"$D$4*'SBUH Model'!B286","v":0},0,0,0,0,0,0,0,0,{"$error":"#DIV/0!"},{"$error":"#DIV/0!"},0,{"$error":"#DIV/0!"},{"$error":"#DIV/0!"}]
[1596,0,{"$f":"$D$4*'SBUH Model'!B287","v":0},0,0,0,0,0,0,0,0,{"$error":"#DIV/0!"},{"$error":"#DIV/0!"},0,{"$error":"#DIV/0!"},{"$error":"#DIV/0!"}]
[1602,0,{"$f":"$D$4*'SBUH Model'!B288","v":0},0,0,0,0,0,0,0,0,{"$error":"#DIV/0!"},{"$error":"#DIV/0!"},0,{"$error":"#DIV/0!"},{"$error":"#DIV/0!"}]
[1608,0,{"$f":"$D$4*'SBUH Model'!B289","v":0},0,0,0,0,0,0,0,0,{"$error":"#DIV/0!"},{"$error":"#DIV/0!"},0,{"$error":"#DIV/0!"},{"$error":"#DIV/0!"}]
[1614,0,{"$f":"$D$4*'SBUH Model'!B290","v":0},0,0,0,0,0,0,0,0,{"$error":"#DIV/0!"},{"$error":"#DIV/0!"},0,{"$error":"#DIV/0!"},{"$error":"#DIV/0!"}]
[1620,0,{"$f":"$D$4*'SBUH Model'!B291","v":0},0,0,0,0,0,0,0,0,{"$error":"#DIV/0!"},{"$error":"#DIV/0!"},0,{"$error":"#DIV/0!"},{"$error":"#DIV/0!"}]
[1626,0,{"$f":"$D$4*'SBUH Model'!B292","v":0},0,0,0,0,0,0,0,0,{"$error":"#DIV/0!"},{"$error":"#DIV/0!"},0,{"$error":"#DIV/0!"},{"$error":"#DIV/0!"}]
[1632,0,{"$f":"$D$4*'SBUH Model'!B293","v":0},0,0,0,0,0,0,0,0,{"$error":"#DIV/0!"},{"$error":"#DIV/0!"},0,{"$error":"#DIV/0!"},{"$error":"#DIV/0!"}]
[1638,0,{"$f":"$D$4*'SBUH Model'!B294","v":0},0,0,0,0,0,0,0,0,{"$error":"#DIV/0!"},{"$error":"#DIV/0!"},0,{"$error":"#DIV/0!"},{"$error":"#DIV/0!"}]
[1644,0,{"$f":"$D$4*'SBUH Model'!B295","v":0},0,0,0,0,0,0,0,0,{"$error":"#DIV/0!"},{"$error":"#DIV/0!"},0,{"$error":"#DIV/0!"},{"$error":"#DIV/0!"}]
[1650,0,{"$f":"$D$4*'SBUH Model'!B296","v":0},0,0,0,0,0,0,0,0,{"$error":"#DIV/0!"},{"$error":"#DIV/0!"},0,{"$error":"#DIV/0!"},{"$error":"#DIV/0!"}]
[1656,0,{"$f":"$D$4*'SBUH Model'!B297","v":0},0,0,0,0,0,0,0,0,{"$error":"#DIV/0!"},{"$error":"#DIV/0!"},0,{"$error":"#DIV/0!"},{"$error":"#DIV/0!"}]
[1662,0,{"$f":"$D$4*'SBUH Model'!B298","v":0},0,0,0,0,0,0,0,0,{"$error":"#DIV/0!"},{"$error":"#DIV/0!"},0,{"$error":"#DIV/0!"},{"$error":"#DIV/0!"}]
[1668,0,{"$f":"$D$4*'SBUH Model'!B299","v":0},0,0,0,0,0,0,0,0,{"$error":"#DIV/0!"},{"$error":"#DIV/0!"},0,{"$error":"#DIV/0!"},{"$error":"#DIV/0!"}]
[1674,0,{"$f":"$D$4*'SBUH Model'!B300","v":0},0,0,0,0,0,0,0,0,{"$error":"#DIV/0!"},{"$error":"#DIV/0!"},0,{"$error":"#DIV/0!"},{"$error":"#DIV/0!"}]
[1680,0,{"$f":"$D$4*'SBUH Model'!B301","v":0},0,0,0,0,0,0,0,0,{"$error":"#DIV/0!"},{"$error":"#DIV/0!"},0,{"$error":"#DIV/0!"},{"$error":"#DIV/0!"}]
[1686,0,{"$f":"$D$4*'SBUH Model'!B302","v":0},0,0,0,0,0,0,0,0,{"$error":"#DIV/0!"},{"$error":"#DIV/0!"},0,{"$error":"#DIV/0!"},{"$error":"#DIV/0!"}]
[1692,0,{"$f":"$D$4*'SBUH Model'!B303","v":0},0,0,0,0,0,0,0,0,{"$error":"#DIV/0!"},{"$error":"#DIV/0!"},0,{"$error":"#DIV/0!"},{"$error":"#DIV/0!"}]
[1698,0,{"$f":"$D$4*'SBUH Model'!B304","v":0},0,0,0,0,0,0,0,0,{"$error":"#DIV/0!"},{"$error":"#DIV/0!"},0,{"$error":"#DIV/0!"},{"$error":"#DIV/0!"}]
[1704,0,{"$f":"$D$4*'SBUH Model'!B305","v":0},0,0,0,0,0,0,0,0,{"$error":"#DIV/0!"},{"$error":"#DIV/0!"},0,{"$error":"#DIV/0!"},{"$error":"#DIV/0!"}]
[1710,0,{"$f":"$D$4*'SBUH Model'!B306","v":0},0,0,0,0,0,0,0,0,{"$error":"#DIV/0!"},{"$error":"#DIV/0!"},0,{"$error":"#DIV/0!"},{"$error":"#DIV/0!"}]
[1716,0,{"$f":"$D$4*'SBUH Model'!B307","v":0},0,0,0,0,0,0,0,0,{"$error":"#DIV/0!"},{"$error":"#DIV/0!"},0,{"$error":"#DIV/0!"},{"$error":"#DIV/0!"}]
[1722,0,{"$f":"$D$4*'SBUH Model'!B308","v":0},0,0,0,0,0,0,0,0,{"$error":"#DIV/0!"},{"$error":"#DIV/0!"},0,{"$error":"#DIV/0!"},{"$error":"#DIV/0!"}]
[1728,0,{"$f":"$D$4*'SBUH Model'!B309","v":0},0,0,0,0,0,0,0,0,{"$error":"#DIV/0!"},{"$error":"#DIV/0!"},0,{"$error":"#DIV/0!"},{"$error":"#DIV/0!"}]
[1734,0,{"$f":"$D$4*'SBUH Model'!B310","v":0},0,0,0,0,0,0,0,0,{"$error":"#DIV/0!"},{"$error":"#DIV/0!"},0,{"$error":"#DIV/0!"},{"$error":"#DIV/0!"}]
[1740,0,{"$f":"$D$4*'SBUH Model'!B311","v":0},0,0,0,0,0,0,0,0,{"$error":"#DIV/0!"},{"$error":"#DIV/0!"},0,{"$error":"#DIV/0!"},{"$error":"#DIV/0!"}]
[1746,0,{"$f":"$D$4*'SBUH Model'!B312","v":0},0,0,0,0,0,0,0,0,{"$error":"#DIV/0!"},{"$error":"#DIV/0!"},0,{"$error":"#DIV/0!"},{"$error":"#DIV/0!"}]
[1752,0,{"$f":"$D$4*'SBUH Model'!B313","v":0},0,0,0,0,0,0,0,0,{"$error":"#DIV/0!"},{"$error":"#DIV/0!"},0,{"$error":"#DIV/0!"},{"$error":"#DIV/0!"}]
[1758,0,{"$f":"$D$4*'SBUH Model'!B314","v":0},0,0,0,0,0,0,0,0,{"$error":"#DIV/0!"},{"$error":"#DIV/0!"},0,{"$error":"#DIV/0!"},{"$error":"#DIV/0!"}]
[1764,0,{"$f":"$D$4*'SBUH Model'!B315","v":0},0,0,0,0,0,0,0,0,{"$error":"#DIV/0!"},{"$error":"#DIV/0!"},0,{"$error":"#DIV/0!"},{"$error":"#DIV/0!"}]
[1770,0,{"$f":"$D$4*'SBUH Model'!B316","v":0},0,0,0,0,0,0,0,0,{"$error":"#DIV/0!"},{"$error":"#DIV/0!"},0,{"$error":"#DIV/0!"},{"$error":"#DIV/0!"}]
[1776,0,{"$f":"$D$4*'SBUH Model'!B317","v":0},0,0,0,0,0,0,0,0,{"$error":"#DIV/0!"},{"$error":"#DIV/0!"},0,{"$error":"#DIV/0!"},{"$error":"#DIV/0!"}]
[1782,0,{"$f":"$D$4*'SBUH Model'!B318","v":0},0,0,0,0,0,0,0,0,{"$error":"#DIV/0!"},{"$error":"#DIV/0!"},0,{"$error":"#DIV/0!"},{"$error":"#DIV/0!"}]
[1788,0,{"$f":"$D$4*'SBUH Model'!B319","v":0},0,0,0,0,0,0,0,0,{"$error":"#DIV/0!"},{"$error":"#DIV/0!"},0,{"$error":"#DIV/0!"},{"$error":"#DIV/0!"}]
[1794,0,{"$f":"$D$4*'SBUH Model'!B320","v":0},0,0,0,0,0,0,0,0,{"$error":"#DIV/0!"},{"$error":"#DIV/0!"},0,{"$error":"#DIV/0!"},{"$error":"#DIV/0!"}]
[1800,0,{"$f":"$D$4*'SBUH Model'!B321","v":0},0,0,0,0,0,0,0,0,{"$error":"#DIV/0!"},{"$error":"#DIV/0!"},0,{"$error":"#DIV/0!"},{"$error":"#DIV/0!"}]
[1806,0,{"$f":"$D$4*'SBUH Model'!B322","v":0},0,0,0,0,0,0,0,0,{"$error":"#DIV/0!"},{"$error":"#DIV/0!"},0,{"$error":"#DIV/0!"},{"$error":"#DIV/0!"}]
[1812,0,{"$f":"$D$4*'SBUH Model'!B323","v":0},0,0,0,0,0,0,0,0,{"$error":"#DIV/0!"},{"$error":"#DIV/0!"},0,{"$error":"#DIV/0!"},{"$error":"#DIV/0!"}]
[1818,0,{"$f":"$D$4*'SBUH Model'!B324","v":0},0,0,0,0,0,0,0,0,{"$error":"#DIV/0!"},{"$error":"#DIV/0!"},0,{"$error":"#DIV/0!"},{"$error":"#DIV/0!"}]
[1824,0,{"$f":"$D$4*'SBUH Model'!B325","v":0},0,0,0,0,0,0,0,0,{"$error":"#DIV/0!"},{"$error":"#DIV/0!"},0,{"$error":"#DIV/0!"},{"$error":"#DIV/0!"}]
[1830,0,{"$f":"$D$4*'SBUH Model'!B326","v":0},0,0,0,0,0,0,0,0,{"$error":"#DIV/0!"},{"$error":"#DIV/0!"},0,{"$error":"#DIV/0!"},{"$error":"#DIV/0!"}]
[1836,0,{"$f":"$D$4*'SBUH Model'!B327","v":0},0,0,0,0,0,0,0,0,{"$error":"#DIV/0!"},{"$error":"#DIV/0!"},0,{"$error":"#DIV/0!"},{"$error":"#DIV/0!"}]
[1842,0,{"$f":"$D$4*'SBUH Model'!B328","v":0},0,0,0,0,0,0,0,0,{"$error":"#DIV/0!"},{"$error":"#DIV/0!"},0,{"$error":"#DIV/0!"},{"$error":"#DIV/0!"}]
[1848,0,{"$f":"$D$4*'SBUH Model'!B329","v":0},0,0,0,0,0,0,0,0,{"$error":"#DIV/0!"},{"$error":"#DIV/0!"},0,{"$error":"#DIV/0!"},{"$error":"#DIV/0!"}]
[1854,0,{"$f":"$D$4*'SBUH Model'!B330","v":0},0,0,0,0,0,0,0,0,{"$error":"#DIV/0!"},{"$error":"#DIV/0!"},0,{"$error":"#DIV/0!"},{"$error":"#DIV/0!"}]
[1860,0,{"$f":"$D$4*'SBUH Model'!B331","v":0},0,0,0,0,0,0,0,0,{"$error":"#DIV/0!"},{"$error":"#DIV/0!"},0,{"$error":"#DIV/0!"},{"$error":"#DIV/0!"}]
[1866,0,{"$f":"$D$4*'SBUH Model'!B332","v":0},0,0,0,0,0,0,0,0,{"$error":"#DIV/0!"},{"$error":"#DIV/0!"},0,{"$error":"#DIV/0!"},{"$error":"#DIV/0!"}]
[1872,0,{"$f":"$D$4*'SBUH Model'!B333","v":0},0,0,0,0,0,0,0,0,{"$error":"#DIV/0!"},{"$error":"#DIV/0!"},0,{"$error":"#DIV/0!"},{"$error":"#DIV/0!"}]
[1878,0,{"$f":"$D$4*'SBUH Model'!B334","v":0},0,0,0,0,0,0,0,0,{"$error":"#DIV/0!"},{"$error":"#DIV/0!"},0,{"$error":"#DIV/0!"},{"$error":"#DIV/0!"}]
[1884,0,{"$f":"$D$4*'SBUH Model'!B335","v":0},0,0,0,0,0,0,0,0,{"$error":"#DIV/0!"},{"$error":"#DIV/0!"},0,{"$error":"#DIV/0!"},{"$error":"#DIV/0!"}]
[1890,0,{"$f":"$D$4*'SBUH Model'!B336","v":0},0,0,0,0,0,0,0,0,{"$error":"#DIV/0!"},{"$error":"#DIV/0!"},0,{"$error":"#DIV/0!"},{"$error":"#DIV/0!"}]
[1896,0,{"$f":"$D$4*'SBUH Model'!B337","v":0},0,0,0,0,0,0,0,0,{"$error":"#DIV/0!"},{"$error":"#DIV/0!"},0,{"$error":"#DIV/0!"},{"$error":"#DIV/0!"}]
[1902,0,{"$f":"$D$4*'SBUH Model'!B338","v":0},0,0,0,0,0,0,0,0,{"$error":"#DIV/0!"},{"$error":"#DIV/0!"},0,{"$error":"#DIV/0!"},{"$error":"#DIV/0!"}]
[1908,0,{"$f":"$D$4*'SBUH Model'!B339","v":0},0,0,0,0,0,0,0,0,{"$error":"#DIV/0!"},{"$error":"#DIV/0!"},0,{"$error":"#DIV/0!"},{"$error":"#DIV/0!"}]
[1914,0,{"$f":"$D$4*'SBUH Model'!B340","v":0},0,0,0,0,0,0,0,0,{"$error":"#DIV/0!"},{"$error":"#DIV/0!"},0,{"$error":"#DIV/0!"},{"$error":"#DIV/0!"}]
[1920,0,{"$f":"$D$4*'SBUH Model'!B341","v":0},0,0,0,0,0,0,0,0,{"$error":"#DIV/0!"},{"$f":"L341*($D$5*60)","v":{"$error":"#DIV/0!"}},{"$f":"(C341/12)*O$4","v":0},{"$error":"#DIV/0!"},{"$error":"#DIV/0!"}]
[1926,0,{"$f":"$D$4*'SBUH Model'!B342","v":0},{"$f":"C342+D341","v":0},{"$f":"IF(D342<0.2*F$8,0,(D342-0.2*F$8)^2/(D342+0.8*F$8))","v":0},0,{"$f":"IF(D342<0.2*F$11,0,(D342-0.2*F$11)^2/(D342+0.8*F$11))","v":0},0,{"$f":"IF(D342<0.2*F$12,0,(D342-0.2*F$12)^2/(D342+0.8*F$12))","v":0},0,{"$f":"((F342/12)*SUMPRODUCT(D$8:D$10,G$8:G$10)+(H342/12)*D$11+(J342/12)*D$12)/($D$5*60)","v":0},{"$error":"#DIV/0!"},{"$error":"#DIV/0!"},0,{"$f":"-MIN(O$9*D$5*60,SUM(M342,N342,P341))","v":{"$error":"#DIV/0!"}},{"$error":"#DIV/0!"}]
[{"$f":"A342+6","v":1932},0,{"$f":"$D$4*'SBUH Model'!B343","v":0},0,0,{"$f":"MAX(0,E343-E342)","v":0},0,0,0,0,0,{"$f":"MAX(0,L342+(D$5/(2*D$16+D$5))*(K342+K343-2*L342))","v":{"$error":"#DIV/0!"}},{"$error":"#DIV/0!"},0,{"$error":"#DIV/0!"},{"$f":"P342+SUM(M343:O343)","v":{"$error":"#DIV/0!"}}]
[1938,0,{"$f":"$D$4*'SBUH Model'!B344","v":0},0,0,0,0,0,0,0,0,{"$error":"#DIV/0!"},{"$error":"#DIV/0!"},0,{"$error":"#DIV/0!"},{"$error":"#DIV/0!"}]
[1944,0,{"$f":"$D$4*'SBUH Model'!B345","v":0},0,0,0,0,0,0,0,0,{"$error":"#DIV/0!"},{"$error":"#DIV/0!"},0,{"$error":"#DIV/0!"},{"$error":"#DIV/0!"}]
[1950,0,{"$f":"$D$4*'SBUH Model'!B346","v":0},0,0,0,0,0,0,0,0,{"$error":"#DIV/0!"},{"$error":"#DIV/0!"},0,{"$error":"#DIV/0!"},{"$error":"#DIV/0!"}]
[1956,0,{"$f":"$D$4*'SBUH Model'!B347","v":0},0,0,0,0,0,0,0,0,{"$error":"#DIV/0!"},{"$error":"#DIV/0!"},0,{"$error":"#DIV/0!"},{"$error":"#DIV/0!"}]
[1962,0,{"$f":"$D$4*'SBUH Model'!B348","v":0},0,0,0,0,0,0,0,0,{"$error":"#DIV/0!"},{"$error":"#DIV/0!"},0,{"$error":"#DIV/0!"},{"$error":"#DIV/0!"}]
[1968,0,{"$f":"$D$4*'SBUH Model'!B349","v":0},0,0,0,0,0,0,0,0,{"$error":"#DIV/0!"},{"$error":"#DIV/0!"},0,{"$error":"#DIV/0!"},{"$error":"#DIV/0!"}]
[1974,0,{"$f":"$D$4*'SBUH Model'!B350","v":0},0,0,0,0,0,0,0,0,{"$error":"#DIV/0!"},{"$error":"#DIV/0!"},0,{"$error":"#DIV/0!"},{"$error":"#DIV/0!"}]
[1980,0,{"$f":"$D$4*'SBUH Model'!B351","v":0},0,0,0,0,0,0,0,0,{"$error":"#DIV/0!"},{"$error":"#DIV/0!"},0,{"$error":"#DIV/0!"},{"$error":"#DIV/0!"}]
[1986,0,{"$f":"$D$4*'SBUH Model'!B352","v":0},0,0,0,0,0,0,0,0,{"$error":"#DIV/0!"},{"$error":"#DIV/0!"},0,{"$error":"#DIV/0!"},{"$error":"#DIV/0!"}]
[1992,0,{"$f":"$D$4*'SBUH Model'!B353","v":0},0,0,0,0,0,0,0,0,{"$error":"#DIV/0!"},{"$error":"#DIV/0!"},0,{"$error":"#DIV/0!"},{"$error":"#DIV/0!"}]
[1998,0,{"$f":"$D$4*'SBUH Model'!B354","v":0},0,0,0,0,0,0,0,0,{"$error":"#DIV/0!"},{"$error":"#DIV/0!"},0,{"$error":"#DIV/0!"},{"$error":"#DIV/0!"}]
[2004,0,{"$f":"$D$4*'SBUH Model'!B355","v":0},0,0,0,0,0,0,0,0,{"$error":"#DIV/0!"},{"$error":"#DIV/0!"},0,{"$error":"#DIV/0!"},{"$error":"#DIV/0!"}]
[2010,0,{"$f":"$D$4*'SBUH Model'!B356","v":0},0,0,0,0,0,0,0,0,{"$error":"#DIV/0!"},{"$error":"#DIV/0!"},0,{"$error":"#DIV/0!"},{"$error":"#DIV/0!"}]
[2016,0,{"$f":"$D$4*'SBUH Model'!B357","v":0},0,0,0,0,0,0,0,0,{"$error":"#DIV/0!"},{"$error":"#DIV/0!"},0,{"$error":"#DIV/0!"},{"$error":"#DIV/0!"}]
[2022,0,{"$f":"$D$4*'SBUH Model'!B358","v":0},0,0,0,0,0,0,0,0,{"$error":"#DIV/0!"},{"$error":"#DIV/0!"},0,{"$error":"#DIV/0!"},{"$error":"#DIV/0!"}]
[2028,0,{"$f":"$D$4*'SBUH Model'!B359","v":0},0,0,0,0,0,0,0,0,{"$error":"#DIV/0!"},{"$error":"#DIV/0!"},0,{"$error":"#DIV/0!"},{"$error":"#DIV/0!"}]
[2034,0,{"$f":"$D$4*'SBUH Model'!B360","v":0},0,0,0,0,0,0,0,0,{"$error":"#DIV/0!"},{"$error":"#DIV/0!"},0,{"$error":"#DIV/0!"},{"$error":"#DIV/0!"}]
[2040,0,{"$f":"$D$4*'SBUH Model'!B361","v":0},0,0,0,0,0,0,0,0,{"$error":"#DIV/0!"},{"$error":"#DIV/0!"},0,{"$error":"#DIV/0!"},{"$error":"#DIV/0!"}]
[2046,0,{"$f":"$D$4*'SBUH Model'!B362","v":0},0,0,0,0,0,0,0,0,{"$error":"#DIV/0!"},{"$error":"#DIV/0!"},0,{"$error":"#DIV/0!"},{"$error":"#DIV/0!"}]
[2052,0,{"$f":"$D$4*'SBUH Model'!B363","v":0},0,0,0,0,0,0,0,0,{"$error":"#DIV/0!"},{"$error":"#DIV/0!"},0,{"$error":"#DIV/0!"},{"$error":"#DIV/0!"}]
[2058,0,{"$f":"$D$4*'SBUH Model'!B364","v":0},0,0,0,0,0,0,0,0,{"$error":"#DIV/0!"},{"$error":"#DIV/0!"},0,{"$error":"#DIV/0!"},{"$error":"#DIV/0!"}]
[2064,0,{"$f":"$D$4*'SBUH Model'!B365","v":0},0,0,0,0,0,0,0,0,{"$error":"#DIV/0!"},{"$error":"#DIV/0!"},0,{"$error":"#DIV/0!"},{"$error":"#DIV/0!"}]
[2070,0,{"$f":"$D$4*'SBUH Model'!B366","v":0},0,0,0,0,0,0,0,0,{"$error":"#DIV/0!"},{"$error":"#DIV/0!"},0,{"$error":"#DIV/0!"},{"$error":"#DIV/0!"}]
[2076,0,{"$f":"$D$4*'SBUH Model'!B367","v":0},0,0,0,0,0,0,0,0,{"$error":"#DIV/0!"},{"$error":"#DIV/0!"},0,{"$error":"#DIV/0!"},{"$error":"#DIV/0!"}]
[2082,0,{"$f":"$D$4*'SBUH Model'!B368","v":0},0,0,0,0,0,0,0,0,{"$error":"#DIV/0!"},{"$error":"#DIV/0!"},0,{"$error":"#DIV/0!"},{"$error":"#DIV/0!"}]
[2088,0,{"$f":"$D$4*'SBUH Model'!B369","v":0},0,0,0,0,0,0,0,0,{"$error":"#DIV/0!"},{"$error":"#DIV/0!"},0,{"$error":"#DIV/0!"},{"$error":"#DIV/0!"}]
[2094,0,{"$f":"$D$4*'SBUH Model'!B370","v":0},0,0,0,0,0,0,0,0,{"$error":"#DIV/0!"},{"$error":"#DIV/0!"},0,{"$error":"#DIV/0!"},{"$error":"#DIV/0!"}]
[2100,0,{"$f":"$D$4*'SBUH Model'!B371","v":0},0,0,0,0,0,0,0,0,{"$error":"#DIV/0!"},{"$error":"#DIV/0!"},0,{"$error":"#DIV/0!"},{"$error":"#DIV/0!"}]
[2106,0,{"$f":"$D$4*'SBUH Model'!B372","v":0},0,0,0,0,0,0,0,0,{"$error":"#DIV/0!"},{"$error":"#DIV/0!"},0,{"$error":"#DIV/0!"},{"$error":"#DIV/0!"}]
[2112,0,{"$f":"$D$4*'SBUH Model'!B373","v":0},0,0,0,0,0,0,0,0,{"$error":"#DIV/0!"},{"$error":"#DIV/0!"},0,{"$error":"#DIV/0!"},{"$error":"#DIV/0!"}]
[2118,0,{"$f":"$D$4*'SBUH Model'!B374","v":0},0,0,0,0,0,0,0,0,{"$error":"#DIV/0!"},{"$error":"#DIV/0!"},0,{"$error":"#DIV/0!"},{"$error":"#DIV/0!"}]
[2124,0,{"$f":"$D$4*'SBUH Model'!B375","v":0},0,0,0,0,0,0,0,0,{"$error":"#DIV/0!"},{"$error":"#DIV/0!"},0,{"$error":"#DIV/0!"},{"$error":"#DIV/0!"}]
[2130,0,{"$f":"$D$4*'SBUH Model'!B376","v":0},0,0,0,0,0,0,0,0,{"$error":"#DIV/0!"},{"$error":"#DIV/0!"},0,{"$error":"#DIV/0!"},{"$error":"#DIV/0!"}]
[2136,0,{"$f":"$D$4*'SBUH Model'!B377","v":0},0,0,0,0,0,0,0,0,{"$error":"#DIV/0!"},{"$error":"#DIV/0!"},0,{"$error":"#DIV/0!"},{"$error":"#DIV/0!"}]
[2142,0,{"$f":"$D$4*'SBUH Model'!B378","v":0},0,0,0,0,0,0,0,0,{"$error":"#DIV/0!"},{"$error":"#DIV/0!"},0,{"$error":"#DIV/0!"},{"$error":"#DIV/0!"}]
[2148,0,{"$f":"$D$4*'SBUH Model'!B379","v":0},0,0,0,0,0,0,0,0,{"$error":"#DIV/0!"},{"$error":"#DIV/0!"},0,{"$error":"#DIV/0!"},{"$error":"#DIV/0!"}]
[2154,0,{"$f":"$D$4*'SBUH Model'!B380","v":0},0,0,0,0,0,0,0,0,{"$error":"#DIV/0!"},{"$error":"#DIV/0!"},0,{"$error":"#DIV/0!"},{"$error":"#DIV/0!"}]
[2160,0,{"$f":"$D$4*'SBUH Model'!B381","v":0},0,0,0,0,0,0,0,0,{"$error":"#DIV/0!"},{"$error":"#DIV/0!"},0,{"$error":"#DIV/0!"},{"$error":"#DIV/0!"}]
[2166,0,{"$f":"$D$4*'SBUH Model'!B382","v":0},0,0,0,0,0,0,0,0,{"$error":"#DIV/0!"},{"$error":"#DIV/0!"},0,{"$error":"#DIV/0!"},{"$error":"#DIV/0!"}]
[2172,0,{"$f":"$D$4*'SBUH Model'!B383","v":0},0,0,0,0,0,0,0,0,{"$error":"#DIV/0!"},{"$error":"#DIV/0!"},0,{"$error":"#DIV/0!"},{"$error":"#DIV/0!"}]
[2178,0,{"$f":"$D$4*'SBUH Model'!B384","v":0},0,0,0,0,0,0,0,0,{"$error":"#DIV/0!"},{"$error":"#DIV/0!"},0,{"$error":"#DIV/0!"},{"$error":"#DIV/0!"}]
[2184,0,{"$f":"$D$4*'SBUH Model'!B385","v":0},0,0,0,0,0,0,0,0,{"$error":"#DIV/0!"},{"$error":"#DIV/0!"},0,{"$error":"#DIV/0!"},{"$error":"#DIV/0!"}]
[2190,0,{"$f":"$D$4*'SBUH Model'!B386","v":0},0,0,0,0,0,0,0,0,{"$error":"#DIV/0!"},{"$error":"#DIV/0!"},0,{"$error":"#DIV/0!"},{"$error":"#DIV/0!"}]
[2196,0,{"$f":"$D$4*'SBUH Model'!B387","v":0},0,0,0,0,0,0,0,0,{"$error":"#DIV/0!"},{"$error":"#DIV/0!"},0,{"$error":"#DIV/0!"},{"$error":"#DIV/0!"}]
[2202,0,{"$f":"$D$4*'SBUH Model'!B388","v":0},0,0,0,0,0,0,0,0,{"$error":"#DIV/0!"},{"$error":"#DIV/0!"},0,{"$error":"#DIV/0!"},{"$error":"#DIV/0!"}]
[2208,0,{"$f":"$D$4*'SBUH Model'!B389","v":0},0,0,0,0,0,0,0,0,{"$error":"#DIV/0!"},{"$error":"#DIV/0!"},0,{"$error":"#DIV/0!"},{"$error":"#DIV/0!"}]
[2214,0,{"$f":"$D$4*'SBUH Model'!B390","v":0},0,0,0,0,0,0,0,0,{"$error":"#DIV/0!"},{"$error":"#DIV/0!"},0,{"$error":"#DIV/0!"},{"$error":"#DIV/0!"}]
[2220,0,{"$f":"$D$4*'SBUH Model'!B391","v":0},0,0,0,0,0,0,0,0,{"$error":"#DIV/0!"},{"$error":"#DIV/0!"},0,{"$error":"#DIV/0!"},{"$error":"#DIV/0!"}]
[2226,0,{"$f":"$D$4*'SBUH Model'!B392","v":0},0,0,0,0,0,0,0,0,{"$error":"#DIV/0!"},{"$error":"#DIV/0!"},0,{"$error":"#DIV/0!"},{"$error":"#DIV/0!"}]
[2232,0,{"$f":"$D$4*'SBUH Model'!B393","v":0},0,0,0,0,0,0,0,0,{"$error":"#DIV/0!"},{"$error":"#DIV/0!"},0,{"$error":"#DIV/0!"},{"$error":"#DIV/0!"}]
[2238,0,{"$f":"$D$4*'SBUH Model'!B394","v":0},0,0,0,0,0,0,0,0,{"$error":"#DIV/0!"},{"$error":"#DIV/0!"},0,{"$error":"#DIV/0!"},{"$error":"#DIV/0!"}]
[2244,0,{"$f":"$D$4*'SBUH Model'!B395","v":0},0,0,0,0,0,0,0,0,{"$error":"#DIV/0!"},{"$error":"#DIV/0!"},0,{"$error":"#DIV/0!"},{"$error":"#DIV/0!"}]
[2250,0,{"$f":"$D$4*'SBUH Model'!B396","v":0},0,0,0,0,0,0,0,0,{"$error":"#DIV/0!"},{"$error":"#DIV/0!"},0,{"$error":"#DIV/0!"},{"$error":"#DIV/0!"}]
[2256,0,{"$f":"$D$4*'SBUH Model'!B397","v":0},0,0,0,0,0,0,0,0,{"$error":"#DIV/0!"},{"$error":"#DIV/0!"},0,{"$error":"#DIV/0!"},{"$error":"#DIV/0!"}]
[2262,0,{"$f":"$D$4*'SBUH Model'!B398","v":0},0,0,0,0,0,0,0,0,{"$error":"#DIV/0!"},{"$error":"#DIV/0!"},0,{"$error":"#DIV/0!"},{"$error":"#DIV/0!"}]
[2268,0,{"$f":"$D$4*'SBUH Model'!B399","v":0},0,0,0,0,0,0,0,0,{"$error":"#DIV/0!"},{"$error":"#DIV/0!"},0,{"$error":"#DIV/0!"},{"$error":"#DIV/0!"}]
[2274,0,{"$f":"$D$4*'SBUH Model'!B400","v":0},0,0,0,0,0,0,0,0,{"$error":"#DIV/0!"},{"$error":"#DIV/0!"},0,{"$error":"#DIV/0!"},{"$error":"#DIV/0!"}]
[2280,0,{"$f":"$D$4*'SBUH Model'!B401","v":0},0,0,0,0,0,0,0,0,{"$error":"#DIV/0!"},{"$error":"#DIV/0!"},0,{"$error":"#DIV/0!"},{"$error":"#DIV/0!"}]
[2286,0,{"$f":"$D$4*'SBUH Model'!B402","v":0},0,0,0,0,0,0,0,0,{"$error":"#DIV/0!"},{"$error":"#DIV/0!"},0,{"$error":"#DIV/0!"},{"$error":"#DIV/0!"}]
[2292,0,{"$f":"$D$4*'SBUH Model'!B403","v":0},0,0,0,0,0,0,0,0,{"$error":"#DIV/0!"},{"$error":"#DIV/0!"},0,{"$error":"#DIV/0!"},{"$error":"#DIV/0!"}]
[2298,0,{"$f":"$D$4*'SBUH Model'!B404","v":0},0,0,0,0,0,0,0,0,{"$error":"#DIV/0!"},{"$error":"#DIV/0!"},0,{"$error":"#DIV/0!"},{"$error":"#DIV/0!"}]
[2304,0,{"$f":"$D$4*'SBUH Model'!B405","v":0},0,0,0,0,0,0,0,0,{"$error":"#DIV/0!"},{"$f":"L405*($D$5*60)","v":{"$error":"#DIV/0!"}},{"$f":"(C405/12)*O$4","v":0},{"$error":"#DIV/0!"},{"$error":"#DIV/0!"}]
[2310,0,{"$f":"$D$4*'SBUH Model'!B406","v":0},{"$f":"C406+D405","v":0},{"$f":"IF(D406<0.2*F$8,0,(D406-0.2*F$8)^2/(D406+0.8*F$8))","v":0},0,{"$f":"IF(D406<0.2*F$11,0,(D406-0.2*F$11)^2/(D406+0.8*F$11))","v":0},0,{"$f":"IF(D406<0.2*F$12,0,(D406-0.2*F$12)^2/(D406+0.8*F$12))","v":0},0,{"$f":"((F406/12)*SUMPRODUCT(D$8:D$10,G$8:G$10)+(H406/12)*D$11+(J406/12)*D$12)/($D$5*60)","v":0},{"$error":"#DIV/0!"},{"$error":"#DIV/0!"},0,{"$f":"-MIN(O$9*D$5*60,SUM(M406,N406,P405))","v":{"$error":"#DIV/0!"}},{"$error":"#DIV/0!"}]
[{"$f":"A406+6","v":2316},0,{"$f":"$D$4*'SBUH Model'!B407","v":0},0,0,{"$f":"MAX(0,E407-E406)","v":0},0,0,0,0,0,{"$f":"MAX(0,L406+(D$5/(2*D$16+D$5))*(K406+K407-2*L406))","v":{"$error":"#DIV/0!"}},{"$error":"#DIV/0!"},0,{"$error":"#DIV/0!"},{"$f":"P406+SUM(M407:O407)","v":{"$error":"#DIV/0!"}}]
[2322,0,{"$f":"$D$4*'SBUH Model'!B408","v":0},0,0,0,0,0,0,0,0,{"$error":"#DIV/0!"},{"$error":"#DIV/0!"},0,{"$error":"#DIV/0!"},{"$error":"#DIV/0!"}]
[2328,0,{"$f":"$D$4*'SBUH Model'!B409","v":0},0,0,0,0,0,0,0,0,{"$error":"#DIV/0!"},{"$error":"#DIV/0!"},0,{"$error":"#DIV/0!"},{"$error":"#DIV/0!"}]
[2334,0,{"$f":"$D$4*'SBUH Model'!B410","v":0},0,0,0,0,0,0,0,0,{"$error":"#DIV/0!"},{"$error":"#DIV/0!"},0,{"$error":"#DIV/0!"},{"$error":"#DIV/0!"}]
[2340,0,{"$f":"$D$4*'SBUH Model'!B411","v":0},0,0,0,0,0,0,0,0,{"$error":"#DIV/0!"},{"$error":"#DIV/0!"},0,{"$error":"#DIV/0!"},{"$error":"#DIV/0!"}]
[2346,0,{"$f":"$D$4*'SBUH Model'!B412","v":0},0,0,0,0,0,0,0,0,{"$error":"#DIV/0!"},{"$error":"#DIV/0!"},0,{"$error":"#DIV/0!"},{"$error":"#DIV/0!"}]
[2352,0,{"$f":"$D$4*'SBUH Model'!B413","v":0},0,0,0,0,0,0,0,0,{"$error":"#DIV/0!"},{"$error":"#DIV/0!"},0,{"$error":"#DIV/0!"},{"$error":"#DIV/0!"}]
[2358,0,{"$f":"$D$4*'SBUH Model'!B414","v":0},0,0,0,0,0,0,0,0,{"$error":"#DIV/0!"},{"$error":"#DIV/0!"},0,{"$error":"#DIV/0!"},{"$error":"#DIV/0!"}]
[2364,0,{"$f":"$D$4*'SBUH Model'!B415","v":0},0,0,0,0,0,0,0,0,{"$error":"#DIV/0!"},{"$error":"#DIV/0!"},0,{"$error":"#DIV/0!"},{"$error":"#DIV/0!"}]
[2370,0,{"$f":"$D$4*'SBUH Model'!B416","v":0},0,0,0,0,0,0,0,0,{"$error":"#DIV/0!"},{"$error":"#DIV/0!"},0,{"$error":"#DIV/0!"},{"$error":"#DIV/0!"}]
[2376,0,{"$f":"$D$4*'SBUH Model'!B417","v":0},0,0,0,0,0,0,0,0,{"$error":"#DIV/0!"},{"$error":"#DIV/0!"},0,{"$error":"#DIV/0!"},{"$error":"#DIV/0!"}]
[2382,0,{"$f":"$D$4*'SBUH Model'!B418","v":0},0,0,0,0,0,0,0,0,{"$error":"#DIV/0!"},{"$error":"#DIV/0!"},0,{"$error":"#DIV/0!"},{"$error":"#DIV/0!"}]
[2388,0,{"$f":"$D$4*'SBUH Model'!B419","v":0},0,0,0,0,0,0,0,0,{"$error":"#DIV/0!"},{"$error":"#DIV/0!"},0,{"$error":"#DIV/0!"},{"$error":"#DIV/0!"}]
[2394,0,{"$f":"$D$4*'SBUH Model'!B420","v":0},0,0,0,0,0,0,0,0,{"$error":"#DIV/0!"},{"$error":"#DIV/0!"},0,{"$error":"#DIV/0!"},{"$error":"#DIV/0!"}]
[2400,0,{"$f":"$D$4*'SBUH Model'!B421","v":0},0,0,0,0,0,0,0,0,{"$error":"#DIV/0!"},{"$error":"#DIV/0!"},0,{"$error":"#DIV/0!"},{"$error":"#DIV/0!"}]
[2406,0,{"$f":"$D$4*'SBUH Model'!B422","v":0},0,0,0,0,0,0,0,0,{"$error":"#DIV/0!"},{"$error":"#DIV/0!"},0,{"$error":"#DIV/0!"},{"$error":"#DIV/0!"}]
[2412,0,{"$f":"$D$4*'SBUH Model'!B423","v":0},0,0,0,0,0,0,0,0,{"$error":"#DIV/0!"},{"$error":"#DIV/0!"},0,{"$error":"#DIV/0!"},{"$error":"#DIV/0!"}]
[2418,0,{"$f":"$D$4*'SBUH Model'!B424","v":0},0,0,0,0,0,0,0,0,{"$error":"#DIV/0!"},{"$error":"#DIV/0!"},0,{"$error":"#DIV/0!"},{"$error":"#DIV/0!"}]
[2424,0,{"$f":"$D$4*'SBUH Model'!B425","v":0},0,0,0,0,0,0,0,0,{"$error":"#DIV/0!"},{"$error":"#DIV/0!"},0,{"$error":"#DIV/0!"},{"$error":"#DIV/0!"}]
[2430,0,{"$f":"$D$4*'SBUH Model'!B426","v":0},0,0,0,0,0,0,0,0,{"$error":"#DIV/0!"},{"$error":"#DIV/0!"},0,{"$error":"#DIV/0!"},{"$error":"#DIV/0!"}]
[2436,0,{"$f":"$D$4*'SBUH Model'!B427","v":0},0,0,0,0,0,0,0,0,{"$error":"#DIV/0!"},{"$error":"#DIV/0!"},0,{"$error":"#DIV/0!"},{"$error":"#DIV/0!"}]
[2442,0,{"$f":"$D$4*'SBUH Model'!B428","v":0},0,0,0,0,0,0,0,0,{"$error":"#DIV/0!"},{"$error":"#DIV/0!"},0,{"$error":"#DIV/0!"},{"$error":"#DIV/0!"}]
[2448,0,{"$f":"$D$4*'SBUH Model'!B429","v":0},0,0,0,0,0,0,0,0,{"$error":"#DIV/0!"},{"$error":"#DIV/0!"},0,{"$error":"#DIV/0!"},{"$error":"#DIV/0!"}]
[2454,0,{"$f":"$D$4*'SBUH Model'!B430","v":0},0,0,0,0,0,0,0,0,{"$error":"#DIV/0!"},{"$error":"#DIV/0!"},0,{"$error":"#DIV/0!"},{"$error":"#DIV/0!"}]
[2460,0,{"$f":"$D$4*'SBUH Model'!B431","v":0},0,0,0,0,0,0,0,0,{"$error":"#DIV/0!"},{"$error":"#DIV/0!"},0,{"$error":"#DIV/0!"},{"$error":"#DIV/0!"}]
[2466,0,{"$f":"$D$4*'SBUH Model'!B432","v":0},0,0,0,0,0,0,0,0,{"$error":"#DIV/0!"},{"$error":"#DIV/0!"},0,{"$error":"#DIV/0!"},{"$error":"#DIV/0!"}]
[2472,0,{"$f":"$D$4*'SBUH Model'!B433","v":0},0,0,0,0,0,0,0,0,{"$error":"#DIV/0!"},{"$error":"#DIV/0!"},0,{"$error":"#DIV/0!"},{"$error":"#DIV/0!"}]
[2478,0,{"$f":"$D$4*'SBUH Model'!B434","v":0},0,0,0,0,0,0,0,0,{"$error":"#DIV/0!"},{"$error":"#DIV/0!"},0,{"$error":"#DIV/0!"},{"$error":"#DIV/0!"}]
[2484,0,{"$f":"$D$4*'SBUH Model'!B435","v":0},0,0,0,0,0,0,0,0,{"$error":"#DIV/0!"},{"$error":"#DIV/0!"},0,{"$error":"#DIV/0!"},{"$error":"#DIV/0!"}]
[2490,0,{"$f":"$D$4*'SBUH Model'!B436","v":0},0,0,0,0,0,0,0,0,{"$error":"#DIV/0!"},{"$error":"#DIV/0!"},0,{"$error":"#DIV/0!"},{"$error":"#DIV/0!"}]
[2496,0,{"$f":"$D$4*'SBUH Model'!B437","v":0},0,0,0,0,0,0,0,0,{"$error":"#DIV/0!"},{"$error":"#DIV/0!"},0,{"$error":"#DIV/0!"},{"$error":"#DIV/0!"}]
[2502,0,{"$f":"$D$4*'SBUH Model'!B438","v":0},0,0,0,0,0,0,0,0,{"$error":"#DIV/0!"},{"$error":"#DIV/0!"},0,{"$error":"#DIV/0!"},{"$error":"#DIV/0!"}]
[2508,0,{"$f":"$D$4*'SBUH Model'!B439","v":0},0,0,0,0,0,0,0,0,{"$error":"#DIV/0!"},{"$error":"#DIV/0!"},0,{"$error":"#DIV/0!"},{"$error":"#DIV/0!"}]
[2514,0,{"$f":"$D$4*'SBUH Model'!B440","v":0},0,0,0,0,0,0,0,0,{"$error":"#DIV/0!"},{"$error":"#DIV/0!"},0,{"$error":"#DIV/0!"},{"$error":"#DIV/0!"}]
[2520,0,{"$f":"$D$4*'SBUH Model'!B441","v":0},0,0,0,0,0,0,0,0,{"$error":"#DIV/0!"},{"$error":"#DIV/0!"},0,{"$error":"#DIV/0!"},{"$error":"#DIV/0!"}]
[2526,0,{"$f":"$D$4*'SBUH Model'!B442","v":0},0,0,0,0,0,0,0,0,{"$error":"#DIV/0!"},{"$error":"#DIV/0!"},0,{"$error":"#DIV/0!"},{"$error":"#DIV/0!"}]
[2532,0,{"$f":"$D$4*'SBUH Model'!B443","v":0},0,0,0,0,0,0,0,0,{"$error":"#DIV/0!"},{"$error":"#DIV/0!"},0,{"$error":"#DIV/0!"},{"$error":"#DIV/0!"}]
[2538,0,{"$f":"$D$4*'SBUH Model'!B444","v":0},0,0,0,0,0,0,0,0,{"$error":"#DIV/0!"},{"$error":"#DIV/0!"},0,{"$error":"#DIV/0!"},{"$error":"#DIV/0!"}]
[2544,0,{"$f":"$D$4*'SBUH Model'!B445","v":0},0,0,0,0,0,0,0,0,{"$error":"#DIV/0!"},{"$error":"#DIV/0!"},0,{"$error":"#DIV/0!"},{"$error":"#DIV/0!"}]
[2550,0,{"$f":"$D$4*'SBUH Model'!B446","v":0},0,0,0,0,0,0,0,0,{"$error":"#DIV/0!"},{"$error":"#DIV/0!"},0,{"$error":"#DIV/0!"},{"$error":"#DIV/0!"}]
[2556,0,{"$f":"$D$4*'SBUH Model'!B447","v":0},0,0,0,0,0,0,0,0,{"$error":"#DIV/0!"},{"$error":"#DIV/0!"},0,{"$error":"#DIV/0!"},{"$error":"#DIV/0!"}]
[2562,0,{"$f":"$D$4*'SBUH Model'!B448","v":0},0,0,0,0,0,0,0,0,{"$error":"#DIV/0!"},{"$error":"#DIV/0!"},0,{"$error":"#DIV/0!"},{"$error":"#DIV/0!"}]
[2568,0,{"$f":"$D$4*'SBUH Model'!B449","v":0},0,0,0,0,0,0,0,0,{"$error":"#DIV/0!"},{"$error":"#DIV/0!"},0,{"$error":"#DIV/0!"},{"$error":"#DIV/0!"}]
[2574,0,{"$f":"$D$4*'SBUH Model'!B450","v":0},0,0,0,0,0,0,0,0,{"$error":"#DIV/0!"},{"$error":"#DIV/0!"},0,{"$error":"#DIV/0!"},{"$error":"#DIV/0!"}]
[2580,0,{"$f":"$D$4*'SBUH Model'!B451","v":0},0,0,0,0,0,0,0,0,{"$error":"#DIV/0!"},{"$error":"#DIV/0!"},0,{"$error":"#DIV/0!"},{"$error":"#DIV/0!"}]
[2586,0,{"$f":"$D$4*'SBUH Model'!B452","v":0},0,0,0,0,0,0,0,0,{"$error":"#DIV/0!"},{"$error":"#DIV/0!"},0,{"$error":"#DIV/0!"},{"$error":"#DIV/0!"}]
[2592,0,{"$f":"$D$4*'SBUH Model'!B453","v":0},0,0,0,0,0,0,0,0,{"$error":"#DIV/0!"},{"$error":"#DIV/0!"},0,{"$error":"#DIV/0!"},{"$error":"#DIV/0!"}]
[2598,0,{"$f":"$D$4*'SBUH Model'!B454","v":0},0,0,0,0,0,0,0,0,{"$error":"#DIV/0!"},{"$error":"#DIV/0!"},0,{"$error":"#DIV/0!"},{"$error":"#DIV/0!"}]
[2604,0,{"$f":"$D$4*'SBUH Model'!B455","v":0},0,0,0,0,0,0,0,0,{"$error":"#DIV/0!"},{"$error":"#DIV/0!"},0,{"$error":"#DIV/0!"},{"$error":"#DIV/0!"}]
[2610,0,{"$f":"$D$4*'SBUH Model'!B456","v":0},0,0,0,0,0,0,0,0,{"$error":"#DIV/0!"},{"$error":"#DIV/0!"},0,{"$error":"#DIV/0!"},{"$error":"#DIV/0!"}]
[2616,0,{"$f":"$D$4*'SBUH Model'!B457","v":0},0,0,0,0,0,0,0,0,{"$error":"#DIV/0!"},{"$error":"#DIV/0!"},0,{"$error":"#DIV/0!"},{"$error":"#DIV/0!"}]
[2622,0,{"$f":"$D$4*'SBUH Model'!B458","v":0},0,0,0,0,0,0,0,0,{"$error":"#DIV/0!"},{"$error":"#DIV/0!"},0,{"$error":"#DIV/0!"},{"$error":"#DIV/0!"}]
[2628,0,{"$f":"$D$4*'SBUH Model'!B459","v":0},0,0,0,0,0,0,0,0,{"$error":"#DIV/0!"},{"$error":"#DIV/0!"},0,{"$error":"#DIV/0!"},{"$error":"#DIV/0!"}]
[2634,0,{"$f":"$D$4*'SBUH Model'!B460","v":0},0,0,0,0,0,0,0,0,{"$error":"#DIV/0!"},{"$error":"#DIV/0!"},0,{"$error":"#DIV/0!"},{"$error":"#DIV/0!"}]
[2640,0,{"$f":"$D$4*'SBUH Model'!B461","v":0},0,0,0,0,0,0,0,0,{"$error":"#DIV/0!"},{"$error":"#DIV/0!"},0,{"$error":"#DIV/0!"},{"$error":"#DIV/0!"}]
[2646,0,{"$f":"$D$4*'SBUH Model'!B462","v":0},0,0,0,0,0,0,0,0,{"$error":"#DIV/0!"},{"$error":"#DIV/0!"},0,{"$error":"#DIV/0!"},{"$error":"#DIV/0!"}]
[2652,0,{"$f":"$D$4*'SBUH Model'!B463","v":0},0,0,0,0,0,0,0,0,{"$error":"#DIV/0!"},{"$error":"#DIV/0!"},0,{"$error":"#DIV/0!"},{"$error":"#DIV/0!"}]
[2658,0,{"$f":"$D$4*'SBUH Model'!B464","v":0},0,0,0,0,0,0,0,0,{"$error":"#DIV/0!"},{"$error":"#DIV/0!"},0,{"$error":"#DIV/0!"},{"$error":"#DIV/0!"}]
[2664,0,{"$f":"$D$4*'SBUH Model'!B465","v":0},0,0,0,0,0,0,0,0,{"$error":"#DIV/0!"},{"$error":"#DIV/0!"},0,{"$error":"#DIV/0!"},{"$error":"#DIV/0!"}]
[2670,0,{"$f":"$D$4*'SBUH Model'!B466","v":0},0,0,0,0,0,0,0,0,{"$error":"#DIV/0!"},{"$error":"#DIV/0!"},0,{"$error":"#DIV/0!"},{"$error":"#DIV/0!"}]
[2676,0,{"$f":"$D$4*'SBUH Model'!B467","v":0},0,0,0,0,0,0,0,0,{"$error":"#DIV/0!"},{"$error":"#DIV/0!"},0,{"$error":"#DIV/0!"},{"$error":"#DIV/0!"}]
[2682,0,{"$f":"$D$4*'SBUH Model'!B468","v":0},0,0,0,0,0,0,0,0,{"$error":"#DIV/0!"},{"$error":"#DIV/0!"},0,{"$error":"#DIV/0!"},{"$error":"#DIV/0!"}]
[2688,0,{"$f":"$D$4*'SBUH Model'!B469","v":0},0,0,0,0,0,0,0,0,{"$error":"#DIV/0!"},{"$f":"L469*($D$5*60)","v":{"$error":"#DIV/0!"}},{"$f":"(C469/12)*O$4","v":0},{"$error":"#DIV/0!"},{"$error":"#DIV/0!"}]
[2694,0,{"$f":"$D$4*'SBUH Model'!B470","v":0},{"$f":"C470+D469","v":0},{"$f":"IF(D470<0.2*F$8,0,(D470-0.2*F$8)^2/(D470+0.8*F$8))","v":0},0,{"$f":"IF(D470<0.2*F$11,0,(D470-0.2*F$11)^2/(D470+0.8*F$11))","v":0},0,{"$f":"IF(D470<0.2*F$12,0,(D470-0.2*F$12)^2/(D470+0.8*F$12))","v":0},0,{"$f":"((F470/12)*SUMPRODUCT(D$8:D$10,G$8:G$10)+(H470/12)*D$11+(J470/12)*D$12)/($D$5*60)","v":0},{"$error":"#DIV/0!"},{"$error":"#DIV/0!"},0,{"$f":"-MIN(O$9*D$5*60,SUM(M470,N470,P469))","v":{"$error":"#DIV/0!"}},{"$error":"#DIV/0!"}]
[{"$f":"A470+6","v":2700},0,{"$f":"$D$4*'SBUH Model'!B471","v":0},0,0,{"$f":"MAX(0,E471-E470)","v":0},0,0,0,0,0,{"$f":"MAX(0,L470+(D$5/(2*D$16+D$5))*(K470+K471-2*L470))","v":{"$error":"#DIV/0!"}},{"$error":"#DIV/0!"},0,{"$error":"#DIV/0!"},{"$f":"P470+SUM(M471:O471)","v":{"$error":"#DIV/0!"}}]
[2706,0,{"$f":"$D$4*'SBUH Model'!B472","v":0},0,0,0,0,0,0,0,0,{"$error":"#DIV/0!"},{"$error":"#DIV/0!"},0,{"$error":"#DIV/0!"},{"$error":"#DIV/0!"}]
[2712,0,{"$f":"$D$4*'SBUH Model'!B473","v":0},0,0,0,0,0,0,0,0,{"$error":"#DIV/0!"},{"$error":"#DIV/0!"},0,{"$error":"#DIV/0!"},{"$error":"#DIV/0!"}]
[2718,0,{"$f":"$D$4*'SBUH Model'!B474","v":0},0,0,0,0,0,0,0,0,{"$error":"#DIV/0!"},{"$error":"#DIV/0!"},0,{"$error":"#DIV/0!"},{"$error":"#DIV/0!"}]
[2724,0,{"$f":"$D$4*'SBUH Model'!B475","v":0},0,0,0,0,0,0,0,0,{"$error":"#DIV/0!"},{"$error":"#DIV/0!"},0,{"$error":"#DIV/0!"},{"$error":"#DIV/0!"}]
[2730,0,{"$f":"$D$4*'SBUH Model'!B476","v":0},0,0,0,0,0,0,0,0,{"$error":"#DIV/0!"},{"$error":"#DIV/0!"},0,{"$error":"#DIV/0!"},{"$error":"#DIV/0!"}]
[2736,0,{"$f":"$D$4*'SBUH Model'!B477","v":0},0,0,0,0,0,0,0,0,{"$error":"#DIV/0!"},{"$error":"#DIV/0!"},0,{"$error":"#DIV/0!"},{"$error":"#DIV/0!"}]
[2742,0,{"$f":"$D$4*'SBUH Model'!B478","v":0},0,0,0,0,0,0,0,0,{"$error":"#DIV/0!"},{"$error":"#DIV/0!"},0,{"$error":"#DIV/0!"},{"$error":"#DIV/0!"}]
[2748,0,{"$f":"$D$4*'SBUH Model'!B479","v":0},0,0,0,0,0,0,0,0,{"$error":"#DIV/0!"},{"$error":"#DIV/0!"},0,{"$error":"#DIV/0!"},{"$error":"#DIV/0!"}]
[2754,0,{"$f":"$D$4*'SBUH Model'!B480","v":0},0,0,0,0,0,0,0,0,{"$error":"#DIV/0!"},{"$error":"#DIV/0!"},0,{"$error":"#DIV/0!"},{"$error":"#DIV/0!"}]
[2760,0,{"$f":"$D$4*'SBUH Model'!B481","v":0},0,0,0,0,0,0,0,0,{"$error":"#DIV/0!"},{"$error":"#DIV/0!"},0,{"$error":"#DIV/0!"},{"$error":"#DIV/0!"}]
[2766,0,{"$f":"$D$4*'SBUH Model'!B482","v":0},0,0,0,0,0,0,0,0,{"$error":"#DIV/0!"},{"$error":"#DIV/0!"},0,{"$error":"#DIV/0!"},{"$error":"#DIV/0!"}]
[2772,0,{"$f":"$D$4*'SBUH Model'!B483","v":0},0,0,0,0,0,0,0,0,{"$error":"#DIV/0!"},{"$error":"#DIV/0!"},0,{"$error":"#DIV/0!"},{"$error":"#DIV/0!"}]
[2778,0,{"$f":"$D$4*'SBUH Model'!B484","v":0},0,0,0,0,0,0,0,0,{"$error":"#DIV/0!"},{"$error":"#DIV/0!"},0,{"$error":"#DIV/0!"},{"$error":"#DIV/0!"}]
[2784,0,{"$f":"$D$4*'SBUH Model'!B485","v":0},0,0,0,0,0,0,0,0,{"$error":"#DIV/0!"},{"$error":"#DIV/0!"},0,{"$error":"#DIV/0!"},{"$error":"#DIV/0!"}]
[2790,0,{"$f":"$D$4*'SBUH Model'!B486","v":0},0,0,0,0,0,0,0,0,{"$error":"#DIV/0!"},{"$error":"#DIV/0!"},0,{"$error":"#DIV/0!"},{"$error":"#DIV/0!"}]
[2796,0,{"$f":"$D$4*'SBUH Model'!B487","v":0},0,0,0,0,0,0,0,0,{"$error":"#DIV/0!"},{"$error":"#DIV/0!"},0,{"$error":"#DIV/0!"},{"$error":"#DIV/0!"}]
[2802,0,{"$f":"$D$4*'SBUH Model'!B488","v":0},0,0,0,0,0,0,0,0,{"$error":"#DIV/0!"},{"$error":"#DIV/0!"},0,{"$error":"#DIV/0!"},{"$error":"#DIV/0!"}]
[2808,0,{"$f":"$D$4*'SBUH Model'!B489","v":0},0,0,0,0,0,0,0,0,{"$error":"#DIV/0!"},{"$error":"#DIV/0!"},0,{"$error":"#DIV/0!"},{"$error":"#DIV/0!"}]
[2814,0,{"$f":"$D$4*'SBUH Model'!B490","v":0},0,0,0,0,0,0,0,0,{"$error":"#DIV/0!"},{"$error":"#DIV/0!"},0,{"$error":"#DIV/0!"},{"$error":"#DIV/0!"}]
[2820,0,{"$f":"$D$4*'SBUH Model'!B491","v":0},0,0,0,0,0,0,0,0,{"$error":"#DIV/0!"},{"$error":"#DIV/0!"},0,{"$error":"#DIV/0!"},{"$error":"#DIV/0!"}]
[2826,0,{"$f":"$D$4*'SBUH Model'!B492","v":0},0,0,0,0,0,0,0,0,{"$error":"#DIV/0!"},{"$error":"#DIV/0!"},0,{"$error":"#DIV/0!"},{"$error":"#DIV/0!"}]
[2832,0,{"$f":"$D$4*'SBUH Model'!B493","v":0},0,0,0,0,0,0,0,0,{"$error":"#DIV/0!"},{"$error":"#DIV/0!"},0,{"$error":"#DIV/0!"},{"$error":"#DIV/0!"}]
[2838,0,{"$f":"$D$4*'SBUH Model'!B494","v":0},0,0,0,0,0,0,0,0,{"$error":"#DIV/0!"},{"$error":"#DIV/0!"},0,{"$error":"#DIV/0!"},{"$error":"#DIV/0!"}]
[2844,0,{"$f":"$D$4*'SBUH Model'!B495","v":0},0,0,0,0,0,0,0,0,{"$error":"#DIV/0!"},{"$error":"#DIV/0!"},0,{"$error":"#DIV/0!"},{"$error":"#DIV/0!"}]
[2850,0,{"$f":"$D$4*'SBUH Model'!B496","v":0},0,0,0,0,0,0,0,0,{"$error":"#DIV/0!"},{"$error":"#DIV/0!"},0,{"$error":"#DIV/0!"},{"$error":"#DIV/0!"}]
[2856,0,{"$f":"$D$4*'SBUH Model'!B497","v":0},0,0,0,0,0,0,0,0,{"$error":"#DIV/0!"},{"$error":"#DIV/0!"},0,{"$error":"#DIV/0!"},{"$error":"#DIV/0!"}]
[2862,0,{"$f":"$D$4*'SBUH Model'!B498","v":0},0,0,0,0,0,0,0,0,{"$error":"#DIV/0!"},{"$error":"#DIV/0!"},0,{"$error":"#DIV/0!"},{"$error":"#DIV/0!"}]
[2868,0,{"$f":"$D$4*'SBUH Model'!B499","v":0},0,0,0,0,0,0,0,0,{"$error":"#DIV/0!"},{"$error":"#DIV/0!"},0,{"$error":"#DIV/0!"},{"$error":"#DIV/0!"}]
[2874,0,{"$f":"$D$4*'SBUH Model'!B500","v":0},0,0,0,0,0,0,0,0,{"$error":"#DIV/0!"},{"$error":"#DIV/0!"},0,{"$error":"#DIV/0!"},{"$error":"#DIV/0!"}]
[2880,0,{"$f":"$D$4*'SBUH Model'!B501","v":0},0,0,0,0,0,0,0,0,{"$error":"#DIV/0!"},{"$error":"#DIV/0!"},0,{"$error":"#DIV/0!"},{"$error":"#DIV/0!"}]
[2886,0,{"$f":"$D$4*'SBUH Model'!B502","v":0},0,0,0,0,0,0,0,0,{"$error":"#DIV/0!"},{"$error":"#DIV/0!"},0,{"$error":"#DIV/0!"},{"$error":"#DIV/0!"}]
[2892,0,{"$f":"$D$4*'SBUH Model'!B503","v":0},0,0,0,0,0,0,0,0,{"$error":"#DIV/0!"},{"$error":"#DIV/0!"},0,{"$error":"#DIV/0!"},{"$error":"#DIV/0!"}]
[2898,0,{"$f":"$D$4*'SBUH Model'!B504","v":0},0,0,0,0,0,0,0,0,{"$error":"#DIV/0!"},{"$error":"#DIV/0!"},0,{"$error":"#DIV/0!"},{"$error":"#DIV/0!"}]
[2904,0,{"$f":"$D$4*'SBUH Model'!B505","v":0},0,0,0,0,0,0,0,0,{"$error":"#DIV/0!"},{"$error":"#DIV/0!"},0,{"$error":"#DIV/0!"},{"$error":"#DIV/0!"}]
[2910,0,{"$f":"$D$4*'SBUH Model'!B506","v":0},0,0,0,0,0,0,0,0,{"$error":"#DIV/0!"},{"$error":"#DIV/0!"},0,{"$error":"#DIV/0!"},{"$error":"#DIV/0!"}]
[2916,0,{"$f":"$D$4*'SBUH Model'!B507","v":0},0,0,0,0,0,0,0,0,{"$error":"#DIV/0!"},{"$error":"#DIV/0!"},0,{"$error":"#DIV/0!"},{"$error":"#DIV/0!"}]
[2922,0,{"$f":"$D$4*'SBUH Model'!B508","v":0},0,0,0,0,0,0,0,0,{"$error":"#DIV/0!"},{"$error":"#DIV/0!"},0,{"$error":"#DIV/0!"},{"$error":"#DIV/0!"}]
[2928,0,{"$f":"$D$4*'SBUH Model'!B509","v":0},0,0,0,0,0,0,0,0,{"$error":"#DIV/0!"},{"$error":"#DIV/0!"},0,{"$error":"#DIV/0!"},{"$error":"#DIV/0!"}]
[2934,0,{"$f":"$D$4*'SBUH Model'!B510","v":0},0,0,0,0,0,0,0,0,{"$error":"#DIV/0!"},{"$error":"#DIV/0!"},0,{"$error":"#DIV/0!"},{"$error":"#DIV/0!"}]
[2940,0,{"$f":"$D$4*'SBUH Model'!B511","v":0},0,0,0,0,0,0,0,0,{"$error":"#DIV/0!"},{"$error":"#DIV/0!"},0,{"$error":"#DIV/0!"},{"$error":"#DIV/0!"}]
[2946,0,{"$f":"$D$4*'SBUH Model'!B512","v":0},0,0,0,0,0,0,0,0,{"$error":"#DIV/0!"},{"$error":"#DIV/0!"},0,{"$error":"#DIV/0!"},{"$error":"#DIV/0!"}]
[2952,0,{"$f":"$D$4*'SBUH Model'!B513","v":0},0,0,0,0,0,0,0,0,{"$error":"#DIV/0!"},{"$error":"#DIV/0!"},0,{"$error":"#DIV/0!"},{"$error":"#DIV/0!"}]
[2958,0,{"$f":"$D$4*'SBUH Model'!B514","v":0},0,0,0,0,0,0,0,0,{"$error":"#DIV/0!"},{"$error":"#DIV/0!"},0,{"$error":"#DIV/0!"},{"$error":"#DIV/0!"}]
[2964,0,{"$f":"$D$4*'SBUH Model'!B515","v":0},0,0,0,0,0,0,0,0,{"$error":"#DIV/0!"},{"$error":"#DIV/0!"},0,{"$error":"#DIV/0!"},{"$error":"#DIV/0!"}]
[2970,0,{"$f":"$D$4*'SBUH Model'!B516","v":0},0,0,0,0,0,0,0,0,{"$error":"#DIV/0!"},{"$error":"#DIV/0!"},0,{"$error":"#DIV/0!"},{"$error":"#DIV/0!"}]
[2976,0,{"$f":"$D$4*'SBUH Model'!B517","v":0},0,0,0,0,0,0,0,0,{"$error":"#DIV/0!"},{"$error":"#DIV/0!"},0,{"$error":"#DIV/0!"},{"$error":"#DIV/0!"}]
[2982,0,{"$f":"$D$4*'SBUH Model'!B518","v":0},0,0,0,0,0,0,0,0,{"$error":"#DIV/0!"},{"$error":"#DIV/0!"},0,{"$error":"#DIV/0!"},{"$error":"#DIV/0!"}]
[2988,0,{"$f":"$D$4*'SBUH Model'!B519","v":0},0,0,0,0,0,0,0,0,{"$error":"#DIV/0!"},{"$error":"#DIV/0!"},0,{"$error":"#DIV/0!"},{"$error":"#DIV/0!"}]
[2994,0,{"$f":"$D$4*'SBUH Model'!B520","v":0},0,0,0,0,0,0,0,0,{"$error":"#DIV/0!"},{"$error":"#DIV/0!"},0,{"$error":"#DIV/0!"},{"$error":"#DIV/0!"}]
[3000,0,{"$f":"$D$4*'SBUH Model'!B521","v":0},0,0,0,0,0,0,0,0,{"$error":"#DIV/0!"},{"$error":"#DIV/0!"},0,{"$error":"#DIV/0!"},{"$error":"#DIV/0!"}]
[3006,0,{"$f":"$D$4*'SBUH Model'!B522","v":0},0,0,0,0,0,0,0,0,{"$error":"#DIV/0!"},{"$error":"#DIV/0!"},0,{"$error":"#DIV/0!"},{"$error":"#DIV/0!"}]
[3012,0,{"$f":"$D$4*'SBUH Model'!B523","v":0},0,0,0,0,0,0,0,0,{"$error":"#DIV/0!"},{"$error":"#DIV/0!"},0,{"$error":"#DIV/0!"},{"$error":"#DIV/0!"}]
[3018,0,{"$f":"$D$4*'SBUH Model'!B524","v":0},0,0,0,0,0,0,0,0,{"$error":"#DIV/0!"},{"$error":"#DIV/0!"},0,{"$error":"#DIV/0!"},{"$error":"#DIV/0!"}]
[3024,0,{"$f":"$D$4*'SBUH Model'!B525","v":0},0,0,0,0,0,0,0,0,{"$error":"#DIV/0!"},{"$error":"#DIV/0!"},0,{"$error":"#DIV/0!"},{"$error":"#DIV/0!"}]
[3030,0,{"$f":"$D$4*'SBUH Model'!B526","v":0},0,0,0,0,0,0,0,0,{"$error":"#DIV/0!"},{"$error":"#DIV/0!"},0,{"$error":"#DIV/0!"},{"$error":"#DIV/0!"}]
[3036,0,{"$f":"$D$4*'SBUH Model'!B527","v":0},0,0,0,0,0,0,0,0,{"$error":"#DIV/0!"},{"$error":"#DIV/0!"},0,{"$error":"#DIV/0!"},{"$error":"#DIV/0!"}]
[3042,0,{"$f":"$D$4*'SBUH Model'!B528","v":0},0,0,0,0,0,0,0,0,{"$error":"#DIV/0!"},{"$error":"#DIV/0!"},0,{"$error":"#DIV/0!"},{"$error":"#DIV/0!"}]
[3048,0,{"$f":"$D$4*'SBUH Model'!B529","v":0},0,0,0,0,0,0,0,0,{"$error":"#DIV/0!"},{"$error":"#DIV/0!"},0,{"$error":"#DIV/0!"},{"$error":"#DIV/0!"}]
[3054,0,{"$f":"$D$4*'SBUH Model'!B530","v":0},0,0,0,0,0,0,0,0,{"$error":"#DIV/0!"},{"$error":"#DIV/0!"},0,{"$error":"#DIV/0!"},{"$error":"#DIV/0!"}]
[3060,0,{"$f":"$D$4*'SBUH Model'!B531","v":0},0,0,0,0,0,0,0,0,{"$error":"#DIV/0!"},{"$error":"#DIV/0!"},0,{"$error":"#DIV/0!"},{"$error":"#DIV/0!"}]
[3066,0,{"$f":"$D$4*'SBUH Model'!B532","v":0},0,0,0,0,0,0,0,0,{"$error":"#DIV/0!"},{"$error":"#DIV/0!"},0,{"$error":"#DIV/0!"},{"$error":"#DIV/0!"}]
[3072,0,{"$f":"$D$4*'SBUH Model'!B533","v":0},0,0,0,0,0,0,0,0,{"$error":"#DIV/0!"},{"$f":"L533*($D$5*60)","v":{"$error":"#DIV/0!"}},{"$f":"(C533/12)*O$4","v":0},{"$error":"#DIV/0!"},{"$error":"#DIV/0!"}]
[3078,0,{"$f":"$D$4*'SBUH Model'!B534","v":0},{"$f":"C534+D533","v":0},{"$f":"IF(D534<0.2*F$8,0,(D534-0.2*F$8)^2/(D534+0.8*F$8))","v":0},0,{"$f":"IF(D534<0.2*F$11,0,(D534-0.2*F$11)^2/(D534+0.8*F$11))","v":0},0,{"$f":"IF(D534<0.2*F$12,0,(D534-0.2*F$12)^2/(D534+0.8*F$12))","v":0},0,{"$f":"((F534/12)*SUMPRODUCT(D$8:D$10,G$8:G$10)+(H534/12)*D$11+(J534/12)*D$12)/($D$5*60)","v":0},{"$error":"#DIV/0!"},{"$error":"#DIV/0!"},0,{"$f":"-MIN(O$9*D$5*60,SUM(M534,N534,P533))","v":{"$error":"#DIV/0!"}},{"$error":"#DIV/0!"}]
[{"$f":"A534+6","v":3084},0,{"$f":"$D$4*'SBUH Model'!B535","v":0},0,0,{"$f":"MAX(0,E535-E534)","v":0},0,0,0,0,0,{"$f":"MAX(0,L534+(D$5/(2*D$16+D$5))*(K534+K535-2*L534))","v":{"$error":"#DIV/0!"}},{"$error":"#DIV/0!"},0,{"$error":"#DIV/0!"},{"$f":"P534+SUM(M535:O535)","v":{"$error":"#DIV/0!"}}]
[3090,0,{"$f":"$D$4*'SBUH Model'!B536","v":0},0,0,0,0,0,0,0,0,{"$error":"#DIV/0!"},{"$error":"#DIV/0!"},0,{"$error":"#DIV/0!"},{"$error":"#DIV/0!"}]
[3096,0,{"$f":"$D$4*'SBUH Model'!B537","v":0},0,0,0,0,0,0,0,0,{"$error":"#DIV/0!"},{"$error":"#DIV/0!"},0,{"$error":"#DIV/0!"},{"$error":"#DIV/0!"}]
[3102,0,{"$f":"$D$4*'SBUH Model'!B538","v":0},0,0,0,0,0,0,0,0,{"$error":"#DIV/0!"},{"$error":"#DIV/0!"},0,{"$error":"#DIV/0!"},{"$error":"#DIV/0!"}]
[3108,0,{"$f":"$D$4*'SBUH Model'!B539","v":0},0,0,0,0,0,0,0,0,{"$error":"#DIV/0!"},{"$error":"#DIV/0!"},0,{"$error":"#DIV/0!"},{"$error":"#DIV/0!"}]
[3114,0,{"$f":"$D$4*'SBUH Model'!B540","v":0},0,0,0,0,0,0,0,0,{"$error":"#DIV/0!"},{"$error":"#DIV/0!"},0,{"$error":"#DIV/0!"},{"$error":"#DIV/0!"}]
[3120,0,{"$f":"$D$4*'SBUH Model'!B541","v":0},0,0,0,0,0,0,0,0,{"$error":"#DIV/0!"},{"$error":"#DIV/0!"},0,{"$error":"#DIV/0!"},{"$error":"#DIV/0!"}]
[3126,0,{"$f":"$D$4*'SBUH Model'!B542","v":0},0,0,0,0,0,0,0,0,{"$error":"#DIV/0!"},{"$error":"#DIV/0!"},0,{"$error":"#DIV/0!"},{"$error":"#DIV/0!"}]
[3132,0,{"$f":"$D$4*'SBUH Model'!B543","v":0},0,0,0,0,0,0,0,0,{"$error":"#DIV/0!"},{"$error":"#DIV/0!"},0,{"$error":"#DIV/0!"},{"$error":"#DIV/0!"}]
[3138,0,{"$f":"$D$4*'SBUH Model'!B544","v":0},0,0,0,0,0,0,0,0,{"$error":"#DIV/0!"},{"$error":"#DIV/0!"},0,{"$error":"#DIV/0!"},{"$error":"#DIV/0!"}]
[3144,0,{"$f":"$D$4*'SBUH Model'!B545","v":0},0,0,0,0,0,0,0,0,{"$error":"#DIV/0!"},{"$error":"#DIV/0!"},0,{"$error":"#DIV/0!"},{"$error":"#DIV/0!"}]
[3150,0,{"$f":"$D$4*'SBUH Model'!B546","v":0},0,0,0,0,0,0,0,0,{"$error":"#DIV/0!"},{"$error":"#DIV/0!"},0,{"$error":"#DIV/0!"},{"$error":"#DIV/0!"}]
[3156,0,{"$f":"$D$4*'SBUH Model'!B547","v":0},0,0,0,0,0,0,0,0,{"$error":"#DIV/0!"},{"$error":"#DIV/0!"},0,{"$error":"#DIV/0!"},{"$error":"#DIV/0!"}]
[3162,0,{"$f":"$D$4*'SBUH Model'!B548","v":0},0,0,0,0,0,0,0,0,{"$error":"#DIV/0!"},{"$error":"#DIV/0!"},0,{"$error":"#DIV/0!"},{"$error":"#DIV/0!"}]
[3168,0,{"$f":"$D$4*'SBUH Model'!B549","v":0},0,0,0,0,0,0,0,0,{"$error":"#DIV/0!"},{"$error":"#DIV/0!"},0,{"$error":"#DIV/0!"},{"$error":"#DIV/0!"}]
[3174,0,{"$f":"$D$4*'SBUH Model'!B550","v":0},0,0,0,0,0,0,0,0,{"$error":"#DIV/0!"},{"$error":"#DIV/0!"},0,{"$error":"#DIV/0!"},{"$error":"#DIV/0!"}]
[3180,0,{"$f":"$D$4*'SBUH Model'!B551","v":0},0,0,0,0,0,0,0,0,{"$error":"#DIV/0!"},{"$error":"#DIV/0!"},0,{"$error":"#DIV/0!"},{"$error":"#DIV/0!"}]
[3186,0,{"$f":"$D$4*'SBUH Model'!B552","v":0},0,0,0,0,0,0,0,0,{"$error":"#DIV/0!"},{"$error":"#DIV/0!"},0,{"$error":"#DIV/0!"},{"$error":"#DIV/0!"}]
[3192,0,{"$f":"$D$4*'SBUH Model'!B553","v":0},0,0,0,0,0,0,0,0,{"$error":"#DIV/0!"},{"$error":"#DIV/0!"},0,{"$error":"#DIV/0!"},{"$error":"#DIV/0!"}]
[3198,0,{"$f":"$D$4*'SBUH Model'!B554","v":0},0,0,0,0,0,0,0,0,{"$error":"#DIV/0!"},{"$error":"#DIV/0!"},0,{"$error":"#DIV/0!"},{"$error":"#DIV/0!"}]
[3204,0,{"$f":"$D$4*'SBUH Model'!B555","v":0},0,0,0,0,0,0,0,0,{"$error":"#DIV/0!"},{"$error":"#DIV/0!"},0,{"$error":"#DIV/0!"},{"$error":"#DIV/0!"}]
[3210,0,{"$f":"$D$4*'SBUH Model'!B556","v":0},0,0,0,0,0,0,0,0,{"$error":"#DIV/0!"},{"$error":"#DIV/0!"},0,{"$error":"#DIV/0!"},{"$error":"#DIV/0!"}]
[3216,0,{"$f":"$D$4*'SBUH Model'!B557","v":0},0,0,0,0,0,0,0,0,{"$error":"#DIV/0!"},{"$error":"#DIV/0!"},0,{"$error":"#DIV/0!"},{"$error":"#DIV/0!"}]
[3222,0,{"$f":"$D$4*'SBUH Model'!B558","v":0},0,0,0,0,0,0,0,0,{"$error":"#DIV/0!"},{"$error":"#DIV/0!"},0,{"$error":"#DIV/0!"},{"$error":"#DIV/0!"}]
[3228,0,{"$f":"$D$4*'SBUH Model'!B559","v":0},0,0,0,0,0,0,0,0,{"$error":"#DIV/0!"},{"$error":"#DIV/0!"},0,{"$error":"#DIV/0!"},{"$error":"#DIV/0!"}]
[3234,0,{"$f":"$D$4*'SBUH Model'!B560","v":0},0,0,0,0,0,0,0,0,{"$error":"#DIV/0!"},{"$error":"#DIV/0!"},0,{"$error":"#DIV/0!"},{"$error":"#DIV/0!"}]
[3240,0,{"$f":"$D$4*'SBUH Model'!B561","v":0},0,0,0,0,0,0,0,0,{"$error":"#DIV/0!"},{"$error":"#DIV/0!"},0,{"$error":"#DIV/0!"},{"$error":"#DIV/0!"}]
[3246,0,{"$f":"$D$4*'SBUH Model'!B562","v":0},0,0,0,0,0,0,0,0,{"$error":"#DIV/0!"},{"$error":"#DIV/0!"},0,{"$error":"#DIV/0!"},{"$error":"#DIV/0!"}]
[3252,0,{"$f":"$D$4*'SBUH Model'!B563","v":0},0,0,0,0,0,0,0,0,{"$error":"#DIV/0!"},{"$error":"#DIV/0!"},0,{"$error":"#DIV/0!"},{"$error":"#DIV/0!"}]
[3258,0,{"$f":"$D$4*'SBUH Model'!B564","v":0},0,0,0,0,0,0,0,0,{"$error":"#DIV/0!"},{"$error":"#DIV/0!"},0,{"$error":"#DIV/0!"},{"$error":"#DIV/0!"}]
[3264,0,{"$f":"$D$4*'SBUH Model'!B565","v":0},0,0,0,0,0,0,0,0,{"$error":"#DIV/0!"},{"$error":"#DIV/0!"},0,{"$error":"#DIV/0!"},{"$error":"#DIV/0!"}]
[3270,0,{"$f":"$D$4*'SBUH Model'!B566","v":0},0,0,0,0,0,0,0,0,{"$error":"#DIV/0!"},{"$error":"#DIV/0!"},0,{"$error":"#DIV/0!"},{"$error":"#DIV/0!"}]
[3276,0,{"$f":"$D$4*'SBUH Model'!B567","v":0},0,0,0,0,0,0,0,0,{"$error":"#DIV/0!"},{"$error":"#DIV/0!"},0,{"$error":"#DIV/0!"},{"$error":"#DIV/0!"}]
[3282,0,{"$f":"$D$4*'SBUH Model'!B568","v":0},0,0,0,0,0,0,0,0,{"$error":"#DIV/0!"},{"$error":"#DIV/0!"},0,{"$error":"#DIV/0!"},{"$error":"#DIV/0!"}]
[3288,0,{"$f":"$D$4*'SBUH Model'!B569","v":0},0,0,0,0,0,0,0,0,{"$error":"#DIV/0!"},{"$error":"#DIV/0!"},0,{"$error":"#DIV/0!"},{"$error":"#DIV/0!"}]
[3294,0,{"$f":"$D$4*'SBUH Model'!B570","v":0},0,0,0,0,0,0,0,0,{"$error":"#DIV/0!"},{"$error":"#DIV/0!"},0,{"$error":"#DIV/0!"},{"$error":"#DIV/0!"}]
[3300,0,{"$f":"$D$4*'SBUH Model'!B571","v":0},0,0,0,0,0,0,0,0,{"$error":"#DIV/0!"},{"$error":"#DIV/0!"},0,{"$error":"#DIV/0!"},{"$error":"#DIV/0!"}]
[3306,0,{"$f":"$D$4*'SBUH Model'!B572","v":0},0,0,0,0,0,0,0,0,{"$error":"#DIV/0!"},{"$error":"#DIV/0!"},0,{"$error":"#DIV/0!"},{"$error":"#DIV/0!"}]
[3312,0,{"$f":"$D$4*'SBUH Model'!B573","v":0},0,0,0,0,0,0,0,0,{"$error":"#DIV/0!"},{"$error":"#DIV/0!"},0,{"$error":"#DIV/0!"},{"$error":"#DIV/0!"}]
[3318,0,{"$f":"$D$4*'SBUH Model'!B574","v":0},0,0,0,0,0,0,0,0,{"$error":"#DIV/0!"},{"$error":"#DIV/0!"},0,{"$error":"#DIV/0!"},{"$error":"#DIV/0!"}]
[3324,0,{"$f":"$D$4*'SBUH Model'!B575","v":0},0,0,0,0,0,0,0,0,{"$error":"#DIV/0!"},{"$error":"#DIV/0!"},0,{"$error":"#DIV/0!"},{"$error":"#DIV/0!"}]
[3330,0,{"$f":"$D$4*'SBUH Model'!B576","v":0},0,0,0,0,0,0,0,0,{"$error":"#DIV/0!"},{"$error":"#DIV/0!"},0,{"$error":"#DIV/0!"},{"$error":"#DIV/0!"}]
[3336,0,{"$f":"$D$4*'SBUH Model'!B577","v":0},0,0,0,0,0,0,0,0,{"$error":"#DIV/0!"},{"$error":"#DIV/0!"},0,{"$error":"#DIV/0!"},{"$error":"#DIV/0!"}]
[3342,0,{"$f":"$D$4*'SBUH Model'!B578","v":0},0,0,0,0,0,0,0,0,{"$error":"#DIV/0!"},{"$error":"#DIV/0!"},0,{"$error":"#DIV/0!"},{"$error":"#DIV/0!"}]
[3348,0,{"$f":"$D$4*'SBUH Model'!B579","v":0},0,0,0,0,0,0,0,0,{"$error":"#DIV/0!"},{"$error":"#DIV/0!"},0,{"$error":"#DIV/0!"},{"$error":"#DIV/0!"}]
[3354,0,{"$f":"$D$4*'SBUH Model'!B580","v":0},0,0,0,0,0,0,0,0,{"$error":"#DIV/0!"},{"$error":"#DIV/0!"},0,{"$error":"#DIV/0!"},{"$error":"#DIV/0!"}]
[3360,0,{"$f":"$D$4*'SBUH Model'!B581","v":0},0,0,0,0,0,0,0,0,{"$error":"#DIV/0!"},{"$error":"#DIV/0!"},0,{"$error":"#DIV/0!"},{"$error":"#DIV/0!"}]
[3366,0,{"$f":"$D$4*'SBUH Model'!B582","v":0},0,0,0,0,0,0,0,0,{"$error":"#DIV/0!"},{"$error":"#DIV/0!"},0,{"$error":"#DIV/0!"},{"$error":"#DIV/0!"}]
[3372,0,{"$f":"$D$4*'SBUH Model'!B583","v":0},0,0,0,0,0,0,0,0,{"$error":"#DIV/0!"},{"$error":"#DIV/0!"},0,{"$error":"#DIV/0!"},{"$error":"#DIV/0!"}]
[3378,0,{"$f":"$D$4*'SBUH Model'!B584","v":0},0,0,0,0,0,0,0,0,{"$error":"#DIV/0!"},{"$error":"#DIV/0!"},0,{"$error":"#DIV/0!"},{"$error":"#DIV/0!"}]
[3384,0,{"$f":"$D$4*'SBUH Model'!B585","v":0},0,0,0,0,0,0,0,0,{"$error":"#DIV/0!"},{"$error":"#DIV/0!"},0,{"$error":"#DIV/0!"},{"$error":"#DIV/0!"}]
[3390,0,{"$f":"$D$4*'SBUH Model'!B586","v":0},0,0,0,0,0,0,0,0,{"$error":"#DIV/0!"},{"$error":"#DIV/0!"},0,{"$error":"#DIV/0!"},{"$error":"#DIV/0!"}]
[3396,0,{"$f":"$D$4*'SBUH Model'!B587","v":0},0,0,0,0,0,0,0,0,{"$error":"#DIV/0!"},{"$error":"#DIV/0!"},0,{"$error":"#DIV/0!"},{"$error":"#DIV/0!"}]
[3402,0,{"$f":"$D$4*'SBUH Model'!B588","v":0},0,0,0,0,0,0,0,0,{"$error":"#DIV/0!"},{"$error":"#DIV/0!"},0,{"$error":"#DIV/0!"},{"$error":"#DIV/0!"}]
[3408,0,{"$f":"$D$4*'SBUH Model'!B589","v":0},0,0,0,0,0,0,0,0,{"$error":"#DIV/0!"},{"$error":"#DIV/0!"},0,{"$error":"#DIV/0!"},{"$error":"#DIV/0!"}]
[3414,0,{"$f":"$D$4*'SBUH Model'!B590","v":0},0,0,0,0,0,0,0,0,{"$error":"#DIV/0!"},{"$error":"#DIV/0!"},0,{"$error":"#DIV/0!"},{"$error":"#DIV/0!"}]
[3420,0,{"$f":"$D$4*'SBUH Model'!B591","v":0},0,0,0,0,0,0,0,0,{"$error":"#DIV/0!"},{"$error":"#DIV/0!"},0,{"$error":"#DIV/0!"},{"$error":"#DIV/0!"}]
[3426,0,{"$f":"$D$4*'SBUH Model'!B592","v":0},0,0,0,0,0,0,0,0,{"$error":"#DIV/0!"},{"$error":"#DIV/0!"},0,{"$error":"#DIV/0!"},{"$error":"#DIV/0!"}]
[3432,0,{"$f":"$D$4*'SBUH Model'!B593","v":0},0,0,0,0,0,0,0,0,{"$error":"#DIV/0!"},{"$error":"#DIV/0!"},0,{"$error":"#DIV/0!"},{"$error":"#DIV/0!"}]
[3438,0,{"$f":"$D$4*'SBUH Model'!B594","v":0},0,0,0,0,0,0,0,0,{"$error":"#DIV/0!"},{"$error":"#DIV/0!"},0,{"$error":"#DIV/0!"},{"$error":"#DIV/0!"}]
[3444,0,{"$f":"$D$4*'SBUH Model'!B595","v":0},0,0,0,0,0,0,0,0,{"$error":"#DIV/0!"},{"$error":"#DIV/0!"},0,{"$error":"#DIV/0!"},{"$error":"#DIV/0!"}]
[3450,0,{"$f":"$D$4*'SBUH Model'!B596","v":0},0,0,0,0,0,0,0,0,{"$error":"#DIV/0!"},{"$error":"#DIV/0!"},0,{"$error":"#DIV/0!"},{"$error":"#DIV/0!"}]
[3456,0,{"$f":"$D$4*'SBUH Model'!B597","v":0},0,0,0,0,0,0,0,0,{"$error":"#DIV/0!"},{"$f":"L597*($D$5*60)","v":{"$error":"#DIV/0!"}},{"$f":"(C597/12)*O$4","v":0},{"$error":"#DIV/0!"},{"$error":"#DIV/0!"}]
[3462,0,{"$f":"$D$4*'SBUH Model'!B598","v":0},{"$f":"C598+D597","v":0},{"$f":"IF(D598<0.2*F$8,0,(D598-0.2*F$8)^2/(D598+0.8*F$8))","v":0},0,{"$f":"IF(D598<0.2*F$11,0,(D598-0.2*F$11)^2/(D598+0.8*F$11))","v":0},0,{"$f":"IF(D598<0.2*F$12,0,(D598-0.2*F$12)^2/(D598+0.8*F$12))","v":0},0,{"$f":"((F598/12)*SUMPRODUCT(D$8:D$10,G$8:G$10)+(H598/12)*D$11+(J598/12)*D$12)/($D$5*60)","v":0},{"$error":"#DIV/0!"},{"$error":"#DIV/0!"},0,{"$f":"-MIN(O$9*D$5*60,SUM(M598,N598,P597))","v":{"$error":"#DIV/0!"}},{"$error":"#DIV/0!"}]
[{"$f":"A598+6","v":3468},0,{"$f":"$D$4*'SBUH Model'!B599","v":0},0,0,{"$f":"MAX(0,E599-E598)","v":0},0,0,0,0,0,{"$f":"MAX(0,L598+(D$5/(2*D$16+D$5))*(K598+K599-2*L598))","v":{"$error":"#DIV/0!"}},{"$error":"#DIV/0!"},0,{"$error":"#DIV/0!"},{"$f":"P598+SUM(M599:O599)","v":{"$error":"#DIV/0!"}}]
[3474,0,{"$f":"$D$4*'SBUH Model'!B600","v":0},0,0,0,0,0,0,0,0,{"$error":"#DIV/0!"},{"$error":"#DIV/0!"},0,{"$error":"#DIV/0!"},{"$error":"#DIV/0!"}]
[3480,0,{"$f":"$D$4*'SBUH Model'!B601","v":0},0,0,0,0,0,0,0,0,{"$error":"#DIV/0!"},{"$error":"#DIV/0!"},0,{"$error":"#DIV/0!"},{"$error":"#DIV/0!"}]
[3486,0,{"$f":"$D$4*'SBUH Model'!B602","v":0},0,0,0,0,0,0,0,0,{"$error":"#DIV/0!"},{"$error":"#DIV/0!"},0,{"$error":"#DIV/0!"},{"$error":"#DIV/0!"}]
[3492,0,{"$f":"$D$4*'SBUH Model'!B603","v":0},0,0,0,0,0,0,0,0,{"$error":"#DIV/0!"},{"$error":"#DIV/0!"},0,{"$error":"#DIV/0!"},{"$error":"#DIV/0!"}]
[3498,0,{"$f":"$D$4*'SBUH Model'!B604","v":0},0,0,0,0,0,0,0,0,{"$error":"#DIV/0!"},{"$error":"#DIV/0!"},0,{"$error":"#DIV/0!"},{"$error":"#DIV/0!"}]
[3504,0,{"$f":"$D$4*'SBUH Model'!B605","v":0},0,0,0,0,0,0,0,0,{"$error":"#DIV/0!"},{"$error":"#DIV/0!"},0,{"$error":"#DIV/0!"},{"$error":"#DIV/0!"}]
[3510,0,{"$f":"$D$4*'SBUH Model'!B606","v":0},0,0,0,0,0,0,0,0,{"$error":"#DIV/0!"},{"$error":"#DIV/0!"},0,{"$error":"#DIV/0!"},{"$error":"#DIV/0!"}]
[3516,0,{"$f":"$D$4*'SBUH Model'!B607","v":0},0,0,0,0,0,0,0,0,{"$error":"#DIV/0!"},{"$error":"#DIV/0!"},0,{"$error":"#DIV/0!"},{"$error":"#DIV/0!"}]
[3522,0,{"$f":"$D$4*'SBUH Model'!B608","v":0},0,0,0,0,0,0,0,0,{"$error":"#DIV/0!"},{"$error":"#DIV/0!"},0,{"$error":"#DIV/0!"},{"$error":"#DIV/0!"}]
[3528,0,{"$f":"$D$4*'SBUH Model'!B609","v":0},0,0,0,0,0,0,0,0,{"$error":"#DIV/0!"},{"$error":"#DIV/0!"},0,{"$error":"#DIV/0!"},{"$error":"#DIV/0!"}]
[3534,0,{"$f":"$D$4*'SBUH Model'!B610","v":0},0,0,0,0,0,0,0,0,{"$error":"#DIV/0!"},{"$error":"#DIV/0!"},0,{"$error":"#DIV/0!"},{"$error":"#DIV/0!"}]
[3540,0,{"$f":"$D$4*'SBUH Model'!B611","v":0},0,0,0,0,0,0,0,0,{"$error":"#DIV/0!"},{"$error":"#DIV/0!"},0,{"$error":"#DIV/0!"},{"$error":"#DIV/0!"}]
[3546,0,{"$f":"$D$4*'SBUH Model'!B612","v":0},0,0,0,0,0,0,0,0,{"$error":"#DIV/0!"},{"$error":"#DIV/0!"},0,{"$error":"#DIV/0!"},{"$error":"#DIV/0!"}]
[3552,0,{"$f":"$D$4*'SBUH Model'!B613","v":0},0,0,0,0,0,0,0,0,{"$error":"#DIV/0!"},{"$error":"#DIV/0!"},0,{"$error":"#DIV/0!"},{"$error":"#DIV/0!"}]
[3558,0,{"$f":"$D$4*'SBUH Model'!B614","v":0},0,0,0,0,0,0,0,0,{"$error":"#DIV/0!"},{"$error":"#DIV/0!"},0,{"$error":"#DIV/0!"},{"$error":"#DIV/0!"}]
[3564,0,{"$f":"$D$4*'SBUH Model'!B615","v":0},0,0,0,0,0,0,0,0,{"$error":"#DIV/0!"},{"$error":"#DIV/0!"},0,{"$error":"#DIV/0!"},{"$error":"#DIV/0!"}]
[3570,0,{"$f":"$D$4*'SBUH Model'!B616","v":0},0,0,0,0,0,0,0,0,{"$error":"#DIV/0!"},{"$error":"#DIV/0!"},0,{"$error":"#DIV/0!"},{"$error":"#DIV/0!"}]
[3576,0,{"$f":"$D$4*'SBUH Model'!B617","v":0},0,0,0,0,0,0,0,0,{"$error":"#DIV/0!"},{"$error":"#DIV/0!"},0,{"$error":"#DIV/0!"},{"$error":"#DIV/0!"}]
[3582,0,{"$f":"$D$4*'SBUH Model'!B618","v":0},0,0,0,0,0,0,0,0,{"$error":"#DIV/0!"},{"$error":"#DIV/0!"},0,{"$error":"#DIV/0!"},{"$error":"#DIV/0!"}]
[3588,0,{"$f":"$D$4*'SBUH Model'!B619","v":0},0,0,0,0,0,0,0,0,{"$error":"#DIV/0!"},{"$error":"#DIV/0!"},0,{"$error":"#DIV/0!"},{"$error":"#DIV/0!"}]
[3594,0,{"$f":"$D$4*'SBUH Model'!B620","v":0},0,0,0,0,0,0,0,0,{"$error":"#DIV/0!"},{"$error":"#DIV/0!"},0,{"$error":"#DIV/0!"},{"$error":"#DIV/0!"}]
[3600,0,{"$f":"$D$4*'SBUH Model'!B621","v":0},0,0,0,0,0,0,0,0,{"$error":"#DIV/0!"},{"$error":"#DIV/0!"},0,{"$error":"#DIV/0!"},{"$error":"#DIV/0!"}]
[3606,0,{"$f":"$D$4*'SBUH Model'!B622","v":0},0,0,0,0,0,0,0,0,{"$error":"#DIV/0!"},{"$error":"#DIV/0!"},0,{"$error":"#DIV/0!"},{"$error":"#DIV/0!"}]
[3612,0,{"$f":"$D$4*'SBUH Model'!B623","v":0},0,0,0,0,0,0,0,0,{"$error":"#DIV/0!"},{"$error":"#DIV/0!"},0,{"$error":"#DIV/0!"},{"$error":"#DIV/0!"}]
[3618,0,{"$f":"$D$4*'SBUH Model'!B624","v":0},0,0,0,0,0,0,0,0,{"$error":"#DIV/0!"},{"$error":"#DIV/0!"},0,{"$error":"#DIV/0!"},{"$error":"#DIV/0!"}]
[3624,0,{"$f":"$D$4*'SBUH Model'!B625","v":0},0,0,0,0,0,0,0,0,{"$error":"#DIV/0!"},{"$error":"#DIV/0!"},0,{"$error":"#DIV/0!"},{"$error":"#DIV/0!"}]
[3630,0,{"$f":"$D$4*'SBUH Model'!B626","v":0},0,0,0,0,0,0,0,0,{"$error":"#DIV/0!"},{"$error":"#DIV/0!"},0,{"$error":"#DIV/0!"},{"$error":"#DIV/0!"}]
[3636,0,{"$f":"$D$4*'SBUH Model'!B627","v":0},0,0,0,0,0,0,0,0,{"$error":"#DIV/0!"},{"$error":"#DIV/0!"},0,{"$error":"#DIV/0!"},{"$error":"#DIV/0!"}]
[3642,0,{"$f":"$D$4*'SBUH Model'!B628","v":0},0,0,0,0,0,0,0,0,{"$error":"#DIV/0!"},{"$error":"#DIV/0!"},0,{"$error":"#DIV/0!"},{"$error":"#DIV/0!"}]
[3648,0,{"$f":"$D$4*'SBUH Model'!B629","v":0},0,0,0,0,0,0,0,0,{"$error":"#DIV/0!"},{"$error":"#DIV/0!"},0,{"$error":"#DIV/0!"},{"$error":"#DIV/0!"}]
[3654,0,{"$f":"$D$4*'SBUH Model'!B630","v":0},0,0,0,0,0,0,0,0,{"$error":"#DIV/0!"},{"$error":"#DIV/0!"},0,{"$error":"#DIV/0!"},{"$error":"#DIV/0!"}]
[3660,0,{"$f":"$D$4*'SBUH Model'!B631","v":0},0,0,0,0,0,0,0,0,{"$error":"#DIV/0!"},{"$error":"#DIV/0!"},0,{"$error":"#DIV/0!"},{"$error":"#DIV/0!"}]
[3666,0,{"$f":"$D$4*'SBUH Model'!B632","v":0},0,0,0,0,0,0,0,0,{"$error":"#DIV/0!"},{"$error":"#DIV/0!"},0,{"$error":"#DIV/0!"},{"$error":"#DIV/0!"}]
[3672,0,{"$f":"$D$4*'SBUH Model'!B633","v":0},0,0,0,0,0,0,0,0,{"$error":"#DIV/0!"},{"$error":"#DIV/0!"},0,{"$error":"#DIV/0!"},{"$error":"#DIV/0!"}]
[3678,0,{"$f":"$D$4*'SBUH Model'!B634","v":0},0,0,0,0,0,0,0,0,{"$error":"#DIV/0!"},{"$error":"#DIV/0!"},0,{"$error":"#DIV/0!"},{"$error":"#DIV/0!"}]
[3684,0,{"$f":"$D$4*'SBUH Model'!B635","v":0},0,0,0,0,0,0,0,0,{"$error":"#DIV/0!"},{"$error":"#DIV/0!"},0,{"$error":"#DIV/0!"},{"$error":"#DIV/0!"}]
[3690,0,{"$f":"$D$4*'SBUH Model'!B636","v":0},0,0,0,0,0,0,0,0,{"$error":"#DIV/0!"},{"$error":"#DIV/0!"},0,{"$error":"#DIV/0!"},{"$error":"#DIV/0!"}]
[3696,0,{"$f":"$D$4*'SBUH Model'!B637","v":0},0,0,0,0,0,0,0,0,{"$error":"#DIV/0!"},{"$error":"#DIV/0!"},0,{"$error":"#DIV/0!"},{"$error":"#DIV/0!"}]
[3702,0,{"$f":"$D$4*'SBUH Model'!B638","v":0},0,0,0,0,0,0,0,0,{"$error":"#DIV/0!"},{"$error":"#DIV/0!"},0,{"$error":"#DIV/0!"},{"$error":"#DIV/0!"}]
[3708,0,{"$f":"$D$4*'SBUH Model'!B639","v":0},0,0,0,0,0,0,0,0,{"$error":"#DIV/0!"},{"$error":"#DIV/0!"},0,{"$error":"#DIV/0!"},{"$error":"#DIV/0!"}]
[3714,0,{"$f":"$D$4*'SBUH Model'!B640","v":0},0,0,0,0,0,0,0,0,{"$error":"#DIV/0!"},{"$error":"#DIV/0!"},0,{"$error":"#DIV/0!"},{"$error":"#DIV/0!"}]
[3720,0,{"$f":"$D$4*'SBUH Model'!B641","v":0},0,0,0,0,0,0,0,0,{"$error":"#DIV/0!"},{"$error":"#DIV/0!"},0,{"$error":"#DIV/0!"},{"$error":"#DIV/0!"}]
[3726,0,{"$f":"$D$4*'SBUH Model'!B642","v":0},0,0,0,0,0,0,0,0,{"$error":"#DIV/0!"},{"$error":"#DIV/0!"},0,{"$error":"#DIV/0!"},{"$error":"#DIV/0!"}]
[3732,0,{"$f":"$D$4*'SBUH Model'!B643","v":0},0,0,0,0,0,0,0,0,{"$error":"#DIV/0!"},{"$error":"#DIV/0!"},0,{"$error":"#DIV/0!"},{"$error":"#DIV/0!"}]
[3738,0,{"$f":"$D$4*'SBUH Model'!B644","v":0},0,0,0,0,0,0,0,0,{"$error":"#DIV/0!"},{"$error":"#DIV/0!"},0,{"$error":"#DIV/0!"},{"$error":"#DIV/0!"}]
[3744,0,{"$f":"$D$4*'SBUH Model'!B645","v":0},0,0,0,0,0,0,0,0,{"$error":"#DIV/0!"},{"$error":"#DIV/0!"},0,{"$error":"#DIV/0!"},{"$error":"#DIV/0!"}]
[3750,0,{"$f":"$D$4*'SBUH Model'!B646","v":0},0,0,0,0,0,0,0,0,{"$error":"#DIV/0!"},{"$error":"#DIV/0!"},0,{"$error":"#DIV/0!"},{"$error":"#DIV/0!"}]
[3756,0,{"$f":"$D$4*'SBUH Model'!B647","v":0},0,0,0,0,0,0,0,0,{"$error":"#DIV/0!"},{"$error":"#DIV/0!"},0,{"$error":"#DIV/0!"},{"$error":"#DIV/0!"}]
[3762,0,{"$f":"$D$4*'SBUH Model'!B648","v":0},0,0,0,0,0,0,0,0,{"$error":"#DIV/0!"},{"$error":"#DIV/0!"},0,{"$error":"#DIV/0!"},{"$error":"#DIV/0!"}]
[3768,0,{"$f":"$D$4*'SBUH Model'!B649","v":0},0,0,0,0,0,0,0,0,{"$error":"#DIV/0!"},{"$error":"#DIV/0!"},0,{"$error":"#DIV/0!"},{"$error":"#DIV/0!"}]
[3774,0,{"$f":"$D$4*'SBUH Model'!B650","v":0},0,0,0,0,0,0,0,0,{"$error":"#DIV/0!"},{"$error":"#DIV/0!"},0,{"$error":"#DIV/0!"},{"$error":"#DIV/0!"}]
[3780,0,{"$f":"$D$4*'SBUH Model'!B651","v":0},0,0,0,0,0,0,0,0,{"$error":"#DIV/0!"},{"$error":"#DIV/0!"},0,{"$error":"#DIV/0!"},{"$error":"#DIV/0!"}]
[3786,0,{"$f":"$D$4*'SBUH Model'!B652","v":0},0,0,0,0,0,0,0,0,{"$error":"#DIV/0!"},{"$error":"#DIV/0!"},0,{"$error":"#DIV/0!"},{"$error":"#DIV/0!"}]
[3792,0,{"$f":"$D$4*'SBUH Model'!B653","v":0},0,0,0,0,0,0,0,0,{"$error":"#DIV/0!"},{"$error":"#DIV/0!"},0,{"$error":"#DIV/0!"},{"$error":"#DIV/0!"}]
[3798,0,{"$f":"$D$4*'SBUH Model'!B654","v":0},0,0,0,0,0,0,0,0,{"$error":"#DIV/0!"},{"$error":"#DIV/0!"},0,{"$error":"#DIV/0!"},{"$error":"#DIV/0!"}]
[3804,0,{"$f":"$D$4*'SBUH Model'!B655","v":0},0,0,0,0,0,0,0,0,{"$error":"#DIV/0!"},{"$error":"#DIV/0!"},0,{"$error":"#DIV/0!"},{"$error":"#DIV/0!"}]
[3810,0,{"$f":"$D$4*'SBUH Model'!B656","v":0},0,0,0,0,0,0,0,0,{"$error":"#DIV/0!"},{"$error":"#DIV/0!"},0,{"$error":"#DIV/0!"},{"$error":"#DIV/0!"}]
[3816,0,{"$f":"$D$4*'SBUH Model'!B657","v":0},0,0,0,0,0,0,0,0,{"$error":"#DIV/0!"},{"$error":"#DIV/0!"},0,{"$error":"#DIV/0!"},{"$error":"#DIV/0!"}]
[3822,0,{"$f":"$D$4*'SBUH Model'!B658","v":0},0,0,0,0,0,0,0,0,{"$error":"#DIV/0!"},{"$error":"#DIV/0!"},0,{"$error":"#DIV/0!"},{"$error":"#DIV/0!"}]
[3828,0,{"$f":"$D$4*'SBUH Model'!B659","v":0},0,0,0,0,0,0,0,0,{"$error":"#DIV/0!"},{"$error":"#DIV/0!"},0,{"$error":"#DIV/0!"},{"$error":"#DIV/0!"}]
[3834,0,{"$f":"$D$4*'SBUH Model'!B660","v":0},0,0,0,0,0,0,0,0,{"$error":"#DIV/0!"},{"$error":"#DIV/0!"},0,{"$error":"#DIV/0!"},{"$error":"#DIV/0!"}]
[3840,0,{"$f":"$D$4*'SBUH Model'!B661","v":0},0,0,0,0,0,0,0,0,{"$error":"#DIV/0!"},{"$f":"L661*($D$5*60)","v":{"$error":"#DIV/0!"}},{"$f":"(C661/12)*O$4","v":0},{"$error":"#DIV/0!"},{"$error":"#DIV/0!"}]
[3846,0,{"$f":"$D$4*'SBUH Model'!B662","v":0},{"$f":"C662+D661","v":0},{"$f":"IF(D662<0.2*F$8,0,(D662-0.2*F$8)^2/(D662+0.8*F$8))","v":0},0,{"$f":"IF(D662<0.2*F$11,0,(D662-0.2*F$11)^2/(D662+0.8*F$11))","v":0},0,{"$f":"IF(D662<0.2*F$12,0,(D662-0.2*F$12)^2/(D662+0.8*F$12))","v":0},0,{"$f":"((F662/12)*SUMPRODUCT(D$8:D$10,G$8:G$10)+(H662/12)*D$11+(J662/12)*D$12)/($D$5*60)","v":0},{"$error":"#DIV/0!"},{"$error":"#DIV/0!"},0,{"$f":"-MIN(O$9*D$5*60,SUM(M662,N662,P661))","v":{"$error":"#DIV/0!"}},{"$error":"#DIV/0!"}]
[{"$f":"A662+6","v":3852},0,{"$f":"$D$4*'SBUH Model'!B663","v":0},0,0,{"$f":"MAX(0,E663-E662)","v":0},0,0,0,0,0,{"$f":"MAX(0,L662+(D$5/(2*D$16+D$5))*(K662+K663-2*L662))","v":{"$error":"#DIV/0!"}},{"$error":"#DIV/0!"},0,{"$error":"#DIV/0!"},{"$f":"P662+SUM(M663:O663)","v":{"$error":"#DIV/0!"}}]
[3858,0,{"$f":"$D$4*'SBUH Model'!B664","v":0},0,0,0,0,0,0,0,0,{"$error":"#DIV/0!"},{"$error":"#DIV/0!"},0,{"$error":"#DIV/0!"},{"$error":"#DIV/0!"}]
[3864,0,{"$f":"$D$4*'SBUH Model'!B665","v":0},0,0,0,0,0,0,0,0,{"$error":"#DIV/0!"},{"$error":"#DIV/0!"},0,{"$error":"#DIV/0!"},{"$error":"#DIV/0!"}]
[3870,0,{"$f":"$D$4*'SBUH Model'!B666","v":0},0,0,0,0,0,0,0,0,{"$error":"#DIV/0!"},{"$error":"#DIV/0!"},0,{"$error":"#DIV/0!"},{"$error":"#DIV/0!"}]
[3876,0,{"$f":"$D$4*'SBUH Model'!B667","v":0},0,0,0,0,0,0,0,0,{"$error":"#DIV/0!"},{"$error":"#DIV/0!"},0,{"$error":"#DIV/0!"},{"$error":"#DIV/0!"}]
[3882,0,{"$f":"$D$4*'SBUH Model'!B668","v":0},0,0,0,0,0,0,0,0,{"$error":"#DIV/0!"},{"$error":"#DIV/0!"},0,{"$error":"#DIV/0!"},{"$error":"#DIV/0!"}]
[3888,0,{"$f":"$D$4*'SBUH Model'!B669","v":0},0,0,0,0,0,0,0,0,{"$error":"#DIV/0!"},{"$error":"#DIV/0!"},0,{"$error":"#DIV/0!"},{"$error":"#DIV/0!"}]
[3894,0,{"$f":"$D$4*'SBUH Model'!B670","v":0},0,0,0,0,0,0,0,0,{"$error":"#DIV/0!"},{"$error":"#DIV/0!"},0,{"$error":"#DIV/0!"},{"$error":"#DIV/0!"}]
[3900,0,{"$f":"$D$4*'SBUH Model'!B671","v":0},0,0,0,0,0,0,0,0,{"$error":"#DIV/0!"},{"$error":"#DIV/0!"},0,{"$error":"#DIV/0!"},{"$error":"#DIV/0!"}]
[3906,0,{"$f":"$D$4*'SBUH Model'!B672","v":0},0,0,0,0,0,0,0,0,{"$error":"#DIV/0!"},{"$error":"#DIV/0!"},0,{"$error":"#DIV/0!"},{"$error":"#DIV/0!"}]
[3912,0,{"$f":"$D$4*'SBUH Model'!B673","v":0},0,0,0,0,0,0,0,0,{"$error":"#DIV/0!"},{"$error":"#DIV/0!"},0,{"$error":"#DIV/0!"},{"$error":"#DIV/0!"}]
[3918,0,{"$f":"$D$4*'SBUH Model'!B674","v":0},0,0,0,0,0,0,0,0,{"$error":"#DIV/0!"},{"$error":"#DIV/0!"},0,{"$error":"#DIV/0!"},{"$error":"#DIV/0!"}]
[3924,0,{"$f":"$D$4*'SBUH Model'!B675","v":0},0,0,0,0,0,0,0,0,{"$error":"#DIV/0!"},{"$error":"#DIV/0!"},0,{"$error":"#DIV/0!"},{"$error":"#DIV/0!"}]
[3930,0,{"$f":"$D$4*'SBUH Model'!B676","v":0},0,0,0,0,0,0,0,0,{"$error":"#DIV/0!"},{"$error":"#DIV/0!"},0,{"$error":"#DIV/0!"},{"$error":"#DIV/0!"}]
[3936,0,{"$f":"$D$4*'SBUH Model'!B677","v":0},0,0,0,0,0,0,0,0,{"$error":"#DIV/0!"},{"$error":"#DIV/0!"},0,{"$error":"#DIV/0!"},{"$error":"#DIV/0!"}]
[3942,0,{"$f":"$D$4*'SBUH Model'!B678","v":0},0,0,0,0,0,0,0,0,{"$error":"#DIV/0!"},{"$error":"#DIV/0!"},0,{"$error":"#DIV/0!"},{"$error":"#DIV/0!"}]
[3948,0,{"$f":"$D$4*'SBUH Model'!B679","v":0},0,0,0,0,0,0,0,0,{"$error":"#DIV/0!"},{"$error":"#DIV/0!"},0,{"$error":"#DIV/0!"},{"$error":"#DIV/0!"}]
[3954,0,{"$f":"$D$4*'SBUH Model'!B680","v":0},0,0,0,0,0,0,0,0,{"$error":"#DIV/0!"},{"$error":"#DIV/0!"},0,{"$error":"#DIV/0!"},{"$error":"#DIV/0!"}]
[3960,0,{"$f":"$D$4*'SBUH Model'!B681","v":0},0,0,0,0,0,0,0,0,{"$error":"#DIV/0!"},{"$error":"#DIV/0!"},0,{"$error":"#DIV/0!"},{"$error":"#DIV/0!"}]
[3966,0,{"$f":"$D$4*'SBUH Model'!B682","v":0},0,0,0,0,0,0,0,0,{"$error":"#DIV/0!"},{"$error":"#DIV/0!"},0,{"$error":"#DIV/0!"},{"$error":"#DIV/0!"}]
[3972,0,{"$f":"$D$4*'SBUH Model'!B683","v":0},0,0,0,0,0,0,0,0,{"$error":"#DIV/0!"},{"$error":"#DIV/0!"},0,{"$error":"#DIV/0!"},{"$error":"#DIV/0!"}]
[3978,0,{"$f":"$D$4*'SBUH Model'!B684","v":0},0,0,0,0,0,0,0,0,{"$error":"#DIV/0!"},{"$error":"#DIV/0!"},0,{"$error":"#DIV/0!"},{"$error":"#DIV/0!"}]
[3984,0,{"$f":"$D$4*'SBUH Model'!B685","v":0},0,0,0,0,0,0,0,0,{"$error":"#DIV/0!"},{"$error":"#DIV/0!"},0,{"$error":"#DIV/0!"},{"$error":"#DIV/0!"}]
[3990,0,{"$f":"$D$4*'SBUH Model'!B686","v":0},0,0,0,0,0,0,0,0,{"$error":"#DIV/0!"},{"$error":"#DIV/0!"},0,{"$error":"#DIV/0!"},{"$error":"#DIV/0!"}]
[3996,0,{"$f":"$D$4*'SBUH Model'!B687","v":0},0,0,0,0,0,0,0,0,{"$error":"#DIV/0!"},{"$error":"#DIV/0!"},0,{"$error":"#DIV/0!"},{"$error":"#DIV/0!"}]
[4002,0,{"$f":"$D$4*'SBUH Model'!B688","v":0},0,0,0,0,0,0,0,0,{"$error":"#DIV/0!"},{"$error":"#DIV/0!"},0,{"$error":"#DIV/0!"},{"$error":"#DIV/0!"}]
[4008,0,{"$f":"$D$4*'SBUH Model'!B689","v":0},0,0,0,0,0,0,0,0,{"$error":"#DIV/0!"},{"$error":"#DIV/0!"},0,{"$error":"#DIV/0!"},{"$error":"#DIV/0!"}]
[4014,0,{"$f":"$D$4*'SBUH Model'!B690","v":0},0,0,0,0,0,0,0,0,{"$error":"#DIV/0!"},{"$error":"#DIV/0!"},0,{"$error":"#DIV/0!"},{"$error":"#DIV/0!"}]
[4020,0,{"$f":"$D$4*'SBUH Model'!B691","v":0},0,0,0,0,0,0,0,0,{"$error":"#DIV/0!"},{"$error":"#DIV/0!"},0,{"$error":"#DIV/0!"},{"$error":"#DIV/0!"}]
[4026,0,{"$f":"$D$4*'SBUH Model'!B692","v":0},0,0,0,0,0,0,0,0,{"$error":"#DIV/0!"},{"$error":"#DIV/0!"},0,{"$error":"#DIV/0!"},{"$error":"#DIV/0!"}]
[4032,0,{"$f":"$D$4*'SBUH Model'!B693","v":0},0,0,0,0,0,0,0,0,{"$error":"#DIV/0!"},{"$error":"#DIV/0!"},0,{"$error":"#DIV/0!"},{"$error":"#DIV/0!"}]
[4038,0,{"$f":"$D$4*'SBUH Model'!B694","v":0},0,0,0,0,0,0,0,0,{"$error":"#DIV/0!"},{"$error":"#DIV/0!"},0,{"$error":"#DIV/0!"},{"$error":"#DIV/0!"}]
[4044,0,{"$f":"$D$4*'SBUH Model'!B695","v":0},0,0,0,0,0,0,0,0,{"$error":"#DIV/0!"},{"$error":"#DIV/0!"},0,{"$error":"#DIV/0!"},{"$error":"#DIV/0!"}]
[4050,0,{"$f":"$D$4*'SBUH Model'!B696","v":0},0,0,0,0,0,0,0,0,{"$error":"#DIV/0!"},{"$error":"#DIV/0!"},0,{"$error":"#DIV/0!"},{"$error":"#DIV/0!"}]
[4056,0,{"$f":"$D$4*'SBUH Model'!B697","v":0},0,0,0,0,0,0,0,0,{"$error":"#DIV/0!"},{"$error":"#DIV/0!"},0,{"$error":"#DIV/0!"},{"$error":"#DIV/0!"}]
[4062,0,{"$f":"$D$4*'SBUH Model'!B698","v":0},0,0,0,0,0,0,0,0,{"$error":"#DIV/0!"},{"$error":"#DIV/0!"},0,{"$error":"#DIV/0!"},{"$error":"#DIV/0!"}]
[4068,0,{"$f":"$D$4*'SBUH Model'!B699","v":0},0,0,0,0,0,0,0,0,{"$error":"#DIV/0!"},{"$error":"#DIV/0!"},0,{"$error":"#DIV/0!"},{"$error":"#DIV/0!"}]
[4074,0,{"$f":"$D$4*'SBUH Model'!B700","v":0},0,0,0,0,0,0,0,0,{"$error":"#DIV/0!"},{"$error":"#DIV/0!"},0,{"$error":"#DIV/0!"},{"$error":"#DIV/0!"}]
[4080,0,{"$f":"$D$4*'SBUH Model'!B701","v":0},0,0,0,0,0,0,0,0,{"$error":"#DIV/0!"},{"$error":"#DIV/0!"},0,{"$error":"#DIV/0!"},{"$error":"#DIV/0!"}]
[4086,0,{"$f":"$D$4*'SBUH Model'!B702","v":0},0,0,0,0,0,0,0,0,{"$error":"#DIV/0!"},{"$error":"#DIV/0!"},0,{"$error":"#DIV/0!"},{"$error":"#DIV/0!"}]
[4092,0,{"$f":"$D$4*'SBUH Model'!B703","v":0},0,0,0,0,0,0,0,0,{"$error":"#DIV/0!"},{"$error":"#DIV/0!"},0,{"$error":"#DIV/0!"},{"$error":"#DIV/0!"}]
[4098,0,{"$f":"$D$4*'SBUH Model'!B704","v":0},0,0,0,0,0,0,0,0,{"$error":"#DIV/0!"},{"$error":"#DIV/0!"},0,{"$error":"#DIV/0!"},{"$error":"#DIV/0!"}]
[4104,0,{"$f":"$D$4*'SBUH Model'!B705","v":0},0,0,0,0,0,0,0,0,{"$error":"#DIV/0!"},{"$error":"#DIV/0!"},0,{"$error":"#DIV/0!"},{"$error":"#DIV/0!"}]
[4110,0,{"$f":"$D$4*'SBUH Model'!B706","v":0},0,0,0,0,0,0,0,0,{"$error":"#DIV/0!"},{"$error":"#DIV/0!"},0,{"$error":"#DIV/0!"},{"$error":"#DIV/0!"}]
[4116,0,{"$f":"$D$4*'SBUH Model'!B707","v":0},0,0,0,0,0,0,0,0,{"$error":"#DIV/0!"},{"$error":"#DIV/0!"},0,{"$error":"#DIV/0!"},{"$error":"#DIV/0!"}]
[4122,0,{"$f":"$D$4*'SBUH Model'!B708","v":0},0,0,0,0,0,0,0,0,{"$error":"#DIV/0!"},{"$error":"#DIV/0!"},0,{"$error":"#DIV/0!"},{"$error":"#DIV/0!"}]
[4128,0,{"$f":"$D$4*'SBUH Model'!B709","v":0},0,0,0,0,0,0,0,0,{"$error":"#DIV/0!"},{"$error":"#DIV/0!"},0,{"$error":"#DIV/0!"},{"$error":"#DIV/0!"}]
[4134,0,{"$f":"$D$4*'SBUH Model'!B710","v":0},0,0,0,0,0,0,0,0,{"$error":"#DIV/0!"},{"$error":"#DIV/0!"},0,{"$error":"#DIV/0!"},{"$error":"#DIV/0!"}]
[4140,0,{"$f":"$D$4*'SBUH Model'!B711","v":0},0,0,0,0,0,0,0,0,{"$error":"#DIV/0!"},{"$error":"#DIV/0!"},0,{"$error":"#DIV/0!"},{"$error":"#DIV/0!"}]
[4146,0,{"$f":"$D$4*'SBUH Model'!B712","v":0},0,0,0,0,0,0,0,0,{"$error":"#DIV/0!"},{"$error":"#DIV/0!"},0,{"$error":"#DIV/0!"},{"$error":"#DIV/0!"}]
[4152,0,{"$f":"$D$4*'SBUH Model'!B713","v":0},0,0,0,0,0,0,0,0,{"$error":"#DIV/0!"},{"$error":"#DIV/0!"},0,{"$error":"#DIV/0!"},{"$error":"#DIV/0!"}]
[4158,0,{"$f":"$D$4*'SBUH Model'!B714","v":0},0,0,0,0,0,0,0,0,{"$error":"#DIV/0!"},{"$error":"#DIV/0!"},0,{"$error":"#DIV/0!"},{"$error":"#DIV/0!"}]
[4164,0,{"$f":"$D$4*'SBUH Model'!B715","v":0},0,0,0,0,0,0,0,0,{"$error":"#DIV/0!"},{"$error":"#DIV/0!"},0,{"$error":"#DIV/0!"},{"$error":"#DIV/0!"}]
[4170,0,{"$f":"$D$4*'SBUH Model'!B716","v":0},0,0,0,0,0,0,0,0,{"$error":"#DIV/0!"},{"$error":"#DIV/0!"},0,{"$error":"#DIV/0!"},{"$error":"#DIV/0!"}]
[4176,0,{"$f":"$D$4*'SBUH Model'!B717","v":0},0,0,0,0,0,0,0,0,{"$error":"#DIV/0!"},{"$error":"#DIV/0!"},0,{"$error":"#DIV/0!"},{"$error":"#DIV/0!"}]
[4182,0,{"$f":"$D$4*'SBUH Model'!B718","v":0},0,0,0,0,0,0,0,0,{"$error":"#DIV/0!"},{"$error":"#DIV/0!"},0,{"$error":"#DIV/0!"},{"$error":"#DIV/0!"}]
[4188,0,{"$f":"$D$4*'SBUH Model'!B719","v":0},0,0,0,0,0,0,0,0,{"$error":"#DIV/0!"},{"$error":"#DIV/0!"},0,{"$error":"#DIV/0!"},{"$error":"#DIV/0!"}]
[4194,0,{"$f":"$D$4*'SBUH Model'!B720","v":0},0,0,0,0,0,0,0,0,{"$error":"#DIV/0!"},{"$error":"#DIV/0!"},0,{"$error":"#DIV/0!"},{"$error":"#DIV/0!"}]
[4200,0,{"$f":"$D$4*'SBUH Model'!B721","v":0},0,0,0,0,0,0,0,0,{"$error":"#DIV/0!"},{"$error":"#DIV/0!"},0,{"$error":"#DIV/0!"},{"$error":"#DIV/0!"}]
[4206,0,{"$f":"$D$4*'SBUH Model'!B722","v":0},0,0,0,0,0,0,0,0,{"$error":"#DIV/0!"},{"$error":"#DIV/0!"},0,{"$error":"#DIV/0!"},{"$error":"#DIV/0!"}]
[4212,0,{"$f":"$D$4*'SBUH Model'!B723","v":0},0,0,0,0,0,0,0,0,{"$error":"#DIV/0!"},{"$error":"#DIV/0!"},0,{"$error":"#DIV/0!"},{"$error":"#DIV/0!"}]
[4218,0,{"$f":"$D$4*'SBUH Model'!B724","v":0},0,0,0,0,0,0,0,0,{"$error":"#DIV/0!"},{"$error":"#DIV/0!"},0,{"$error":"#DIV/0!"},{"$error":"#DIV/0!"}]
[4224,0,{"$f":"$D$4*'SBUH Model'!B725","v":0},0,0,0,0,0,0,0,0,{"$error":"#DIV/0!"},{"$f":"L725*($D$5*60)","v":{"$error":"#DIV/0!"}},{"$f":"(C725/12)*O$4","v":0},{"$error":"#DIV/0!"},{"$error":"#DIV/0!"}]
[4230,0,{"$f":"$D$4*'SBUH Model'!B726","v":0},{"$f":"C726+D725","v":0},{"$f":"IF(D726<0.2*F$8,0,(D726-0.2*F$8)^2/(D726+0.8*F$8))","v":0},0,{"$f":"IF(D726<0.2*F$11,0,(D726-0.2*F$11)^2/(D726+0.8*F$11))","v":0},0,{"$f":"IF(D726<0.2*F$12,0,(D726-0.2*F$12)^2/(D726+0.8*F$12))","v":0},0,{"$f":"((F726/12)*SUMPRODUCT(D$8:D$10,G$8:G$10)+(H726/12)*D$11+(J726/12)*D$12)/($D$5*60)","v":0},{"$error":"#DIV/0!"},{"$error":"#DIV/0!"},0,{"$f":"-MIN(O$9*D$5*60,SUM(M726,N726,P725))","v":{"$error":"#DIV/0!"}},{"$error":"#DIV/0!"}]
[{"$f":"A726+6","v":4236},0,{"$f":"$D$4*'SBUH Model'!B727","v":0},0,0,{"$f":"MAX(0,E727-E726)","v":0},0,0,0,0,0,{"$f":"MAX(0,L726+(D$5/(2*D$16+D$5))*(K726+K727-2*L726))","v":{"$error":"#DIV/0!"}},{"$error":"#DIV/0!"},0,{"$error":"#DIV/0!"},{"$f":"P726+SUM(M727:O727)","v":{"$error":"#DIV/0!"}}]
[4242,0,{"$f":"$D$4*'SBUH Model'!B728","v":0},0,0,0,0,0,0,0,0,{"$error":"#DIV/0!"},{"$error":"#DIV/0!"},0,{"$error":"#DIV/0!"},{"$error":"#DIV/0!"}]
[4248,0,{"$f":"$D$4*'SBUH Model'!B729","v":0},0,0,0,0,0,0,0,0,{"$error":"#DIV/0!"},{"$error":"#DIV/0!"},0,{"$error":"#DIV/0!"},{"$error":"#DIV/0!"}]
[4254,0,{"$f":"$D$4*'SBUH Model'!B730","v":0},0,0,0,0,0,0,0,0,{"$error":"#DIV/0!"},{"$error":"#DIV/0!"},0,{"$error":"#DIV/0!"},{"$error":"#DIV/0!"}]
[4260,0,{"$f":"$D$4*'SBUH Model'!B731","v":0},0,0,0,0,0,0,0,0,{"$error":"#DIV/0!"},{"$error":"#DIV/0!"},0,{"$error":"#DIV/0!"},{"$error":"#DIV/0!"}]
[4266,0,{"$f":"$D$4*'SBUH Model'!B732","v":0},0,0,0,0,0,0,0,0,{"$error":"#DIV/0!"},{"$error":"#DIV/0!"},0,{"$error":"#DIV/0!"},{"$error":"#DIV/0!"}]
[4272,0,{"$f":"$D$4*'SBUH Model'!B733","v":0},0,0,0,0,0,0,0,0,{"$error":"#DIV/0!"},{"$error":"#DIV/0!"},0,{"$error":"#DIV/0!"},{"$error":"#DIV/0!"}]
[4278,0,{"$f":"$D$4*'SBUH Model'!B734","v":0},0,0,0,0,0,0,0,0,{"$error":"#DIV/0!"},{"$error":"#DIV/0!"},0,{"$error":"#DIV/0!"},{"$error":"#DIV/0!"}]
[4284,0,{"$f":"$D$4*'SBUH Model'!B735","v":0},0,0,0,0,0,0,0,0,{"$error":"#DIV/0!"},{"$error":"#DIV/0!"},0,{"$error":"#DIV/0!"},{"$error":"#DIV/0!"}]
[4290,0,{"$f":"$D$4*'SBUH Model'!B736","v":0},0,0,0,0,0,0,0,0,{"$error":"#DIV/0!"},{"$error":"#DIV/0!"},0,{"$error":"#DIV/0!"},{"$error":"#DIV/0!"}]
[4296,0,{"$f":"$D$4*'SBUH Model'!B737","v":0},0,0,0,0,0,0,0,0,{"$error":"#DIV/0!"},{"$error":"#DIV/0!"},0,{"$error":"#DIV/0!"},{"$error":"#DIV/0!"}]
[4302,0,{"$f":"$D$4*'SBUH Model'!B738","v":0},0,0,0,0,0,0,0,0,{"$error":"#DIV/0!"},{"$error":"#DIV/0!"},0,{"$error":"#DIV/0!"},{"$error":"#DIV/0!"}]
[4308,0,{"$f":"$D$4*'SBUH Model'!B739","v":0},0,0,0,0,0,0,0,0,{"$error":"#DIV/0!"},{"$error":"#DIV/0!"},0,{"$error":"#DIV/0!"},{"$error":"#DIV/0!"}]
[4314,0,{"$f":"$D$4*'SBUH Model'!B740","v":0},0,0,0,0,0,0,0,0,{"$error":"#DIV/0!"},{"$error":"#DIV/0!"},0,{"$error":"#DIV/0!"},{"$error":"#DIV/0!"}]
[4320,0,{"$f":"$D$4*'SBUH Model'!B741","v":0},0,0,0,0,0,0,0,0,{"$error":"#DIV/0!"},{"$error":"#DIV/0!"},0,{"$error":"#DIV/0!"},{"$error":"#DIV/0!"}]
[4326,0,{"$f":"$D$4*'SBUH Model'!B742","v":0},{"$f":"C742+D741","v":0},{"$f":"IF(D742<0.2*F$8,0,(D742-0.2*F$8)^2/(D742+0.8*F$8))","v":0},{"$f":"MAX(0,E742-E741)","v":0},{"$f":"IF(D742<0.2*F$11,0,(D742-0.2*F$11)^2/(D742+0.8*F$11))","v":0},{"$f":"MAX(0,G742-G741)","v":0},{"$f":"IF(D742<0.2*F$12,0,(D742-0.2*F$12)^2/(D742+0.8*F$12))","v":0},{"$f":"MAX(0,I742-I741)","v":0},{"$f":"((F742/12)*SUMPRODUCT(D$8:D$10,G$8:G$10)+(H742/12)*D$11+(J742/12)*D$12)/($D$5*60)","v":0},{"$error":"#DIV/0!"},{"$f":"L742*($D$5*60)","v":{"$error":"#DIV/0!"}},{"$f":"(C742/12)*O$4","v":0},{"$f":"-MIN(O$9*D$5*60,SUM(M742,N742,P741))","v":{"$error":"#DIV/0!"}},{"$f":"P741+SUM(M742:O742)","v":{"$error":"#DIV/0!"}}]
[4332,0,{"$f":"$D$4*'SBUH Model'!B743","v":0},0,0,0,0,0,0,0,0,{"$error":"#DIV/0!"},{"$error":"#DIV/0!"},0,{"$error":"#DIV/0!"},{"$error":"#DIV/0!"}]
[4338,0,{"$f":"$D$4*'SBUH Model'!B744","v":0},0,0,0,0,0,0,0,0,{"$error":"#DIV/0!"},{"$error":"#DIV/0!"},0,{"$error":"#DIV/0!"},{"$error":"#DIV/0!"}]
[4344,0,{"$f":"$D$4*'SBUH Model'!B745","v":0},0,0,0,0,0,0,0,0,{"$error":"#DIV/0!"},{"$error":"#DIV/0!"},0,{"$error":"#DIV/0!"},{"$error":"#DIV/0!"}]
[4350,0,{"$f":"$D$4*'SBUH Model'!B746","v":0},0,0,0,0,0,0,0,0,{"$error":"#DIV/0!"},{"$error":"#DIV/0!"},0,{"$error":"#DIV/0!"},{"$error":"#DIV/0!"}]
[4356,0,{"$f":"$D$4*'SBUH Model'!B747","v":0},0,0,0,0,0,0,0,0,{"$error":"#DIV/0!"},{"$error":"#DIV/0!"},0,{"$error":"#DIV/0!"},{"$error":"#DIV/0!"}]
[4362,0,{"$f":"$D$4*'SBUH Model'!B748","v":0},0,0,0,0,0,0,0,0,{"$error":"#DIV/0!"},{"$error":"#DIV/0!"},0,{"$error":"#DIV/0!"},{"$error":"#DIV/0!"}]
[4368,0,{"$f":"$D$4*'SBUH Model'!B749","v":0},0,0,0,0,0,0,0,0,{"$error":"#DIV/0!"},{"$error":"#DIV/0!"},0,{"$error":"#DIV/0!"},{"$error":"#DIV/0!"}]
[4374,0,{"$f":"$D$4*'SBUH Model'!B750","v":0},0,0,0,0,0,0,0,0,{"$error":"#DIV/0!"},{"$error":"#DIV/0!"},0,{"$error":"#DIV/0!"},{"$error":"#DIV/0!"}]
[4380,0,{"$f":"$D$4*'SBUH Model'!B751","v":0},0,0,0,0,0,0,0,0,{"$error":"#DIV/0!"},{"$error":"#DIV/0!"},0,{"$error":"#DIV/0!"},{"$error":"#DIV/0!"}]
[4386,0,{"$f":"$D$4*'SBUH Model'!B752","v":0},0,0,0,0,0,0,0,0,{"$error":"#DIV/0!"},{"$error":"#DIV/0!"},0,{"$error":"#DIV/0!"},{"$error":"#DIV/0!"}]
[4392,0,{"$f":"$D$4*'SBUH Model'!B753","v":0},0,0,0,0,0,0,0,0,{"$error":"#DIV/0!"},{"$error":"#DIV/0!"},0,{"$error":"#DIV/0!"},{"$error":"#DIV/0!"}]
[4398,0,{"$f":"$D$4*'SBUH Model'!B754","v":0},0,0,0,0,0,0,0,0,{"$error":"#DIV/0!"},{"$error":"#DIV/0!"},0,{"$error":"#DIV/0!"},{"$error":"#DIV/0!"}]
[4404,0,{"$f":"$D$4*'SBUH Model'!B755","v":0},0,0,0,0,0,0,0,0,{"$error":"#DIV/0!"},{"$error":"#DIV/0!"},0,{"$error":"#DIV/0!"},{"$error":"#DIV/0!"}]
[4410,0,{"$f":"$D$4*'SBUH Model'!B756","v":0},0,0,0,0,0,0,0,0,{"$error":"#DIV/0!"},{"$error":"#DIV/0!"},0,{"$error":"#DIV/0!"},{"$error":"#DIV/0!"}]
[4416,0,{"$f":"$D$4*'SBUH Model'!B757","v":0},0,0,0,0,0,0,0,0,{"$error":"#DIV/0!"},{"$error":"#DIV/0!"},0,{"$error":"#DIV/0!"},{"$error":"#DIV/0!"}]
[4422,0,{"$f":"$D$4*'SBUH Model'!B758","v":0},0,0,0,0,0,0,0,0,{"$error":"#DIV/0!"},{"$error":"#DIV/0!"},0,{"$error":"#DIV/0!"},{"$error":"#DIV/0!"}]
[4428,0,{"$f":"$D$4*'SBUH Model'!B759","v":0},0,0,0,0,0,0,0,0,{"$error":"#DIV/0!"},{"$error":"#DIV/0!"},0,{"$error":"#DIV/0!"},{"$error":"#DIV/0!"}]
[4434,0,{"$f":"$D$4*'SBUH Model'!B760","v":0},0,0,0,0,0,0,0,0,{"$error":"#DIV/0!"},{"$error":"#DIV/0!"},0,{"$error":"#DIV/0!"},{"$error":"#DIV/0!"}]
[4440,0,{"$f":"$D$4*'SBUH Model'!B761","v":0},0,0,0,0,0,0,0,0,{"$error":"#DIV/0!"},{"$error":"#DIV/0!"},0,{"$error":"#DIV/0!"},{"$error":"#DIV/0!"}]
[4446,0,{"$f":"$D$4*'SBUH Model'!B762","v":0},0,0,0,0,0,0,0,0,{"$error":"#DIV/0!"},{"$error":"#DIV/0!"},0,{"$error":"#DIV/0!"},{"$error":"#DIV/0!"}]
[4452,0,{"$f":"$D$4*'SBUH Model'!B763","v":0},0,0,0,0,0,0,0,0,{"$error":"#DIV/0!"},{"$error":"#DIV/0!"},0,{"$error":"#DIV/0!"},{"$error":"#DIV/0!"}]
[4458,0,{"$f":"$D$4*'SBUH Model'!B764","v":0},0,0,0,0,0,0,0,0,{"$error":"#DIV/0!"},{"$error":"#DIV/0!"},0,{"$error":"#DIV/0!"},{"$error":"#DIV/0!"}]
[4464,0,{"$f":"$D$4*'SBUH Model'!B765","v":0},0,0,0,0,0,0,0,0,{"$error":"#DIV/0!"},{"$error":"#DIV/0!"},0,{"$error":"#DIV/0!"},{"$error":"#DIV/0!"}]
[4470,0,{"$f":"$D$4*'SBUH Model'!B766","v":0},0,0,0,0,0,0,0,0,{"$error":"#DIV/0!"},{"$error":"#DIV/0!"},0,{"$error":"#DIV/0!"},{"$error":"#DIV/0!"}]
[4476,0,{"$f":"$D$4*'SBUH Model'!B767","v":0},0,0,0,0,0,0,0,0,{"$error":"#DIV/0!"},{"$error":"#DIV/0!"},0,{"$error":"#DIV/0!"},{"$error":"#DIV/0!"}]
[4482,0,{"$f":"$D$4*'SBUH Model'!B768","v":0},0,0,0,0,0,0,0,0,{"$error":"#DIV/0!"},{"$error":"#DIV/0!"},0,{"$error":"#DIV/0!"},{"$error":"#DIV/0!"}]
[4488,0,{"$f":"$D$4*'SBUH Model'!B769","v":0},0,0,0,0,0,0,0,0,{"$error":"#DIV/0!"},{"$error":"#DIV/0!"},0,{"$error":"#DIV/0!"},{"$error":"#DIV/0!"}]
[4494,0,{"$f":"$D$4*'SBUH Model'!B770","v":0},0,0,0,0,0,0,0,0,{"$error":"#DIV/0!"},{"$error":"#DIV/0!"},0,{"$error":"#DIV/0!"},{"$error":"#DIV/0!"}]
[4500,0,{"$f":"$D$4*'SBUH Model'!B771","v":0},0,0,0,0,0,0,0,0,{"$error":"#DIV/0!"},{"$error":"#DIV/0!"},0,{"$error":"#DIV/0!"},{"$error":"#DIV/0!"}]
[4506,0,{"$f":"$D$4*'SBUH Model'!B772","v":0},0,0,0,0,0,0,0,0,{"$error":"#DIV/0!"},{"$error":"#DIV/0!"},0,{"$error":"#DIV/0!"},{"$error":"#DIV/0!"}]
[4512,0,{"$f":"$D$4*'SBUH Model'!B773","v":0},0,0,0,0,0,0,0,0,{"$error":"#DIV/0!"},{"$error":"#DIV/0!"},0,{"$error":"#DIV/0!"},{"$error":"#DIV/0!"}]
[4518,0,{"$f":"$D$4*'SBUH Model'!B774","v":0},0,0,0,0,0,0,0,0,{"$error":"#DIV/0!"},{"$error":"#DIV/0!"},0,{"$error":"#DIV/0!"},{"$error":"#DIV/0!"}]
[4524,0,{"$f":"$D$4*'SBUH Model'!B775","v":0},0,0,0,0,0,0,0,0,{"$error":"#DIV/0!"},{"$error":"#DIV/0!"},0,{"$error":"#DIV/0!"},{"$error":"#DIV/0!"}]
[4530,0,{"$f":"$D$4*'SBUH Model'!B776","v":0},0,0,0,0,0,0,0,0,{"$error":"#DIV/0!"},{"$error":"#DIV/0!"},0,{"$error":"#DIV/0!"},{"$error":"#DIV/0!"}]
[4536,0,{"$f":"$D$4*'SBUH Model'!B777","v":0},0,0,0,0,0,0,0,0,{"$error":"#DIV/0!"},{"$error":"#DIV/0!"},0,{"$error":"#DIV/0!"},{"$error":"#DIV/0!"}]
[4542,0,{"$f":"$D$4*'SBUH Model'!B778","v":0},0,0,0,0,0,0,0,0,{"$error":"#DIV/0!"},{"$error":"#DIV/0!"},0,{"$error":"#DIV/0!"},{"$error":"#DIV/0!"}]
[4548,0,{"$f":"$D$4*'SBUH Model'!B779","v":0},0,0,0,0,0,0,0,0,{"$error":"#DIV/0!"},{"$error":"#DIV/0!"},0,{"$error":"#DIV/0!"},{"$error":"#DIV/0!"}]
[4554,0,{"$f":"$D$4*'SBUH Model'!B780","v":0},0,0,0,0,0,0,0,0,{"$error":"#DIV/0!"},{"$error":"#DIV/0!"},0,{"$error":"#DIV/0!"},{"$error":"#DIV/0!"}]
[4560,0,{"$f":"$D$4*'SBUH Model'!B781","v":0},0,0,0,0,0,0,0,0,{"$error":"#DIV/0!"},{"$error":"#DIV/0!"},0,{"$error":"#DIV/0!"},{"$error":"#DIV/0!"}]
[4566,0,{"$f":"$D$4*'SBUH Model'!B782","v":0},0,0,0,0,0,0,0,0,{"$error":"#DIV/0!"},{"$error":"#DIV/0!"},0,{"$error":"#DIV/0!"},{"$error":"#DIV/0!"}]
[4572,0,{"$f":"$D$4*'SBUH Model'!B783","v":0},0,0,0,0,0,0,0,0,{"$error":"#DIV/0!"},{"$error":"#DIV/0!"},0,{"$error":"#DIV/0!"},{"$error":"#DIV/0!"}]
[4578,0,{"$f":"$D$4*'SBUH Model'!B784","v":0},0,0,0,0,0,0,0,0,{"$error":"#DIV/0!"},{"$error":"#DIV/0!"},0,{"$error":"#DIV/0!"},{"$error":"#DIV/0!"}]
[4584,0,{"$f":"$D$4*'SBUH Model'!B785","v":0},0,0,0,0,0,0,0,0,{"$error":"#DIV/0!"},{"$error":"#DIV/0!"},0,{"$error":"#DIV/0!"},{"$error":"#DIV/0!"}]
[4590,0,{"$f":"$D$4*'SBUH Model'!B786","v":0},0,0,0,0,0,0,0,0,{"$error":"#DIV/0!"},{"$error":"#DIV/0!"},0,{"$error":"#DIV/0!"},{"$error":"#DIV/0!"}]
[4596,0,{"$f":"$D$4*'SBUH Model'!B787","v":0},0,0,0,0,0,0,0,0,{"$error":"#DIV/0!"},{"$error":"#DIV/0!"},0,{"$error":"#DIV/0!"},{"$error":"#DIV/0!"}]
[4602,0,{"$f":"$D$4*'SBUH Model'!B788","v":0},0,0,0,0,0,0,0,0,{"$error":"#DIV/0!"},{"$error":"#DIV/0!"},0,{"$error":"#DIV/0!"},{"$error":"#DIV/0!"}]
[4608,0,{"$f":"$D$4*'SBUH Model'!B789","v":0},0,0,0,0,0,0,0,0,{"$error":"#DIV/0!"},{"$error":"#DIV/0!"},0,{"$error":"#DIV/0!"},{"$error":"#DIV/0!"}]
[4614,0,{"$f":"$D$4*'SBUH Model'!B790","v":0},0,0,0,0,0,0,0,0,{"$error":"#DIV/0!"},{"$error":"#DIV/0!"},0,{"$error":"#DIV/0!"},{"$error":"#DIV/0!"}]
[{"$f":"A790+6","v":4620},0,{"$f":"$D$4*'SBUH Model'!B791","v":0},0,0,0,0,0,0,0,0,{"$f":"MAX(0,L790+(D$5/(2*D$16+D$5))*(K790+K791-2*L790))","v":{"$error":"#DIV/0!"}},{"$error":"#DIV/0!"},0,{"$error":"#DIV/0!"},{"$error":"#DIV/0!"}]
[4626,0,{"$f":"$D$4*'SBUH Model'!B792","v":0},0,0,0,0,0,0,0,0,{"$error":"#DIV/0!"},{"$error":"#DIV/0!"},0,{"$error":"#DIV/0!"},{"$error":"#DIV/0!"}]
[4632,0,{"$f":"$D$4*'SBUH Model'!B793","v":0},0,0,0,0,0,0,0,0,{"$error":"#DIV/0!"},{"$error":"#DIV/0!"},0,{"$error":"#DIV/0!"},{"$error":"#DIV/0!"}]
[4638,0,{"$f":"$D$4*'SBUH Model'!B794","v":0},0,0,0,0,0,0,0,0,{"$error":"#DIV/0!"},{"$error":"#DIV/0!"},0,{"$error":"#DIV/0!"},{"$error":"#DIV/0!"}]
[4644,0,{"$f":"$D$4*'SBUH Model'!B795","v":0},0,0,0,0,0,0,0,0,{"$error":"#DIV/0!"},{"$error":"#DIV/0!"},0,{"$error":"#DIV/0!"},{"$error":"#DIV/0!"}]
[4650,0,{"$f":"$D$4*'SBUH Model'!B796","v":0},0,0,0,0,0,0,0,0,{"$error":"#DIV/0!"},{"$error":"#DIV/0!"},0,{"$error":"#DIV/0!"},{"$error":"#DIV/0!"}]
[4656,0,{"$f":"$D$4*'SBUH Model'!B797","v":0},0,0,0,0,0,0,0,0,{"$error":"#DIV/0!"},{"$error":"#DIV/0!"},0,{"$error":"#DIV/0!"},{"$error":"#DIV/0!"}]
[4662,0,{"$f":"$D$4*'SBUH Model'!B798","v":0},0,0,0,0,0,0,0,0,{"$error":"#DIV/0!"},{"$error":"#DIV/0!"},0,{"$error":"#DIV/0!"},{"$error":"#DIV/0!"}]
[4668,0,{"$f":"$D$4*'SBUH Model'!B799","v":0},0,0,0,0,0,0,0,0,{"$error":"#DIV/0!"},{"$error":"#DIV/0!"},0,{"$error":"#DIV/0!"},{"$error":"#DIV/0!"}]
[4674,0,{"$f":"$D$4*'SBUH Model'!B800","v":0},0,0,0,0,0,0,0,0,{"$error":"#DIV/0!"},{"$error":"#DIV/0!"},0,{"$error":"#DIV/0!"},{"$error":"#DIV/0!"}]
[4680,0,{"$f":"$D$4*'SBUH Model'!B801","v":0},0,0,0,0,0,0,0,0,{"$error":"#DIV/0!"},{"$error":"#DIV/0!"},0,{"$error":"#DIV/0!"},{"$error":"#DIV/0!"}]
[4686,0,{"$f":"$D$4*'SBUH Model'!B802","v":0},0,0,0,0,0,0,0,0,{"$error":"#DIV/0!"},{"$error":"#DIV/0!"},0,{"$error":"#DIV/0!"},{"$error":"#DIV/0!"}]
[4692,0,{"$f":"$D$4*'SBUH Model'!B803","v":0},0,0,0,0,0,0,0,0,{"$error":"#DIV/0!"},{"$error":"#DIV/0!"},0,{"$error":"#DIV/0!"},{"$error":"#DIV/0!"}]
[4698,0,{"$f":"$D$4*'SBUH Model'!B804","v":0},0,0,0,0,0,0,0,0,{"$error":"#DIV/0!"},{"$error":"#DIV/0!"},0,{"$error":"#DIV/0!"},{"$error":"#DIV/0!"}]
[4704,0,{"$f":"$D$4*'SBUH Model'!B805","v":0},0,0,0,0,0,0,0,0,{"$error":"#DIV/0!"},{"$error":"#DIV/0!"},0,{"$error":"#DIV/0!"},{"$error":"#DIV/0!"}]
[4710,0,{"$f":"$D$4*'SBUH Model'!B806","v":0},{"$f":"C806+D805","v":0},{"$f":"IF(D806<0.2*F$8,0,(D806-0.2*F$8)^2/(D806+0.8*F$8))","v":0},{"$f":"MAX(0,E806-E805)","v":0},{"$f":"IF(D806<0.2*F$11,0,(D806-0.2*F$11)^2/(D806+0.8*F$11))","v":0},{"$f":"MAX(0,G806-G805)","v":0},{"$f":"IF(D806<0.2*F$12,0,(D806-0.2*F$12)^2/(D806+0.8*F$12))","v":0},{"$f":"MAX(0,I806-I805)","v":0},{"$f":"((F806/12)*SUMPRODUCT(D$8:D$10,G$8:G$10)+(H806/12)*D$11+(J806/12)*D$12)/($D$5*60)","v":0},{"$error":"#DIV/0!"},{"$f":"L806*($D$5*60)","v":{"$error":"#DIV/0!"}},{"$f":"(C806/12)*O$4","v":0},{"$f":"-MIN(O$9*D$5*60,SUM(M806,N806,P805))","v":{"$error":"#DIV/0!"}},{"$f":"P805+SUM(M806:O806)","v":{"$error":"#DIV/0!"}}]
[4716,0,{"$f":"$D$4*'SBUH Model'!B807","v":0},0,0,0,0,0,0,0,0,{"$error":"#DIV/0!"},{"$error":"#DIV/0!"},0,{"$error":"#DIV/0!"},{"$error":"#DIV/0!"}]
[4722,0,{"$f":"$D$4*'SBUH Model'!B808","v":0},0,0,0,0,0,0,0,0,{"$error":"#DIV/0!"},{"$error":"#DIV/0!"},0,{"$error":"#DIV/0!"},{"$error":"#DIV/0!"}]
[4728,0,{"$f":"$D$4*'SBUH Model'!B809","v":0},0,0,0,0,0,0,0,0,{"$error":"#DIV/0!"},{"$error":"#DIV/0!"},0,{"$error":"#DIV/0!"},{"$error":"#DIV/0!"}]
[4734,0,{"$f":"$D$4*'SBUH Model'!B810","v":0},0,0,0,0,0,0,0,0,{"$error":"#DIV/0!"},{"$error":"#DIV/0!"},0,{"$error":"#DIV/0!"},{"$error":"#DIV/0!"}]
[4740,0,{"$f":"$D$4*'SBUH Model'!B811","v":0},0,0,0,0,0,0,0,0,{"$error":"#DIV/0!"},{"$error":"#DIV/0!"},0,{"$error":"#DIV/0!"},{"$error":"#DIV/0!"}]
[4746,0,{"$f":"$D$4*'SBUH Model'!B812","v":0},0,0,0,0,0,0,0,0,{"$error":"#DIV/0!"},{"$error":"#DIV/0!"},0,{"$error":"#DIV/0!"},{"$error":"#DIV/0!"}]
[4752,0,{"$f":"$D$4*'SBUH Model'!B813","v":0},0,0,0,0,0,0,0,0,{"$error":"#DIV/0!"},{"$error":"#DIV/0!"},0,{"$error":"#DIV/0!"},{"$error":"#DIV/0!"}]
[4758,0,{"$f":"$D$4*'SBUH Model'!B814","v":0},0,0,0,0,0,0,0,0,{"$error":"#DIV/0!"},{"$error":"#DIV/0!"},0,{"$error":"#DIV/0!"},{"$error":"#DIV/0!"}]
[4764,0,{"$f":"$D$4*'SBUH Model'!B815","v":0},0,0,0,0,0,0,0,0,{"$error":"#DIV/0!"},{"$error":"#DIV/0!"},0,{"$error":"#DIV/0!"},{"$error":"#DIV/0!"}]
[4770,0,{"$f":"$D$4*'SBUH Model'!B816","v":0},0,0,0,0,0,0,0,0,{"$error":"#DIV/0!"},{"$error":"#DIV/0!"},0,{"$error":"#DIV/0!"},{"$error":"#DIV/0!"}]
[4776,0,{"$f":"$D$4*'SBUH Model'!B817","v":0},0,0,0,0,0,0,0,0,{"$error":"#DIV/0!"},{"$error":"#DIV/0!"},0,{"$error":"#DIV/0!"},{"$error":"#DIV/0!"}]
[4782,0,{"$f":"$D$4*'SBUH Model'!B818","v":0},0,0,0,0,0,0,0,0,{"$error":"#DIV/0!"},{"$error":"#DIV/0!"},0,{"$error":"#DIV/0!"},{"$error":"#DIV/0!"}]
[4788,0,{"$f":"$D$4*'SBUH Model'!B819","v":0},0,0,0,0,0,0,0,0,{"$error":"#DIV/0!"},{"$error":"#DIV/0!"},0,{"$error":"#DIV/0!"},{"$error":"#DIV/0!"}]
[4794,0,{"$f":"$D$4*'SBUH Model'!B820","v":0},0,0,0,0,0,0,0,0,{"$error":"#DIV/0!"},{"$error":"#DIV/0!"},0,{"$error":"#DIV/0!"},{"$error":"#DIV/0!"}]
[4800,0,{"$f":"$D$4*'SBUH Model'!B821","v":0},0,0,0,0,0,0,0,0,{"$error":"#DIV/0!"},{"$error":"#DIV/0!"},0,{"$error":"#DIV/0!"},{"$error":"#DIV/0!"}]
[4806,0,{"$f":"$D$4*'SBUH Model'!B822","v":0},0,0,0,0,0,0,0,0,{"$error":"#DIV/0!"},{"$error":"#DIV/0!"},0,{"$error":"#DIV/0!"},{"$error":"#DIV/0!"}]
[4812,0,{"$f":"$D$4*'SBUH Model'!B823","v":0},0,0,0,0,0,0,0,0,{"$error":"#DIV/0!"},{"$error":"#DIV/0!"},0,{"$error":"#DIV/0!"},{"$error":"#DIV/0!"}]
[4818,0,{"$f":"$D$4*'SBUH Model'!B824","v":0},0,0,0,0,0,0,0,0,{"$error":"#DIV/0!"},{"$error":"#DIV/0!"},0,{"$error":"#DIV/0!"},{"$error":"#DIV/0!"}]
[4824,0,{"$f":"$D$4*'SBUH Model'!B825","v":0},0,0,0,0,0,0,0,0,{"$error":"#DIV/0!"},{"$error":"#DIV/0!"},0,{"$error":"#DIV/0!"},{"$error":"#DIV/0!"}]
[4830,0,{"$f":"$D$4*'SBUH Model'!B826","v":0},0,0,0,0,0,0,0,0,{"$error":"#DIV/0!"},{"$error":"#DIV/0!"},0,{"$error":"#DIV/0!"},{"$error":"#DIV/0!"}]
[4836,0,{"$f":"$D$4*'SBUH Model'!B827","v":0},0,0,0,0,0,0,0,0,{"$error":"#DIV/0!"},{"$error":"#DIV/0!"},0,{"$error":"#DIV/0!"},{"$error":"#DIV/0!"}]
[4842,0,{"$f":"$D$4*'SBUH Model'!B828","v":0},0,0,0,0,0,0,0,0,{"$error":"#DIV/0!"},{"$error":"#DIV/0!"},0,{"$error":"#DIV/0!"},{"$error":"#DIV/0!"}]
[4848,0,{"$f":"$D$4*'SBUH Model'!B829","v":0},0,0,0,0,0,0,0,0,{"$error":"#DIV/0!"},{"$error":"#DIV/0!"},0,{"$error":"#DIV/0!"},{"$error":"#DIV/0!"}]
[4854,0,{"$f":"$D$4*'SBUH Model'!B830","v":0},0,0,0,0,0,0,0,0,{"$error":"#DIV/0!"},{"$error":"#DIV/0!"},0,{"$error":"#DIV/0!"},{"$error":"#DIV/0!"}]
[4860,0,{"$f":"$D$4*'SBUH Model'!B831","v":0},0,0,0,0,0,0,0,0,{"$error":"#DIV/0!"},{"$error":"#DIV/0!"},0,{"$error":"#DIV/0!"},{"$error":"#DIV/0!"}]
[4866,0,{"$f":"$D$4*'SBUH Model'!B832","v":0},0,0,0,0,0,0,0,0,{"$error":"#DIV/0!"},{"$error":"#DIV/0!"},0,{"$error":"#DIV/0!"},{"$error":"#DIV/0!"}]
[4872,0,{"$f":"$D$4*'SBUH Model'!B833","v":0},0,0,0,0,0,0,0,0,{"$error":"#DIV/0!"},{"$error":"#DIV/0!"},0,{"$error":"#DIV/0!"},{"$error":"#DIV/0!"}]
[4878,0,{"$f":"$D$4*'SBUH Model'!B834","v":0},0,0,0,0,0,0,0,0,{"$error":"#DIV/0!"},{"$error":"#DIV/0!"},0,{"$error":"#DIV/0!"},{"$error":"#DIV/0!"}]
[4884,0,{"$f":"$D$4*'SBUH Model'!B835","v":0},0,0,0,0,0,0,0,0,{"$error":"#DIV/0!"},{"$error":"#DIV/0!"},0,{"$error":"#DIV/0!"},{"$error":"#DIV/0!"}]
[4890,0,{"$f":"$D$4*'SBUH Model'!B836","v":0},0,0,0,0,0,0,0,0,{"$error":"#DIV/0!"},{"$error":"#DIV/0!"},0,{"$error":"#DIV/0!"},{"$error":"#DIV/0!"}]
[4896,0,{"$f":"$D$4*'SBUH Model'!B837","v":0},0,0,0,0,0,0,0,0,{"$error":"#DIV/0!"},{"$error":"#DIV/0!"},0,{"$error":"#DIV/0!"},{"$error":"#DIV/0!"}]
[4902,0,{"$f":"$D$4*'SBUH Model'!B838","v":0},0,0,0,0,0,0,0,0,{"$error":"#DIV/0!"},{"$error":"#DIV/0!"},0,{"$error":"#DIV/0!"},{"$error":"#DIV/0!"}]
[4908,0,{"$f":"$D$4*'SBUH Model'!B839","v":0},0,0,0,0,0,0,0,0,{"$error":"#DIV/0!"},{"$error":"#DIV/0!"},0,{"$error":"#DIV/0!"},{"$error":"#DIV/0!"}]
[4914,0,{"$f":"$D$4*'SBUH Model'!B840","v":0},0,0,0,0,0,0,0,0,{"$error":"#DIV/0!"},{"$error":"#DIV/0!"},0,{"$error":"#DIV/0!"},{"$error":"#DIV/0!"}]
[4920,0,{"$f":"$D$4*'SBUH Model'!B841","v":0},0,0,0,0,0,0,0,0,{"$error":"#DIV/0!"},{"$error":"#DIV/0!"},0,{"$error":"#DIV/0!"},{"$error":"#DIV/0!"}]
[4926,0,{"$f":"$D$4*'SBUH Model'!B842","v":0},0,0,0,0,0,0,0,0,{"$error":"#DIV/0!"},{"$error":"#DIV/0!"},0,{"$error":"#DIV/0!"},{"$error":"#DIV/0!"}]
[4932,0,{"$f":"$D$4*'SBUH Model'!B843","v":0},0,0,0,0,0,0,0,0,{"$error":"#DIV/0!"},{"$error":"#DIV/0!"},0,{"$error":"#DIV/0!"},{"$error":"#DIV/0!"}]
[4938,0,{"$f":"$D$4*'SBUH Model'!B844","v":0},0,0,0,0,0,0,0,0,{"$error":"#DIV/0!"},{"$error":"#DIV/0!"},0,{"$error":"#DIV/0!"},{"$error":"#DIV/0!"}]
[4944,0,{"$f":"$D$4*'SBUH Model'!B845","v":0},0,0,0,0,0,0,0,0,{"$error":"#DIV/0!"},{"$error":"#DIV/0!"},0,{"$error":"#DIV/0!"},{"$error":"#DIV/0!"}]
[4950,0,{"$f":"$D$4*'SBUH Model'!B846","v":0},0,0,0,0,0,0,0,0,{"$error":"#DIV/0!"},{"$error":"#DIV/0!"},0,{"$error":"#DIV/0!"},{"$error":"#DIV/0!"}]
[4956,0,{"$f":"$D$4*'SBUH Model'!B847","v":0},0,0,0,0,0,0,0,0,{"$error":"#DIV/0!"},{"$error":"#DIV/0!"},0,{"$error":"#DIV/0!"},{"$error":"#DIV/0!"}]
[4962,0,{"$f":"$D$4*'SBUH Model'!B848","v":0},0,0,0,0,0,0,0,0,{"$error":"#DIV/0!"},{"$error":"#DIV/0!"},0,{"$error":"#DIV/0!"},{"$error":"#DIV/0!"}]
[4968,0,{"$f":"$D$4*'SBUH Model'!B849","v":0},0,0,0,0,0,0,0,0,{"$error":"#DIV/0!"},{"$error":"#DIV/0!"},0,{"$error":"#DIV/0!"},{"$error":"#DIV/0!"}]
[4974,0,{"$f":"$D$4*'SBUH Model'!B850","v":0},0,0,0,0,0,0,0,0,{"$error":"#DIV/0!"},{"$error":"#DIV/0!"},0,{"$error":"#DIV/0!"},{"$error":"#DIV/0!"}]
[4980,0,{"$f":"$D$4*'SBUH Model'!B851","v":0},0,0,0,0,0,0,0,0,{"$error":"#DIV/0!"},{"$error":"#DIV/0!"},0,{"$error":"#DIV/0!"},{"$error":"#DIV/0!"}]
[4986,0,{"$f":"$D$4*'SBUH Model'!B852","v":0},0,0,0,0,0,0,0,0,{"$error":"#DIV/0!"},{"$error":"#DIV/0!"},0,{"$error":"#DIV/0!"},{"$error":"#DIV/0!"}]
[4992,0,{"$f":"$D$4*'SBUH Model'!B853","v":0},0,0,0,0,0,0,0,0,{"$error":"#DIV/0!"},{"$error":"#DIV/0!"},0,{"$error":"#DIV/0!"},{"$error":"#DIV/0!"}]
[4998,0,{"$f":"$D$4*'SBUH Model'!B854","v":0},0,0,0,0,0,0,0,0,{"$error":"#DIV/0!"},{"$error":"#DIV/0!"},0,{"$error":"#DIV/0!"},{"$error":"#DIV/0!"}]
[{"$f":"A854+6","v":5004},0,{"$f":"$D$4*'SBUH Model'!B855","v":0},0,0,0,0,0,0,0,0,{"$f":"MAX(0,L854+(D$5/(2*D$16+D$5))*(K854+K855-2*L854))","v":{"$error":"#DIV/0!"}},{"$error":"#DIV/0!"},0,{"$error":"#DIV/0!"},{"$error":"#DIV/0!"}]
[5010,0,{"$f":"$D$4*'SBUH Model'!B856","v":0},0,0,0,0,0,0,0,0,{"$error":"#DIV/0!"},{"$error":"#DIV/0!"},0,{"$error":"#DIV/0!"},{"$error":"#DIV/0!"}]
[5016,0,{"$f":"$D$4*'SBUH Model'!B857","v":0},0,0,0,0,0,0,0,0,{"$error":"#DIV/0!"},{"$error":"#DIV/0!"},0,{"$error":"#DIV/0!"},{"$error":"#DIV/0!"}]
[5022,0,{"$f":"$D$4*'SBUH Model'!B858","v":0},0,0,0,0,0,0,0,0,{"$error":"#DIV/0!"},{"$error":"#DIV/0!"},0,{"$error":"#DIV/0!"},{"$error":"#DIV/0!"}]
[5028,0,{"$f":"$D$4*'SBUH Model'!B859","v":0},0,0,0,0,0,0,0,0,{"$error":"#DIV/0!"},{"$error":"#DIV/0!"},0,{"$error":"#DIV/0!"},{"$error":"#DIV/0!"}]
[5034,0,{"$f":"$D$4*'SBUH Model'!B860","v":0},0,0,0,0,0,0,0,0,{"$error":"#DIV/0!"},{"$error":"#DIV/0!"},0,{"$error":"#DIV/0!"},{"$error":"#DIV/0!"}]
[5040,0,{"$f":"$D$4*'SBUH Model'!B861","v":0},0,0,0,0,0,0,0,0,{"$error":"#DIV/0!"},{"$error":"#DIV/0!"},0,{"$error":"#DIV/0!"},{"$error":"#DIV/0!"}]
[5046,0,{"$f":"$D$4*'SBUH Model'!B862","v":0},0,0,0,0,0,0,0,0,{"$error":"#DIV/0!"},{"$error":"#DIV/0!"},0,{"$error":"#DIV/0!"},{"$error":"#DIV/0!"}]
[5052,0,{"$f":"$D$4*'SBUH Model'!B863","v":0},0,0,0,0,0,0,0,0,{"$error":"#DIV/0!"},{"$error":"#DIV/0!"},0,{"$error":"#DIV/0!"},{"$error":"#DIV/0!"}]
[5058,0,{"$f":"$D$4*'SBUH Model'!B864","v":0},0,0,0,0,0,0,0,0,{"$error":"#DIV/0!"},{"$error":"#DIV/0!"},0,{"$error":"#DIV/0!"},{"$error":"#DIV/0!"}]
[5064,0,{"$f":"$D$4*'SBUH Model'!B865","v":0},0,0,0,0,0,0,0,0,{"$error":"#DIV/0!"},{"$error":"#DIV/0!"},0,{"$error":"#DIV/0!"},{"$error":"#DIV/0!"}]
[5070,0,{"$f":"$D$4*'SBUH Model'!B866","v":0},0,0,0,0,0,0,0,0,{"$error":"#DIV/0!"},{"$error":"#DIV/0!"},0,{"$error":"#DIV/0!"},{"$error":"#DIV/0!"}]
[5076,0,{"$f":"$D$4*'SBUH Model'!B867","v":0},0,0,0,0,0,0,0,0,{"$error":"#DIV/0!"},{"$error":"#DIV/0!"},0,{"$error":"#DIV/0!"},{"$error":"#DIV/0!"}]
[5082,0,{"$f":"$D$4*'SBUH Model'!B868","v":0},0,0,0,0,0,0,0,0,{"$error":"#DIV/0!"},{"$error":"#DIV/0!"},0,{"$error":"#DIV/0!"},{"$error":"#DIV/0!"}]
[5088,0,{"$f":"$D$4*'SBUH Model'!B869","v":0},0,0,0,0,0,0,0,0,{"$error":"#DIV/0!"},{"$error":"#DIV/0!"},0,{"$error":"#DIV/0!"},{"$error":"#DIV/0!"}]
[5094,0,{"$f":"$D$4*'SBUH Model'!B870","v":0},{"$f":"C870+D869","v":0},{"$f":"IF(D870<0.2*F$8,0,(D870-0.2*F$8)^2/(D870+0.8*F$8))","v":0},{"$f":"MAX(0,E870-E869)","v":0},{"$f":"IF(D870<0.2*F$11,0,(D870-0.2*F$11)^2/(D870+0.8*F$11))","v":0},{"$f":"MAX(0,G870-G869)","v":0},{"$f":"IF(D870<0.2*F$12,0,(D870-0.2*F$12)^2/(D870+0.8*F$12))","v":0},{"$f":"MAX(0,I870-I869)","v":0},{"$f":"((F870/12)*SUMPRODUCT(D$8:D$10,G$8:G$10)+(H870/12)*D$11+(J870/12)*D$12)/($D$5*60)","v":0},{"$error":"#DIV/0!"},{"$f":"L870*($D$5*60)","v":{"$error":"#DIV/0!"}},{"$f":"(C870/12)*O$4","v":0},{"$f":"-MIN(O$9*D$5*60,SUM(M870,N870,P869))","v":{"$error":"#DIV/0!"}},{"$f":"P869+SUM(M870:O870)","v":{"$error":"#DIV/0!"}}]
[5100,0,{"$f":"$D$4*'SBUH Model'!B871","v":0},0,0,0,0,0,0,0,0,{"$error":"#DIV/0!"},{"$error":"#DIV/0!"},0,{"$error":"#DIV/0!"},{"$error":"#DIV/0!"}]
[5106,0,{"$f":"$D$4*'SBUH Model'!B872","v":0},0,0,0,0,0,0,0,0,{"$error":"#DIV/0!"},{"$error":"#DIV/0!"},0,{"$error":"#DIV/0!"},{"$error":"#DIV/0!"}]
[5112,0,{"$f":"$D$4*'SBUH Model'!B873","v":0},0,0,0,0,0,0,0,0,{"$error":"#DIV/0!"},{"$error":"#DIV/0!"},0,{"$error":"#DIV/0!"},{"$error":"#DIV/0!"}]
[5118,0,{"$f":"$D$4*'SBUH Model'!B874","v":0},0,0,0,0,0,0,0,0,{"$error":"#DIV/0!"},{"$error":"#DIV/0!"},0,{"$error":"#DIV/0!"},{"$error":"#DIV/0!"}]
[5124,0,{"$f":"$D$4*'SBUH Model'!B875","v":0},0,0,0,0,0,0,0,0,{"$error":"#DIV/0!"},{"$error":"#DIV/0!"},0,{"$error":"#DIV/0!"},{"$error":"#DIV/0!"}]
[5130,0,{"$f":"$D$4*'SBUH Model'!B876","v":0},0,0,0,0,0,0,0,0,{"$error":"#DIV/0!"},{"$error":"#DIV/0!"},0,{"$error":"#DIV/0!"},{"$error":"#DIV/0!"}]
[5136,0,{"$f":"$D$4*'SBUH Model'!B877","v":0},0,0,0,0,0,0,0,0,{"$error":"#DIV/0!"},{"$error":"#DIV/0!"},0,{"$error":"#DIV/0!"},{"$error":"#DIV/0!"}]
[5142,0,{"$f":"$D$4*'SBUH Model'!B878","v":0},0,0,0,0,0,0,0,0,{"$error":"#DIV/0!"},{"$error":"#DIV/0!"},0,{"$error":"#DIV/0!"},{"$error":"#DIV/0!"}]
[5148,0,{"$f":"$D$4*'SBUH Model'!B879","v":0},0,0,0,0,0,0,0,0,{"$error":"#DIV/0!"},{"$error":"#DIV/0!"},0,{"$error":"#DIV/0!"},{"$error":"#DIV/0!"}]
[5154,0,{"$f":"$D$4*'SBUH Model'!B880","v":0},0,0,0,0,0,0,0,0,{"$error":"#DIV/0!"},{"$error":"#DIV/0!"},0,{"$error":"#DIV/0!"},{"$error":"#DIV/0!"}]
[5160,0,{"$f":"$D$4*'SBUH Model'!B881","v":0},0,0,0,0,0,0,0,0,{"$error":"#DIV/0!"},{"$error":"#DIV/0!"},0,{"$error":"#DIV/0!"},{"$error":"#DIV/0!"}]
[5166,0,{"$f":"$D$4*'SBUH Model'!B882","v":0},0,0,0,0,0,0,0,0,{"$error":"#DIV/0!"},{"$error":"#DIV/0!"},0,{"$error":"#DIV/0!"},{"$error":"#DIV/0!"}]
[5172,0,{"$f":"$D$4*'SBUH Model'!B883","v":0},0,0,0,0,0,0,0,0,{"$error":"#DIV/0!"},{"$error":"#DIV/0!"},0,{"$error":"#DIV/0!"},{"$error":"#DIV/0!"}]
[5178,0,{"$f":"$D$4*'SBUH Model'!B884","v":0},0,0,0,0,0,0,0,0,{"$error":"#DIV/0!"},{"$error":"#DIV/0!"},0,{"$error":"#DIV/0!"},{"$error":"#DIV/0!"}]
[5184,0,{"$f":"$D$4*'SBUH Model'!B885","v":0},0,0,0,0,0,0,0,0,{"$error":"#DIV/0!"},{"$error":"#DIV/0!"},0,{"$error":"#DIV/0!"},{"$error":"#DIV/0!"}]
[5190,0,{"$f":"$D$4*'SBUH Model'!B886","v":0},0,0,0,0,0,0,0,0,{"$error":"#DIV/0!"},{"$error":"#DIV/0!"},0,{"$error":"#DIV/0!"},{"$error":"#DIV/0!"}]
[5196,0,{"$f":"$D$4*'SBUH Model'!B887","v":0},0,0,0,0,0,0,0,0,{"$error":"#DIV/0!"},{"$error":"#DIV/0!"},0,{"$error":"#DIV/0!"},{"$error":"#DIV/0!"}]
[5202,0,{"$f":"$D$4*'SBUH Model'!B888","v":0},0,0,0,0,0,0,0,0,{"$error":"#DIV/0!"},{"$error":"#DIV/0!"},0,{"$error":"#DIV/0!"},{"$error":"#DIV/0!"}]
[5208,0,{"$f":"$D$4*'SBUH Model'!B889","v":0},0,0,0,0,0,0,0,0,{"$error":"#DIV/0!"},{"$error":"#DIV/0!"},0,{"$error":"#DIV/0!"},{"$error":"#DIV/0!"}]
[5214,0,{"$f":"$D$4*'SBUH Model'!B890","v":0},0,0,0,0,0,0,0,0,{"$error":"#DIV/0!"},{"$error":"#DIV/0!"},0,{"$error":"#DIV/0!"},{"$error":"#DIV/0!"}]
[5220,0,{"$f":"$D$4*'SBUH Model'!B891","v":0},0,0,0,0,0,0,0,0,{"$error":"#DIV/0!"},{"$error":"#DIV/0!"},0,{"$error":"#DIV/0!"},{"$error":"#DIV/0!"}]
[5226,0,{"$f":"$D$4*'SBUH Model'!B892","v":0},0,0,0,0,0,0,0,0,{"$error":"#DIV/0!"},{"$error":"#DIV/0!"},0,{"$error":"#DIV/0!"},{"$error":"#DIV/0!"}]
[5232,0,{"$f":"$D$4*'SBUH Model'!B893","v":0},0,0,0,0,0,0,0,0,{"$error":"#DIV/0!"},{"$error":"#DIV/0!"},0,{"$error":"#DIV/0!"},{"$error":"#DIV/0!"}]
[5238,0,{"$f":"$D$4*'SBUH Model'!B894","v":0},0,0,0,0,0,0,0,0,{"$error":"#DIV/0!"},{"$error":"#DIV/0!"},0,{"$error":"#DIV/0!"},{"$error":"#DIV/0!"}]
[5244,0,{"$f":"$D$4*'SBUH Model'!B895","v":0},0,0,0,0,0,0,0,0,{"$error":"#DIV/0!"},{"$error":"#DIV/0!"},0,{"$error":"#DIV/0!"},{"$error":"#DIV/0!"}]
[5250,0,{"$f":"$D$4*'SBUH Model'!B896","v":0},0,0,0,0,0,0,0,0,{"$error":"#DIV/0!"},{"$error":"#DIV/0!"},0,{"$error":"#DIV/0!"},{"$error":"#DIV/0!"}]
[5256,0,{"$f":"$D$4*'SBUH Model'!B897","v":0},0,0,0,0,0,0,0,0,{"$error":"#DIV/0!"},{"$error":"#DIV/0!"},0,{"$error":"#DIV/0!"},{"$error":"#DIV/0!"}]
[5262,0,{"$f":"$D$4*'SBUH Model'!B898","v":0},0,0,0,0,0,0,0,0,{"$error":"#DIV/0!"},{"$error":"#DIV/0!"},0,{"$error":"#DIV/0!"},{"$error":"#DIV/0!"}]
[5268,0,{"$f":"$D$4*'SBUH Model'!B899","v":0},0,0,0,0,0,0,0,0,{"$error":"#DIV/0!"},{"$error":"#DIV/0!"},0,{"$error":"#DIV/0!"},{"$error":"#DIV/0!"}]
[5274,0,{"$f":"$D$4*'SBUH Model'!B900","v":0},0,0,0,0,0,0,0,0,{"$error":"#DIV/0!"},{"$error":"#DIV/0!"},0,{"$error":"#DIV/0!"},{"$error":"#DIV/0!"}]
[5280,0,{"$f":"$D$4*'SBUH Model'!B901","v":0},0,0,0,0,0,0,0,0,{"$error":"#DIV/0!"},{"$error":"#DIV/0!"},0,{"$error":"#DIV/0!"},{"$error":"#DIV/0!"}]
[5286,0,{"$f":"$D$4*'SBUH Model'!B902","v":0},0,0,0,0,0,0,0,0,{"$error":"#DIV/0!"},{"$error":"#DIV/0!"},0,{"$error":"#DIV/0!"},{"$error":"#DIV/0!"}]
[5292,0,{"$f":"$D$4*'SBUH Model'!B903","v":0},0,0,0,0,0,0,0,0,{"$error":"#DIV/0!"},{"$error":"#DIV/0!"},0,{"$error":"#DIV/0!"},{"$error":"#DIV/0!"}]
[5298,0,{"$f":"$D$4*'SBUH Model'!B904","v":0},0,0,0,0,0,0,0,0,{"$error":"#DIV/0!"},{"$error":"#DIV/0!"},0,{"$error":"#DIV/0!"},{"$error":"#DIV/0!"}]
[5304,0,{"$f":"$D$4*'SBUH Model'!B905","v":0},0,0,0,0,0,0,0,0,{"$error":"#DIV/0!"},{"$error":"#DIV/0!"},0,{"$error":"#DIV/0!"},{"$error":"#DIV/0!"}]
[5310,0,{"$f":"$D$4*'SBUH Model'!B906","v":0},0,0,0,0,0,0,0,0,{"$error":"#DIV/0!"},{"$error":"#DIV/0!"},0,{"$error":"#DIV/0!"},{"$error":"#DIV/0!"}]
[5316,0,{"$f":"$D$4*'SBUH Model'!B907","v":0},0,0,0,0,0,0,0,0,{"$error":"#DIV/0!"},{"$error":"#DIV/0!"},0,{"$error":"#DIV/0!"},{"$error":"#DIV/0!"}]
[5322,0,{"$f":"$D$4*'SBUH Model'!B908","v":0},0,0,0,0,0,0,0,0,{"$error":"#DIV/0!"},{"$error":"#DIV/0!"},0,{"$error":"#DIV/0!"},{"$error":"#DIV/0!"}]
[5328,0,{"$f":"$D$4*'SBUH Model'!B909","v":0},0,0,0,0,0,0,0,0,{"$error":"#DIV/0!"},{"$error":"#DIV/0!"},0,{"$error":"#DIV/0!"},{"$error":"#DIV/0!"}]
[5334,0,{"$f":"$D$4*'SBUH Model'!B910","v":0},0,0,0,0,0,0,0,0,{"$error":"#DIV/0!"},{"$error":"#DIV/0!"},0,{"$error":"#DIV/0!"},{"$error":"#DIV/0!"}]
[5340,0,{"$f":"$D$4*'SBUH Model'!B911","v":0},0,0,0,0,0,0,0,0,{"$error":"#DIV/0!"},{"$error":"#DIV/0!"},0,{"$error":"#DIV/0!"},{"$error":"#DIV/0!"}]
[5346,0,{"$f":"$D$4*'SBUH Model'!B912","v":0},0,0,0,0,0,0,0,0,{"$error":"#DIV/0!"},{"$error":"#DIV/0!"},0,{"$error":"#DIV/0!"},{"$error":"#DIV/0!"}]
[5352,0,{"$f":"$D$4*'SBUH Model'!B913","v":0},0,0,0,0,0,0,0,0,{"$error":"#DIV/0!"},{"$error":"#DIV/0!"},0,{"$error":"#DIV/0!"},{"$error":"#DIV/0!"}]
[5358,0,{"$f":"$D$4*'SBUH Model'!B914","v":0},0,0,0,0,0,0,0,0,{"$error":"#DIV/0!"},{"$error":"#DIV/0!"},0,{"$error":"#DIV/0!"},{"$error":"#DIV/0!"}]
[5364,0,{"$f":"$D$4*'SBUH Model'!B915","v":0},0,0,0,0,0,0,0,0,{"$error":"#DIV/0!"},{"$error":"#DIV/0!"},0,{"$error":"#DIV/0!"},{"$error":"#DIV/0!"}]
[5370,0,{"$f":"$D$4*'SBUH Model'!B916","v":0},0,0,0,0,0,0,0,0,{"$error":"#DIV/0!"},{"$error":"#DIV/0!"},0,{"$error":"#DIV/0!"},{"$error":"#DIV/0!"}]
[5376,0,{"$f":"$D$4*'SBUH Model'!B917","v":0},0,0,0,0,0,0,0,0,{"$error":"#DIV/0!"},{"$error":"#DIV/0!"},0,{"$error":"#DIV/0!"},{"$error":"#DIV/0!"}]
[5382,0,{"$f":"$D$4*'SBUH Model'!B918","v":0},0,0,0,0,0,0,0,0,{"$error":"#DIV/0!"},{"$error":"#DIV/0!"},0,{"$error":"#DIV/0!"},{"$error":"#DIV/0!"}]
[{"$f":"A918+6","v":5388},0,{"$f":"$D$4*'SBUH Model'!B919","v":0},0,0,0,0,0,0,0,0,{"$f":"MAX(0,L918+(D$5/(2*D$16+D$5))*(K918+K919-2*L918))","v":{"$error":"#DIV/0!"}},{"$error":"#DIV/0!"},0,{"$error":"#DIV/0!"},{"$error":"#DIV/0!"}]
[5394,0,{"$f":"$D$4*'SBUH Model'!B920","v":0},0,0,0,0,0,0,0,0,{"$error":"#DIV/0!"},{"$error":"#DIV/0!"},0,{"$error":"#DIV/0!"},{"$error":"#DIV/0!"}]
[5400,0,{"$f":"$D$4*'SBUH Model'!B921","v":0},0,0,0,0,0,0,0,0,{"$error":"#DIV/0!"},{"$error":"#DIV/0!"},0,{"$error":"#DIV/0!"},{"$error":"#DIV/0!"}]
[5406,0,{"$f":"$D$4*'SBUH Model'!B922","v":0},0,0,0,0,0,0,0,0,{"$error":"#DIV/0!"},{"$error":"#DIV/0!"},0,{"$error":"#DIV/0!"},{"$error":"#DIV/0!"}]
[5412,0,{"$f":"$D$4*'SBUH Model'!B923","v":0},0,0,0,0,0,0,0,0,{"$error":"#DIV/0!"},{"$error":"#DIV/0!"},0,{"$error":"#DIV/0!"},{"$error":"#DIV/0!"}]
[5418,0,{"$f":"$D$4*'SBUH Model'!B924","v":0},0,0,0,0,0,0,0,0,{"$error":"#DIV/0!"},{"$error":"#DIV/0!"},0,{"$error":"#DIV/0!"},{"$error":"#DIV/0!"}]
[5424,0,{"$f":"$D$4*'SBUH Model'!B925","v":0},0,0,0,0,0,0,0,0,{"$error":"#DIV/0!"},{"$error":"#DIV/0!"},0,{"$error":"#DIV/0!"},{"$error":"#DIV/0!"}]
[5430,0,{"$f":"$D$4*'SBUH Model'!B926","v":0},0,0,0,0,0,0,0,0,{"$error":"#DIV/0!"},{"$error":"#DIV/0!"},0,{"$error":"#DIV/0!"},{"$error":"#DIV/0!"}]
[5436,0,{"$f":"$D$4*'SBUH Model'!B927","v":0},0,0,0,0,0,0,0,0,{"$error":"#DIV/0!"},{"$error":"#DIV/0!"},0,{"$error":"#DIV/0!"},{"$error":"#DIV/0!"}]
[5442,0,{"$f":"$D$4*'SBUH Model'!B928","v":0},0,0,0,0,0,0,0,0,{"$error":"#DIV/0!"},{"$error":"#DIV/0!"},0,{"$error":"#DIV/0!"},{"$error":"#DIV/0!"}]
[5448,0,{"$f":"$D$4*'SBUH Model'!B929","v":0},0,0,0,0,0,0,0,0,{"$error":"#DIV/0!"},{"$error":"#DIV/0!"},0,{"$error":"#DIV/0!"},{"$error":"#DIV/0!"}]
[5454,0,{"$f":"$D$4*'SBUH Model'!B930","v":0},0,0,0,0,0,0,0,0,{"$error":"#DIV/0!"},{"$error":"#DIV/0!"},0,{"$error":"#DIV/0!"},{"$error":"#DIV/0!"}]
[5460,0,{"$f":"$D$4*'SBUH Model'!B931","v":0},0,0,0,0,0,0,0,0,{"$error":"#DIV/0!"},{"$error":"#DIV/0!"},0,{"$error":"#DIV/0!"},{"$error":"#DIV/0!"}]
[5466,0,{"$f":"$D$4*'SBUH Model'!B932","v":0},0,0,0,0,0,0,0,0,{"$error":"#DIV/0!"},{"$error":"#DIV/0!"},0,{"$error":"#DIV/0!"},{"$error":"#DIV/0!"}]
[5472,0,{"$f":"$D$4*'SBUH Model'!B933","v":0},0,0,0,0,0,0,0,0,{"$error":"#DIV/0!"},{"$error":"#DIV/0!"},0,{"$error":"#DIV/0!"},{"$error":"#DIV/0!"}]
[5478,0,{"$f":"$D$4*'SBUH Model'!B934","v":0},{"$f":"C934+D933","v":0},{"$f":"IF(D934<0.2*F$8,0,(D934-0.2*F$8)^2/(D934+0.8*F$8))","v":0},{"$f":"MAX(0,E934-E933)","v":0},{"$f":"IF(D934<0.2*F$11,0,(D934-0.2*F$11)^2/(D934+0.8*F$11))","v":0},{"$f":"MAX(0,G934-G933)","v":0},{"$f":"IF(D934<0.2*F$12,0,(D934-0.2*F$12)^2/(D934+0.8*F$12))","v":0},{"$f":"MAX(0,I934-I933)","v":0},{"$f":"((F934/12)*SUMPRODUCT(D$8:D$10,G$8:G$10)+(H934/12)*D$11+(J934/12)*D$12)/($D$5*60)","v":0},{"$error":"#DIV/0!"},{"$f":"L934*($D$5*60)","v":{"$error":"#DIV/0!"}},{"$f":"(C934/12)*O$4","v":0},{"$f":"-MIN(O$9*D$5*60,SUM(M934,N934,P933))","v":{"$error":"#DIV/0!"}},{"$f":"P933+SUM(M934:O934)","v":{"$error":"#DIV/0!"}}]
[5484,0,{"$f":"$D$4*'SBUH Model'!B935","v":0},0,0,0,0,0,0,0,0,{"$error":"#DIV/0!"},{"$error":"#DIV/0!"},0,{"$error":"#DIV/0!"},{"$error":"#DIV/0!"}]
[5490,0,{"$f":"$D$4*'SBUH Model'!B936","v":0},0,0,0,0,0,0,0,0,{"$error":"#DIV/0!"},{"$error":"#DIV/0!"},0,{"$error":"#DIV/0!"},{"$error":"#DIV/0!"}]
[5496,0,{"$f":"$D$4*'SBUH Model'!B937","v":0},0,0,0,0,0,0,0,0,{"$error":"#DIV/0!"},{"$error":"#DIV/0!"},0,{"$error":"#DIV/0!"},{"$error":"#DIV/0!"}]
[5502,0,{"$f":"$D$4*'SBUH Model'!B938","v":0},0,0,0,0,0,0,0,0,{"$error":"#DIV/0!"},{"$error":"#DIV/0!"},0,{"$error":"#DIV/0!"},{"$error":"#DIV/0!"}]
[5508,0,{"$f":"$D$4*'SBUH Model'!B939","v":0},0,0,0,0,0,0,0,0,{"$error":"#DIV/0!"},{"$error":"#DIV/0!"},0,{"$error":"#DIV/0!"},{"$error":"#DIV/0!"}]
[5514,0,{"$f":"$D$4*'SBUH Model'!B940","v":0},0,0,0,0,0,0,0,0,{"$error":"#DIV/0!"},{"$error":"#DIV/0!"},0,{"$error":"#DIV/0!"},{"$error":"#DIV/0!"}]
[5520,0,{"$f":"$D$4*'SBUH Model'!B941","v":0},0,0,0,0,0,0,0,0,{"$error":"#DIV/0!"},{"$error":"#DIV/0!"},0,{"$error":"#DIV/0!"},{"$error":"#DIV/0!"}]
[5526,0,{"$f":"$D$4*'SBUH Model'!B942","v":0},0,0,0,0,0,0,0,0,{"$error":"#DIV/0!"},{"$error":"#DIV/0!"},0,{"$error":"#DIV/0!"},{"$error":"#DIV/0!"}]
[5532,0,{"$f":"$D$4*'SBUH Model'!B943","v":0},0,0,0,0,0,0,0,0,{"$error":"#DIV/0!"},{"$error":"#DIV/0!"},0,{"$error":"#DIV/0!"},{"$error":"#DIV/0!"}]
[5538,0,{"$f":"$D$4*'SBUH Model'!B944","v":0},0,0,0,0,0,0,0,0,{"$error":"#DIV/0!"},{"$error":"#DIV/0!"},0,{"$error":"#DIV/0!"},{"$error":"#DIV/0!"}]
[5544,0,{"$f":"$D$4*'SBUH Model'!B945","v":0},0,0,0,0,0,0,0,0,{"$error":"#DIV/0!"},{"$error":"#DIV/0!"},0,{"$error":"#DIV/0!"},{"$error":"#DIV/0!"}]
[5550,0,{"$f":"$D$4*'SBUH Model'!B946","v":0},0,0,0,0,0,0,0,0,{"$error":"#DIV/0!"},{"$error":"#DIV/0!"},0,{"$error":"#DIV/0!"},{"$error":"#DIV/0!"}]
[5556,0,{"$f":"$D$4*'SBUH Model'!B947","v":0},0,0,0,0,0,0,0,0,{"$error":"#DIV/0!"},{"$error":"#DIV/0!"},0,{"$error":"#DIV/0!"},{"$error":"#DIV/0!"}]
[5562,0,{"$f":"$D$4*'SBUH Model'!B948","v":0},0,0,0,0,0,0,0,0,{"$error":"#DIV/0!"},{"$error":"#DIV/0!"},0,{"$error":"#DIV/0!"},{"$error":"#DIV/0!"}]
[5568,0,{"$f":"$D$4*'SBUH Model'!B949","v":0},0,0,0,0,0,0,0,0,{"$error":"#DIV/0!"},{"$error":"#DIV/0!"},0,{"$error":"#DIV/0!"},{"$error":"#DIV/0!"}]
[5574,0,{"$f":"$D$4*'SBUH Model'!B950","v":0},0,0,0,0,0,0,0,0,{"$error":"#DIV/0!"},{"$error":"#DIV/0!"},0,{"$error":"#DIV/0!"},{"$error":"#DIV/0!"}]
[5580,0,{"$f":"$D$4*'SBUH Model'!B951","v":0},0,0,0,0,0,0,0,0,{"$error":"#DIV/0!"},{"$error":"#DIV/0!"},0,{"$error":"#DIV/0!"},{"$error":"#DIV/0!"}]
[5586,0,{"$f":"$D$4*'SBUH Model'!B952","v":0},0,0,0,0,0,0,0,0,{"$error":"#DIV/0!"},{"$error":"#DIV/0!"},0,{"$error":"#DIV/0!"},{"$error":"#DIV/0!"}]
[5592,0,{"$f":"$D$4*'SBUH Model'!B953","v":0},0,0,0,0,0,0,0,0,{"$error":"#DIV/0!"},{"$error":"#DIV/0!"},0,{"$error":"#DIV/0!"},{"$error":"#DIV/0!"}]
[5598,0,{"$f":"$D$4*'SBUH Model'!B954","v":0},0,0,0,0,0,0,0,0,{"$error":"#DIV/0!"},{"$error":"#DIV/0!"},0,{"$error":"#DIV/0!"},{"$error":"#DIV/0!"}]
[5604,0,{"$f":"$D$4*'SBUH Model'!B955","v":0},0,0,0,0,0,0,0,0,{"$error":"#DIV/0!"},{"$error":"#DIV/0!"},0,{"$error":"#DIV/0!"},{"$error":"#DIV/0!"}]
[5610,0,{"$f":"$D$4*'SBUH Model'!B956","v":0},0,0,0,0,0,0,0,0,{"$error":"#DIV/0!"},{"$error":"#DIV/0!"},0,{"$error":"#DIV/0!"},{"$error":"#DIV/0!"}]
[5616,0,{"$f":"$D$4*'SBUH Model'!B957","v":0},0,0,0,0,0,0,0,0,{"$error":"#DIV/0!"},{"$error":"#DIV/0!"},0,{"$error":"#DIV/0!"},{"$error":"#DIV/0!"}]
[5622,0,{"$f":"$D$4*'SBUH Model'!B958","v":0},0,0,0,0,0,0,0,0,{"$error":"#DIV/0!"},{"$error":"#DIV/0!"},0,{"$error":"#DIV/0!"},{"$error":"#DIV/0!"}]
[5628,0,{"$f":"$D$4*'SBUH Model'!B959","v":0},0,0,0,0,0,0,0,0,{"$error":"#DIV/0!"},{"$error":"#DIV/0!"},0,{"$error":"#DIV/0!"},{"$error":"#DIV/0!"}]
[5634,0,{"$f":"$D$4*'SBUH Model'!B960","v":0},0,0,0,0,0,0,0,0,{"$error":"#DIV/0!"},{"$error":"#DIV/0!"},0,{"$error":"#DIV/0!"},{"$error":"#DIV/0!"}]
[5640,0,{"$f":"$D$4*'SBUH Model'!B961","v":0},0,0,0,0,0,0,0,0,{"$error":"#DIV/0!"},{"$error":"#DIV/0!"},0,{"$error":"#DIV/0!"},{"$error":"#DIV/0!"}]
[5646,0,{"$f":"$D$4*'SBUH Model'!B962","v":0},0,0,0,0,0,0,0,0,{"$error":"#DIV/0!"},{"$error":"#DIV/0!"},0,{"$error":"#DIV/0!"},{"$error":"#DIV/0!"}]
[5652,0,{"$f":"$D$4*'SBUH Model'!B963","v":0},0,0,0,0,0,0,0,0,{"$error":"#DIV/0!"},{"$error":"#DIV/0!"},0,{"$error":"#DIV/0!"},{"$error":"#DIV/0!"}]
[5658,0,{"$f":"$D$4*'SBUH Model'!B964","v":0},0,0,0,0,0,0,0,0,{"$error":"#DIV/0!"},{"$error":"#DIV/0!"},0,{"$error":"#DIV/0!"},{"$error":"#DIV/0!"}]
[5664,0,{"$f":"$D$4*'SBUH Model'!B965","v":0},0,0,0,0,0,0,0,0,{"$error":"#DIV/0!"},{"$error":"#DIV/0!"},0,{"$error":"#DIV/0!"},{"$error":"#DIV/0!"}]
[5670,0,{"$f":"$D$4*'SBUH Model'!B966","v":0},0,0,0,0,0,0,0,0,{"$error":"#DIV/0!"},{"$error":"#DIV/0!"},0,{"$error":"#DIV/0!"},{"$error":"#DIV/0!"}]
[5676,0,{"$f":"$D$4*'SBUH Model'!B967","v":0},0,0,0,0,0,0,0,0,{"$error":"#DIV/0!"},{"$error":"#DIV/0!"},0,{"$error":"#DIV/0!"},{"$error":"#DIV/0!"}]
[5682,0,{"$f":"$D$4*'SBUH Model'!B968","v":0},0,0,0,0,0,0,0,0,{"$error":"#DIV/0!"},{"$error":"#DIV/0!"},0,{"$error":"#DIV/0!"},{"$error":"#DIV/0!"}]
[5688,0,{"$f":"$D$4*'SBUH Model'!B969","v":0},0,0,0,0,0,0,0,0,{"$error":"#DIV/0!"},{"$error":"#DIV/0!"},0,{"$error":"#DIV/0!"},{"$error":"#DIV/0!"}]
[5694,0,{"$f":"$D$4*'SBUH Model'!B970","v":0},0,0,0,0,0,0,0,0,{"$error":"#DIV/0!"},{"$error":"#DIV/0!"},0,{"$error":"#DIV/0!"},{"$error":"#DIV/0!"}]
[5700,0,{"$f":"$D$4*'SBUH Model'!B971","v":0},0,0,0,0,0,0,0,0,{"$error":"#DIV/0!"},{"$error":"#DIV/0!"},0,{"$error":"#DIV/0!"},{"$error":"#DIV/0!"}]
[5706,0,{"$f":"$D$4*'SBUH Model'!B972","v":0},0,0,0,0,0,0,0,0,{"$error":"#DIV/0!"},{"$error":"#DIV/0!"},0,{"$error":"#DIV/0!"},{"$error":"#DIV/0!"}]
[5712,0,{"$f":"$D$4*'SBUH Model'!B973","v":0},0,0,0,0,0,0,0,0,{"$error":"#DIV/0!"},{"$error":"#DIV/0!"},0,{"$error":"#DIV/0!"},{"$error":"#DIV/0!"}]
[5718,0,{"$f":"$D$4*'SBUH Model'!B974","v":0},0,0,0,0,0,0,0,0,{"$error":"#DIV/0!"},{"$error":"#DIV/0!"},0,{"$error":"#DIV/0!"},{"$error":"#DIV/0!"}]
[5724,0,{"$f":"$D$4*'SBUH Model'!B975","v":0},0,0,0,0,0,0,0,0,{"$error":"#DIV/0!"},{"$error":"#DIV/0!"},0,{"$error":"#DIV/0!"},{"$error":"#DIV/0!"}]
[5730,0,{"$f":"$D$4*'SBUH Model'!B976","v":0},0,0,0,0,0,0,0,0,{"$error":"#DIV/0!"},{"$error":"#DIV/0!"},0,{"$error":"#DIV/0!"},{"$error":"#DIV/0!"}]
[5736,0,{"$f":"$D$4*'SBUH Model'!B977","v":0},0,0,0,0,0,0,0,0,{"$error":"#DIV/0!"},{"$error":"#DIV/0!"},0,{"$error":"#DIV/0!"},{"$error":"#DIV/0!"}]
[5742,0,{"$f":"$D$4*'SBUH Model'!B978","v":0},0,0,0,0,0,0,0,0,{"$error":"#DIV/0!"},{"$error":"#DIV/0!"},0,{"$error":"#DIV/0!"},{"$error":"#DIV/0!"}]
[5748,0,{"$f":"$D$4*'SBUH Model'!B979","v":0},0,0,0,0,0,0,0,0,{"$error":"#DIV/0!"},{"$error":"#DIV/0!"},0,{"$error":"#DIV/0!"},{"$error":"#DIV/0!"}]
[5754,0,{"$f":"$D$4*'SBUH Model'!B980","v":0},0,0,0,0,0,0,0,0,{"$error":"#DIV/0!"},{"$error":"#DIV/0!"},0,{"$error":"#DIV/0!"},{"$error":"#DIV/0!"}]
[5760,0,{"$f":"$D$4*'SBUH Model'!B981","v":0},0,0,0,0,0,0,0,0,{"$error":"#DIV/0!"},{"$error":"#DIV/0!"},0,{"$error":"#DIV/0!"},{"$error":"#DIV/0!"}]
[5766,0,{"$f":"$D$4*'SBUH Model'!B982","v":0},0,0,0,0,0,0,0,0,{"$error":"#DIV/0!"},{"$error":"#DIV/0!"},0,{"$error":"#DIV/0!"},{"$error":"#DIV/0!"}]
[{"$f":"A982+6","v":5772},0,{"$f":"$D$4*'SBUH Model'!B983","v":0},0,0,0,0,0,0,0,0,{"$f":"MAX(0,L982+(D$5/(2*D$16+D$5))*(K982+K983-2*L982))","v":{"$error":"#DIV/0!"}},{"$error":"#DIV/0!"},0,{"$error":"#DIV/0!"},{"$error":"#DIV/0!"}]
[5778,0,{"$f":"$D$4*'SBUH Model'!B984","v":0},0,0,0,0,0,0,0,0,{"$error":"#DIV/0!"},{"$error":"#DIV/0!"},0,{"$error":"#DIV/0!"},{"$error":"#DIV/0!"}]
[5784,0,{"$f":"$D$4*'SBUH Model'!B985","v":0},0,0,0,0,0,0,0,0,{"$error":"#DIV/0!"},{"$error":"#DIV/0!"},0,{"$error":"#DIV/0!"},{"$error":"#DIV/0!"}]
[5790,0,{"$f":"$D$4*'SBUH Model'!B986","v":0},0,0,0,0,0,0,0,0,{"$error":"#DIV/0!"},{"$error":"#DIV/0!"},0,{"$error":"#DIV/0!"},{"$error":"#DIV/0!"}]
[5796,0,{"$f":"$D$4*'SBUH Model'!B987","v":0},0,0,0,0,0,0,0,0,{"$error":"#DIV/0!"},{"$error":"#DIV/0!"},0,{"$error":"#DIV/0!"},{"$error":"#DIV/0!"}]
[5802,0,{"$f":"$D$4*'SBUH Model'!B988","v":0},0,0,0,0,0,0,0,0,{"$error":"#DIV/0!"},{"$error":"#DIV/0!"},0,{"$error":"#DIV/0!"},{"$error":"#DIV/0!"}]
[5808,0,{"$f":"$D$4*'SBUH Model'!B989","v":0},0,0,0,0,0,0,0,0,{"$error":"#DIV/0!"},{"$error":"#DIV/0!"},0,{"$error":"#DIV/0!"},{"$error":"#DIV/0!"}]
[5814,0,{"$f":"$D$4*'SBUH Model'!B990","v":0},0,0,0,0,0,0,0,0,{"$error":"#DIV/0!"},{"$error":"#DIV/0!"},0,{"$error":"#DIV/0!"},{"$error":"#DIV/0!"}]
[5820,0,{"$f":"$D$4*'SBUH Model'!B991","v":0},0,0,0,0,0,0,0,0,{"$error":"#DIV/0!"},{"$error":"#DIV/0!"},0,{"$error":"#DIV/0!"},{"$error":"#DIV/0!"}]
[5826,0,{"$f":"$D$4*'SBUH Model'!B992","v":0},0,0,0,0,0,0,0,0,{"$error":"#DIV/0!"},{"$error":"#DIV/0!"},0,{"$error":"#DIV/0!"},{"$error":"#DIV/0!"}]
[5832,0,{"$f":"$D$4*'SBUH Model'!B993","v":0},0,0,0,0,0,0,0,0,{"$error":"#DIV/0!"},{"$error":"#DIV/0!"},0,{"$error":"#DIV/0!"},{"$error":"#DIV/0!"}]
[5838,0,{"$f":"$D$4*'SBUH Model'!B994","v":0},0,0,0,0,0,0,0,0,{"$error":"#DIV/0!"},{"$error":"#DIV/0!"},0,{"$error":"#DIV/0!"},{"$error":"#DIV/0!"}]
[5844,0,{"$f":"$D$4*'SBUH Model'!B995","v":0},0,0,0,0,0,0,0,0,{"$error":"#DIV/0!"},{"$error":"#DIV/0!"},0,{"$error":"#DIV/0!"},{"$error":"#DIV/0!"}]
[5850,0,{"$f":"$D$4*'SBUH Model'!B996","v":0},0,0,0,0,0,0,0,0,{"$error":"#DIV/0!"},{"$error":"#DIV/0!"},0,{"$error":"#DIV/0!"},{"$error":"#DIV/0!"}]
[5856,0,{"$f":"$D$4*'SBUH Model'!B997","v":0},0,0,0,0,0,0,0,0,{"$error":"#DIV/0!"},{"$error":"#DIV/0!"},0,{"$error":"#DIV/0!"},{"$error":"#DIV/0!"}]
[5862,0,{"$f":"$D$4*'SBUH Model'!B998","v":0},{"$f":"C998+D997","v":0},{"$f":"IF(D998<0.2*F$8,0,(D998-0.2*F$8)^2/(D998+0.8*F$8))","v":0},{"$f":"MAX(0,E998-E997)","v":0},{"$f":"IF(D998<0.2*F$11,0,(D998-0.2*F$11)^2/(D998+0.8*F$11))","v":0},{"$f":"MAX(0,G998-G997)","v":0},{"$f":"IF(D998<0.2*F$12,0,(D998-0.2*F$12)^2/(D998+0.8*F$12))","v":0},{"$f":"MAX(0,I998-I997)","v":0},{"$f":"((F998/12)*SUMPRODUCT(D$8:D$10,G$8:G$10)+(H998/12)*D$11+(J998/12)*D$12)/($D$5*60)","v":0},{"$error":"#DIV/0!"},{"$f":"L998*($D$5*60)","v":{"$error":"#DIV/0!"}},{"$f":"(C998/12)*O$4","v":0},{"$f":"-MIN(O$9*D$5*60,SUM(M998,N998,P997))","v":{"$error":"#DIV/0!"}},{"$f":"P997+SUM(M998:O998)","v":{"$error":"#DIV/0!"}}]
[5868,0,{"$f":"$D$4*'SBUH Model'!B999","v":0},0,0,0,0,0,0,0,0,{"$error":"#DIV/0!"},{"$error":"#DIV/0!"},0,{"$error":"#DIV/0!"},{"$error":"#DIV/0!"}]
[5874,0,{"$f":"$D$4*'SBUH Model'!B1000","v":0},0,0,0,0,0,0,0,0,{"$error":"#DIV/0!"},{"$error":"#DIV/0!"},0,{"$error":"#DIV/0!"},{"$error":"#DIV/0!"}]
[5880,0,{"$f":"$D$4*'SBUH Model'!B1001","v":0},0,0,0,0,0,0,0,0,{"$error":"#DIV/0!"},{"$error":"#DIV/0!"},0,{"$error":"#DIV/0!"},{"$error":"#DIV/0!"}]
[5886,0,{"$f":"$D$4*'SBUH Model'!B1002","v":0},0,0,0,0,0,0,0,0,{"$error":"#DIV/0!"},{"$error":"#DIV/0!"},0,{"$error":"#DIV/0!"},{"$error":"#DIV/0!"}]
[5892,0,{"$f":"$D$4*'SBUH Model'!B1003","v":0},0,0,0,0,0,0,0,0,{"$error":"#DIV/0!"},{"$error":"#DIV/0!"},0,{"$error":"#DIV/0!"},{"$error":"#DIV/0!"}]
[5898,0,{"$f":"$D$4*'SBUH Model'!B1004","v":0},0,0,0,0,0,0,0,0,{"$error":"#DIV/0!"},{"$error":"#DIV/0!"},0,{"$error":"#DIV/0!"},{"$error":"#DIV/0!"}]
[5904,0,{"$f":"$D$4*'SBUH Model'!B1005","v":0},0,0,0,0,0,0,0,0,{"$error":"#DIV/0!"},{"$error":"#DIV/0!"},0,{"$error":"#DIV/0!"},{"$error":"#DIV/0!"}]
[5910,0,{"$f":"$D$4*'SBUH Model'!B1006","v":0},0,0,0,0,0,0,0,0,{"$error":"#DIV/0!"},{"$error":"#DIV/0!"},0,{"$error":"#DIV/0!"},{"$error":"#DIV/0!"}]
[5916,0,{"$f":"$D$4*'SBUH Model'!B1007","v":0},0,0,0,0,0,0,0,0,{"$error":"#DIV/0!"},{"$error":"#DIV/0!"},0,{"$error":"#DIV/0!"},{"$error":"#DIV/0!"}]
[5922,0,{"$f":"$D$4*'SBUH Model'!B1008","v":0},0,0,0,0,0,0,0,0,{"$error":"#DIV/0!"},{"$error":"#DIV/0!"},0,{"$error":"#DIV/0!"},{"$error":"#DIV/0!"}]
[5928,0,{"$f":"$D$4*'SBUH Model'!B1009","v":0},0,0,0,0,0,0,0,0,{"$error":"#DIV/0!"},{"$error":"#DIV/0!"},0,{"$error":"#DIV/0!"},{"$error":"#DIV/0!"}]
[5934,0,{"$f":"$D$4*'SBUH Model'!B1010","v":0},0,0,0,0,0,0,0,0,{"$error":"#DIV/0!"},{"$error":"#DIV/0!"},0,{"$error":"#DIV/0!"},{"$error":"#DIV/0!"}]
[5940,0,{"$f":"$D$4*'SBUH Model'!B1011","v":0},0,0,0,0,0,0,0,0,{"$error":"#DIV/0!"},{"$error":"#DIV/0!"},0,{"$error":"#DIV/0!"},{"$error":"#DIV/0!"}]
[5946,0,{"$f":"$D$4*'SBUH Model'!B1012","v":0},0,0,0,0,0,0,0,0,{"$error":"#DIV/0!"},{"$error":"#DIV/0!"},0,{"$error":"#DIV/0!"},{"$error":"#DIV/0!"}]
[5952,0,{"$f":"$D$4*'SBUH Model'!B1013","v":0},0,0,0,0,0,0,0,0,{"$error":"#DIV/0!"},{"$error":"#DIV/0!"},0,{"$error":"#DIV/0!"},{"$error":"#DIV/0!"}]
[5958,0,{"$f":"$D$4*'SBUH Model'!B1014","v":0},0,0,0,0,0,0,0,0,{"$error":"#DIV/0!"},{"$error":"#DIV/0!"},0,{"$error":"#DIV/0!"},{"$error":"#DIV/0!"}]
[5964,0,{"$f":"$D$4*'SBUH Model'!B1015","v":0},0,0,0,0,0,0,0,0,{"$error":"#DIV/0!"},{"$error":"#DIV/0!"},0,{"$error":"#DIV/0!"},{"$error":"#DIV/0!"}]
[5970,0,{"$f":"$D$4*'SBUH Model'!B1016","v":0},0,0,0,0,0,0,0,0,{"$error":"#DIV/0!"},{"$error":"#DIV/0!"},0,{"$error":"#DIV/0!"},{"$error":"#DIV/0!"}]
[5976,0,{"$f":"$D$4*'SBUH Model'!B1017","v":0},0,0,0,0,0,0,0,0,{"$error":"#DIV/0!"},{"$error":"#DIV/0!"},0,{"$error":"#DIV/0!"},{"$error":"#DIV/0!"}]
[5982,0,{"$f":"$D$4*'SBUH Model'!B1018","v":0},0,0,0,0,0,0,0,0,{"$error":"#DIV/0!"},{"$error":"#DIV/0!"},0,{"$error":"#DIV/0!"},{"$error":"#DIV/0!"}]
[5988,0,{"$f":"$D$4*'SBUH Model'!B1019","v":0},0,0,0,0,0,0,0,0,{"$error":"#DIV/0!"},{"$error":"#DIV/0!"},0,{"$error":"#DIV/0!"},{"$error":"#DIV/0!"}]
[5994,0,{"$f":"$D$4*'SBUH Model'!B1020","v":0},0,0,0,0,0,0,0,0,{"$error":"#DIV/0!"},{"$error":"#DIV/0!"},0,{"$error":"#DIV/0!"},{"$error":"#DIV/0!"}]
[6000,0,{"$f":"$D$4*'SBUH Model'!B1021","v":0},0,0,0,0,0,0,0,0,{"$error":"#DIV/0!"},{"$error":"#DIV/0!"},0,{"$error":"#DIV/0!"},{"$error":"#DIV/0!"}]
[6006,0,{"$f":"$D$4*'SBUH Model'!B1022","v":0},0,0,0,0,0,0,0,0,{"$error":"#DIV/0!"},{"$error":"#DIV/0!"},0,{"$error":"#DIV/0!"},{"$error":"#DIV/0!"}]
[6012,0,{"$f":"$D$4*'SBUH Model'!B1023","v":0},0,0,0,0,0,0,0,0,{"$error":"#DIV/0!"},{"$error":"#DIV/0!"},0,{"$error":"#DIV/0!"},{"$error":"#DIV/0!"}]
[6018,0,{"$f":"$D$4*'SBUH Model'!B1024","v":0},0,0,0,0,0,0,0,0,{"$error":"#DIV/0!"},{"$error":"#DIV/0!"},0,{"$error":"#DIV/0!"},{"$error":"#DIV/0!"}]
[6024,0,{"$f":"$D$4*'SBUH Model'!B1025","v":0},0,0,0,0,0,0,0,0,{"$error":"#DIV/0!"},{"$error":"#DIV/0!"},0,{"$error":"#DIV/0!"},{"$error":"#DIV/0!"}]
[6030,0,{"$f":"$D$4*'SBUH Model'!B1026","v":0},0,0,0,0,0,0,0,0,{"$error":"#DIV/0!"},{"$error":"#DIV/0!"},0,{"$error":"#DIV/0!"},{"$error":"#DIV/0!"}]
[6036,0,{"$f":"$D$4*'SBUH Model'!B1027","v":0},0,0,0,0,0,0,0,0,{"$error":"#DIV/0!"},{"$error":"#DIV/0!"},0,{"$error":"#DIV/0!"},{"$error":"#DIV/0!"}]
[6042,0,{"$f":"$D$4*'SBUH Model'!B1028","v":0},0,0,0,0,0,0,0,0,{"$error":"#DIV/0!"},{"$error":"#DIV/0!"},0,{"$error":"#DIV/0!"},{"$error":"#DIV/0!"}]
[6048,0,{"$f":"$D$4*'SBUH Model'!B1029","v":0},0,0,0,0,0,0,0,0,{"$error":"#DIV/0!"},{"$error":"#DIV/0!"},0,{"$error":"#DIV/0!"},{"$error":"#DIV/0!"}]
[6054,0,{"$f":"$D$4*'SBUH Model'!B1030","v":0},0,0,0,0,0,0,0,0,{"$error":"#DIV/0!"},{"$error":"#DIV/0!"},0,{"$error":"#DIV/0!"},{"$error":"#DIV/0!"}]
[6060,0,{"$f":"$D$4*'SBUH Model'!B1031","v":0},0,0,0,0,0,0,0,0,{"$error":"#DIV/0!"},{"$error":"#DIV/0!"},0,{"$error":"#DIV/0!"},{"$error":"#DIV/0!"}]
[6066,0,{"$f":"$D$4*'SBUH Model'!B1032","v":0},0,0,0,0,0,0,0,0,{"$error":"#DIV/0!"},{"$error":"#DIV/0!"},0,{"$error":"#DIV/0!"},{"$error":"#DIV/0!"}]
[6072,0,{"$f":"$D$4*'SBUH Model'!B1033","v":0},0,0,0,0,0,0,0,0,{"$error":"#DIV/0!"},{"$error":"#DIV/0!"},0,{"$error":"#DIV/0!"},{"$error":"#DIV/0!"}]
[6078,0,{"$f":"$D$4*'SBUH Model'!B1034","v":0},0,0,0,0,0,0,0,0,{"$error":"#DIV/0!"},{"$error":"#DIV/0!"},0,{"$error":"#DIV/0!"},{"$error":"#DIV/0!"}]
[6084,0,{"$f":"$D$4*'SBUH Model'!B1035","v":0},0,0,0,0,0,0,0,0,{"$error":"#DIV/0!"},{"$error":"#DIV/0!"},0,{"$error":"#DIV/0!"},{"$error":"#DIV/0!"}]
[6090,0,{"$f":"$D$4*'SBUH Model'!B1036","v":0},0,0,0,0,0,0,0,0,{"$error":"#DIV/0!"},{"$error":"#DIV/0!"},0,{"$error":"#DIV/0!"},{"$error":"#DIV/0!"}]
[6096,0,{"$f":"$D$4*'SBUH Model'!B1037","v":0},0,0,0,0,0,0,0,0,{"$error":"#DIV/0!"},{"$error":"#DIV/0!"},0,{"$error":"#DIV/0!"},{"$error":"#DIV/0!"}]
[6102,0,{"$f":"$D$4*'SBUH Model'!B1038","v":0},0,0,0,0,0,0,0,0,{"$error":"#DIV/0!"},{"$error":"#DIV/0!"},0,{"$error":"#DIV/0!"},{"$error":"#DIV/0!"}]
[6108,0,{"$f":"$D$4*'SBUH Model'!B1039","v":0},0,0,0,0,0,0,0,0,{"$error":"#DIV/0!"},{"$error":"#DIV/0!"},0,{"$error":"#DIV/0!"},{"$error":"#DIV/0!"}]
[6114,0,{"$f":"$D$4*'SBUH Model'!B1040","v":0},0,0,0,0,0,0,0,0,{"$error":"#DIV/0!"},{"$error":"#DIV/0!"},0,{"$error":"#DIV/0!"},{"$error":"#DIV/0!"}]
[6120,0,{"$f":"$D$4*'SBUH Model'!B1041","v":0},0,0,0,0,0,0,0,0,{"$error":"#DIV/0!"},{"$error":"#DIV/0!"},0,{"$error":"#DIV/0!"},{"$error":"#DIV/0!"}]
[6126,0,{"$f":"$D$4*'SBUH Model'!B1042","v":0},0,0,0,0,0,0,0,0,{"$error":"#DIV/0!"},{"$error":"#DIV/0!"},0,{"$error":"#DIV/0!"},{"$error":"#DIV/0!"}]
[6132,0,{"$f":"$D$4*'SBUH Model'!B1043","v":0},0,0,0,0,0,0,0,0,{"$error":"#DIV/0!"},{"$error":"#DIV/0!"},0,{"$error":"#DIV/0!"},{"$error":"#DIV/0!"}]
[6138,0,{"$f":"$D$4*'SBUH Model'!B1044","v":0},0,0,0,0,0,0,0,0,{"$error":"#DIV/0!"},{"$error":"#DIV/0!"},0,{"$error":"#DIV/0!"},{"$error":"#DIV/0!"}]
[6144,0,{"$f":"$D$4*'SBUH Model'!B1045","v":0},0,0,0,0,0,0,0,0,{"$error":"#DIV/0!"},{"$error":"#DIV/0!"},0,{"$error":"#DIV/0!"},{"$error":"#DIV/0!"}]
[6150,0,{"$f":"$D$4*'SBUH Model'!B1046","v":0},0,0,0,0,0,0,0,0,{"$error":"#DIV/0!"},{"$error":"#DIV/0!"},0,{"$error":"#DIV/0!"},{"$error":"#DIV/0!"}]
[{"$f":"A1046+6","v":6156},0,{"$f":"$D$4*'SBUH Model'!B1047","v":0},0,0,0,0,0,0,0,0,{"$f":"MAX(0,L1046+(D$5/(2*D$16+D$5))*(K1046+K1047-2*L1046))","v":{"$error":"#DIV/0!"}},{"$error":"#DIV/0!"},0,{"$error":"#DIV/0!"},{"$error":"#DIV/0!"}]
[6162,0,{"$f":"$D$4*'SBUH Model'!B1048","v":0},0,0,0,0,0,0,0,0,{"$error":"#DIV/0!"},{"$error":"#DIV/0!"},0,{"$error":"#DIV/0!"},{"$error":"#DIV/0!"}]
[6168,0,{"$f":"$D$4*'SBUH Model'!B1049","v":0},0,0,0,0,0,0,0,0,{"$error":"#DIV/0!"},{"$error":"#DIV/0!"},0,{"$error":"#DIV/0!"},{"$error":"#DIV/0!"}]
[6174,0,{"$f":"$D$4*'SBUH Model'!B1050","v":0},0,0,0,0,0,0,0,0,{"$error":"#DIV/0!"},{"$error":"#DIV/0!"},0,{"$error":"#DIV/0!"},{"$error":"#DIV/0!"}]
[6180,0,{"$f":"$D$4*'SBUH Model'!B1051","v":0},0,0,0,0,0,0,0,0,{"$error":"#DIV/0!"},{"$error":"#DIV/0!"},0,{"$error":"#DIV/0!"},{"$error":"#DIV/0!"}]
[6186,0,{"$f":"$D$4*'SBUH Model'!B1052","v":0},0,0,0,0,0,0,0,0,{"$error":"#DIV/0!"},{"$error":"#DIV/0!"},0,{"$error":"#DIV/0!"},{"$error":"#DIV/0!"}]
[6192,0,{"$f":"$D$4*'SBUH Model'!B1053","v":0},0,0,0,0,0,0,0,0,{"$error":"#DIV/0!"},{"$error":"#DIV/0!"},0,{"$error":"#DIV/0!"},{"$error":"#DIV/0!"}]
[6198,0,{"$f":"$D$4*'SBUH Model'!B1054","v":0},0,0,0,0,0,0,0,0,{"$error":"#DIV/0!"},{"$error":"#DIV/0!"},0,{"$error":"#DIV/0!"},{"$error":"#DIV/0!"}]
[6204,0,{"$f":"$D$4*'SBUH Model'!B1055","v":0},0,0,0,0,0,0,0,0,{"$error":"#DIV/0!"},{"$error":"#DIV/0!"},0,{"$error":"#DIV/0!"},{"$error":"#DIV/0!"}]
[6210,0,{"$f":"$D$4*'SBUH Model'!B1056","v":0},0,0,0,0,0,0,0,0,{"$error":"#DIV/0!"},{"$error":"#DIV/0!"},0,{"$error":"#DIV/0!"},{"$error":"#DIV/0!"}]
[6216,0,{"$f":"$D$4*'SBUH Model'!B1057","v":0},0,0,0,0,0,0,0,0,{"$error":"#DIV/0!"},{"$error":"#DIV/0!"},0,{"$error":"#DIV/0!"},{"$error":"#DIV/0!"}]
[6222,0,{"$f":"$D$4*'SBUH Model'!B1058","v":0},0,0,0,0,0,0,0,0,{"$error":"#DIV/0!"},{"$error":"#DIV/0!"},0,{"$error":"#DIV/0!"},{"$error":"#DIV/0!"}]
[6228,0,{"$f":"$D$4*'SBUH Model'!B1059","v":0},0,0,0,0,0,0,0,0,{"$error":"#DIV/0!"},{"$error":"#DIV/0!"},0,{"$error":"#DIV/0!"},{"$error":"#DIV/0!"}]
[6234,0,{"$f":"$D$4*'SBUH Model'!B1060","v":0},0,0,0,0,0,0,0,0,{"$error":"#DIV/0!"},{"$error":"#DIV/0!"},0,{"$error":"#DIV/0!"},{"$error":"#DIV/0!"}]
[6240,0,{"$f":"$D$4*'SBUH Model'!B1061","v":0},0,0,0,0,0,0,0,0,{"$error":"#DIV/0!"},{"$error":"#DIV/0!"},0,{"$error":"#DIV/0!"},{"$error":"#DIV/0!"}]
[6246,0,{"$f":"$D$4*'SBUH Model'!B1062","v":0},{"$f":"C1062+D1061","v":0},{"$f":"IF(D1062<0.2*F$8,0,(D1062-0.2*F$8)^2/(D1062+0.8*F$8))","v":0},{"$f":"MAX(0,E1062-E1061)","v":0},{"$f":"IF(D1062<0.2*F$11,0,(D1062-0.2*F$11)^2/(D1062+0.8*F$11))","v":0},{"$f":"MAX(0,G1062-G1061)","v":0},{"$f":"IF(D1062<0.2*F$12,0,(D1062-0.2*F$12)^2/(D1062+0.8*F$12))","v":0},{"$f":"MAX(0,I1062-I1061)","v":0},{"$f":"((F1062/12)*SUMPRODUCT(D$8:D$10,G$8:G$10)+(H1062/12)*D$11+(J1062/12)*D$12)/($D$5*60)","v":0},{"$error":"#DIV/0!"},{"$f":"L1062*($D$5*60)","v":{"$error":"#DIV/0!"}},{"$f":"(C1062/12)*O$4","v":0},{"$f":"-MIN(O$9*D$5*60,SUM(M1062,N1062,P1061))","v":{"$error":"#DIV/0!"}},{"$f":"P1061+SUM(M1062:O1062)","v":{"$error":"#DIV/0!"}}]
[6252,0,{"$f":"$D$4*'SBUH Model'!B1063","v":0},0,0,0,0,0,0,0,0,{"$error":"#DIV/0!"},{"$error":"#DIV/0!"},0,{"$error":"#DIV/0!"},{"$error":"#DIV/0!"}]
[6258,0,{"$f":"$D$4*'SBUH Model'!B1064","v":0},0,0,0,0,0,0,0,0,{"$error":"#DIV/0!"},{"$error":"#DIV/0!"},0,{"$error":"#DIV/0!"},{"$error":"#DIV/0!"}]
[6264,0,{"$f":"$D$4*'SBUH Model'!B1065","v":0},0,0,0,0,0,0,0,0,{"$error":"#DIV/0!"},{"$error":"#DIV/0!"},0,{"$error":"#DIV/0!"},{"$error":"#DIV/0!"}]
[6270,0,{"$f":"$D$4*'SBUH Model'!B1066","v":0},0,0,0,0,0,0,0,0,{"$error":"#DIV/0!"},{"$error":"#DIV/0!"},0,{"$error":"#DIV/0!"},{"$error":"#DIV/0!"}]
[6276,0,{"$f":"$D$4*'SBUH Model'!B1067","v":0},0,0,0,0,0,0,0,0,{"$error":"#DIV/0!"},{"$error":"#DIV/0!"},0,{"$error":"#DIV/0!"},{"$error":"#DIV/0!"}]
[6282,0,{"$f":"$D$4*'SBUH Model'!B1068","v":0},0,0,0,0,0,0,0,0,{"$error":"#DIV/0!"},{"$error":"#DIV/0!"},0,{"$error":"#DIV/0!"},{"$error":"#DIV/0!"}]
[6288,0,{"$f":"$D$4*'SBUH Model'!B1069","v":0},0,0,0,0,0,0,0,0,{"$error":"#DIV/0!"},{"$error":"#DIV/0!"},0,{"$error":"#DIV/0!"},{"$error":"#DIV/0!"}]
[6294,0,{"$f":"$D$4*'SBUH Model'!B1070","v":0},0,0,0,0,0,0,0,0,{"$error":"#DIV/0!"},{"$error":"#DIV/0!"},0,{"$error":"#DIV/0!"},{"$error":"#DIV/0!"}]
[6300,0,{"$f":"$D$4*'SBUH Model'!B1071","v":0},0,0,0,0,0,0,0,0,{"$error":"#DIV/0!"},{"$error":"#DIV/0!"},0,{"$error":"#DIV/0!"},{"$error":"#DIV/0!"}]
[6306,0,{"$f":"$D$4*'SBUH Model'!B1072","v":0},0,0,0,0,0,0,0,0,{"$error":"#DIV/0!"},{"$error":"#DIV/0!"},0,{"$error":"#DIV/0!"},{"$error":"#DIV/0!"}]
[6312,0,{"$f":"$D$4*'SBUH Model'!B1073","v":0},0,0,0,0,0,0,0,0,{"$error":"#DIV/0!"},{"$error":"#DIV/0!"},0,{"$error":"#DIV/0!"},{"$error":"#DIV/0!"}]
[6318,0,{"$f":"$D$4*'SBUH Model'!B1074","v":0},0,0,0,0,0,0,0,0,{"$error":"#DIV/0!"},{"$error":"#DIV/0!"},0,{"$error":"#DIV/0!"},{"$error":"#DIV/0!"}]
[6324,0,{"$f":"$D$4*'SBUH Model'!B1075","v":0},0,0,0,0,0,0,0,0,{"$error":"#DIV/0!"},{"$error":"#DIV/0!"},0,{"$error":"#DIV/0!"},{"$error":"#DIV/0!"}]
[6330,0,{"$f":"$D$4*'SBUH Model'!B1076","v":0},0,0,0,0,0,0,0,0,{"$error":"#DIV/0!"},{"$error":"#DIV/0!"},0,{"$error":"#DIV/0!"},{"$error":"#DIV/0!"}]
[6336,0,{"$f":"$D$4*'SBUH Model'!B1077","v":0},0,0,0,0,0,0,0,0,{"$error":"#DIV/0!"},{"$error":"#DIV/0!"},0,{"$error":"#DIV/0!"},{"$error":"#DIV/0!"}]
[6342,0,{"$f":"$D$4*'SBUH Model'!B1078","v":0},0,0,0,0,0,0,0,0,{"$error":"#DIV/0!"},{"$error":"#DIV/0!"},0,{"$error":"#DIV/0!"},{"$error":"#DIV/0!"}]
[6348,0,{"$f":"$D$4*'SBUH Model'!B1079","v":0},0,0,0,0,0,0,0,0,{"$error":"#DIV/0!"},{"$error":"#DIV/0!"},0,{"$error":"#DIV/0!"},{"$error":"#DIV/0!"}]
[6354,0,{"$f":"$D$4*'SBUH Model'!B1080","v":0},0,0,0,0,0,0,0,0,{"$error":"#DIV/0!"},{"$error":"#DIV/0!"},0,{"$error":"#DIV/0!"},{"$error":"#DIV/0!"}]
[6360,0,{"$f":"$D$4*'SBUH Model'!B1081","v":0},0,0,0,0,0,0,0,0,{"$error":"#DIV/0!"},{"$error":"#DIV/0!"},0,{"$error":"#DIV/0!"},{"$error":"#DIV/0!"}]
[6366,0,{"$f":"$D$4*'SBUH Model'!B1082","v":0},0,0,0,0,0,0,0,0,{"$error":"#DIV/0!"},{"$error":"#DIV/0!"},0,{"$error":"#DIV/0!"},{"$error":"#DIV/0!"}]
[6372,0,{"$f":"$D$4*'SBUH Model'!B1083","v":0},0,0,0,0,0,0,0,0,{"$error":"#DIV/0!"},{"$error":"#DIV/0!"},0,{"$error":"#DIV/0!"},{"$error":"#DIV/0!"}]
[6378,0,{"$f":"$D$4*'SBUH Model'!B1084","v":0},0,0,0,0,0,0,0,0,{"$error":"#DIV/0!"},{"$error":"#DIV/0!"},0,{"$error":"#DIV/0!"},{"$error":"#DIV/0!"}]
[6384,0,{"$f":"$D$4*'SBUH Model'!B1085","v":0},0,0,0,0,0,0,0,0,{"$error":"#DIV/0!"},{"$error":"#DIV/0!"},0,{"$error":"#DIV/0!"},{"$error":"#DIV/0!"}]
[6390,0,{"$f":"$D$4*'SBUH Model'!B1086","v":0},0,0,0,0,0,0,0,0,{"$error":"#DIV/0!"},{"$error":"#DIV/0!"},0,{"$error":"#DIV/0!"},{"$error":"#DIV/0!"}]
[6396,0,{"$f":"$D$4*'SBUH Model'!B1087","v":0},0,0,0,0,0,0,0,0,{"$error":"#DIV/0!"},{"$error":"#DIV/0!"},0,{"$error":"#DIV/0!"},{"$error":"#DIV/0!"}]
[6402,0,{"$f":"$D$4*'SBUH Model'!B1088","v":0},0,0,0,0,0,0,0,0,{"$error":"#DIV/0!"},{"$error":"#DIV/0!"},0,{"$error":"#DIV/0!"},{"$error":"#DIV/0!"}]
[6408,0,{"$f":"$D$4*'SBUH Model'!B1089","v":0},0,0,0,0,0,0,0,0,{"$error":"#DIV/0!"},{"$error":"#DIV/0!"},0,{"$error":"#DIV/0!"},{"$error":"#DIV/0!"}]
[6414,0,{"$f":"$D$4*'SBUH Model'!B1090","v":0},0,0,0,0,0,0,0,0,{"$error":"#DIV/0!"},{"$error":"#DIV/0!"},0,{"$error":"#DIV/0!"},{"$error":"#DIV/0!"}]
[6420,0,{"$f":"$D$4*'SBUH Model'!B1091","v":0},0,0,0,0,0,0,0,0,{"$error":"#DIV/0!"},{"$error":"#DIV/0!"},0,{"$error":"#DIV/0!"},{"$error":"#DIV/0!"}]
[6426,0,{"$f":"$D$4*'SBUH Model'!B1092","v":0},0,0,0,0,0,0,0,0,{"$error":"#DIV/0!"},{"$error":"#DIV/0!"},0,{"$error":"#DIV/0!"},{"$error":"#DIV/0!"}]
[6432,0,{"$f":"$D$4*'SBUH Model'!B1093","v":0},0,0,0,0,0,0,0,0,{"$error":"#DIV/0!"},{"$error":"#DIV/0!"},0,{"$error":"#DIV/0!"},{"$error":"#DIV/0!"}]
[6438,0,{"$f":"$D$4*'SBUH Model'!B1094","v":0},0,0,0,0,0,0,0,0,{"$error":"#DIV/0!"},{"$error":"#DIV/0!"},0,{"$error":"#DIV/0!"},{"$error":"#DIV/0!"}]
[6444,0,{"$f":"$D$4*'SBUH Model'!B1095","v":0},0,0,0,0,0,0,0,0,{"$error":"#DIV/0!"},{"$error":"#DIV/0!"},0,{"$error":"#DIV/0!"},{"$error":"#DIV/0!"}]
[6450,0,{"$f":"$D$4*'SBUH Model'!B1096","v":0},0,0,0,0,0,0,0,0,{"$error":"#DIV/0!"},{"$error":"#DIV/0!"},0,{"$error":"#DIV/0!"},{"$error":"#DIV/0!"}]
[6456,0,{"$f":"$D$4*'SBUH Model'!B1097","v":0},0,0,0,0,0,0,0,0,{"$error":"#DIV/0!"},{"$error":"#DIV/0!"},0,{"$error":"#DIV/0!"},{"$error":"#DIV/0!"}]
[6462,0,{"$f":"$D$4*'SBUH Model'!B1098","v":0},0,0,0,0,0,0,0,0,{"$error":"#DIV/0!"},{"$error":"#DIV/0!"},0,{"$error":"#DIV/0!"},{"$error":"#DIV/0!"}]
[6468,0,{"$f":"$D$4*'SBUH Model'!B1099","v":0},0,0,0,0,0,0,0,0,{"$error":"#DIV/0!"},{"$error":"#DIV/0!"},0,{"$error":"#DIV/0!"},{"$error":"#DIV/0!"}]
[6474,0,{"$f":"$D$4*'SBUH Model'!B1100","v":0},0,0,0,0,0,0,0,0,{"$error":"#DIV/0!"},{"$error":"#DIV/0!"},0,{"$error":"#DIV/0!"},{"$error":"#DIV/0!"}]
[6480,0,{"$f":"$D$4*'SBUH Model'!B1101","v":0},0,0,0,0,0,0,0,0,{"$error":"#DIV/0!"},{"$error":"#DIV/0!"},0,{"$error":"#DIV/0!"},{"$error":"#DIV/0!"}]
[6486,0,{"$f":"$D$4*'SBUH Model'!B1102","v":0},0,0,0,0,0,0,0,0,{"$error":"#DIV/0!"},{"$error":"#DIV/0!"},0,{"$error":"#DIV/0!"},{"$error":"#DIV/0!"}]
[6492,0,{"$f":"$D$4*'SBUH Model'!B1103","v":0},0,0,0,0,0,0,0,0,{"$error":"#DIV/0!"},{"$error":"#DIV/0!"},0,{"$error":"#DIV/0!"},{"$error":"#DIV/0!"}]
[6498,0,{"$f":"$D$4*'SBUH Model'!B1104","v":0},0,0,0,0,0,0,0,0,{"$error":"#DIV/0!"},{"$error":"#DIV/0!"},0,{"$error":"#DIV/0!"},{"$error":"#DIV/0!"}]
[6504,0,{"$f":"$D$4*'SBUH Model'!B1105","v":0},0,0,0,0,0,0,0,0,{"$error":"#DIV/0!"},{"$error":"#DIV/0!"},0,{"$error":"#DIV/0!"},{"$error":"#DIV/0!"}]
[6510,0,{"$f":"$D$4*'SBUH Model'!B1106","v":0},0,0,0,0,0,0,0,0,{"$error":"#DIV/0!"},{"$error":"#DIV/0!"},0,{"$error":"#DIV/0!"},{"$error":"#DIV/0!"}]
[6516,0,{"$f":"$D$4*'SBUH Model'!B1107","v":0},0,0,0,0,0,0,0,0,{"$error":"#DIV/0!"},{"$error":"#DIV/0!"},0,{"$error":"#DIV/0!"},{"$error":"#DIV/0!"}]
[6522,0,{"$f":"$D$4*'SBUH Model'!B1108","v":0},0,0,0,0,0,0,0,0,{"$error":"#DIV/0!"},{"$error":"#DIV/0!"},0,{"$error":"#DIV/0!"},{"$error":"#DIV/0!"}]
[6528,0,{"$f":"$D$4*'SBUH Model'!B1109","v":0},0,0,0,0,0,0,0,0,{"$error":"#DIV/0!"},{"$error":"#DIV/0!"},0,{"$error":"#DIV/0!"},{"$error":"#DIV/0!"}]
[6534,0,{"$f":"$D$4*'SBUH Model'!B1110","v":0},0,0,0,0,0,0,0,0,{"$error":"#DIV/0!"},{"$error":"#DIV/0!"},0,{"$error":"#DIV/0!"},{"$error":"#DIV/0!"}]
[{"$f":"A1110+6","v":6540},0,{"$f":"$D$4*'SBUH Model'!B1111","v":0},0,0,0,0,0,0,0,0,{"$f":"MAX(0,L1110+(D$5/(2*D$16+D$5))*(K1110+K1111-2*L1110))","v":{"$error":"#DIV/0!"}},{"$error":"#DIV/0!"},0,{"$error":"#DIV/0!"},{"$error":"#DIV/0!"}]
[6546,0,{"$f":"$D$4*'SBUH Model'!B1112","v":0},0,0,0,0,0,0,0,0,{"$error":"#DIV/0!"},{"$error":"#DIV/0!"},0,{"$error":"#DIV/0!"},{"$error":"#DIV/0!"}]
[6552,0,{"$f":"$D$4*'SBUH Model'!B1113","v":0},0,0,0,0,0,0,0,0,{"$error":"#DIV/0!"},{"$error":"#DIV/0!"},0,{"$error":"#DIV/0!"},{"$error":"#DIV/0!"}]
[6558,0,{"$f":"$D$4*'SBUH Model'!B1114","v":0},0,0,0,0,0,0,0,0,{"$error":"#DIV/0!"},{"$error":"#DIV/0!"},0,{"$error":"#DIV/0!"},{"$error":"#DIV/0!"}]
[6564,0,{"$f":"$D$4*'SBUH Model'!B1115","v":0},0,0,0,0,0,0,0,0,{"$error":"#DIV/0!"},{"$error":"#DIV/0!"},0,{"$error":"#DIV/0!"},{"$error":"#DIV/0!"}]
[6570,0,{"$f":"$D$4*'SBUH Model'!B1116","v":0},0,0,0,0,0,0,0,0,{"$error":"#DIV/0!"},{"$error":"#DIV/0!"},0,{"$error":"#DIV/0!"},{"$error":"#DIV/0!"}]
[6576,0,{"$f":"$D$4*'SBUH Model'!B1117","v":0},0,0,0,0,0,0,0,0,{"$error":"#DIV/0!"},{"$error":"#DIV/0!"},0,{"$error":"#DIV/0!"},{"$error":"#DIV/0!"}]
[6582,0,{"$f":"$D$4*'SBUH Model'!B1118","v":0},0,0,0,0,0,0,0,0,{"$error":"#DIV/0!"},{"$error":"#DIV/0!"},0,{"$error":"#DIV/0!"},{"$error":"#DIV/0!"}]
[6588,0,{"$f":"$D$4*'SBUH Model'!B1119","v":0},0,0,0,0,0,0,0,0,{"$error":"#DIV/0!"},{"$error":"#DIV/0!"},0,{"$error":"#DIV/0!"},{"$error":"#DIV/0!"}]
[6594,0,{"$f":"$D$4*'SBUH Model'!B1120","v":0},0,0,0,0,0,0,0,0,{"$error":"#DIV/0!"},{"$error":"#DIV/0!"},0,{"$error":"#DIV/0!"},{"$error":"#DIV/0!"}]
[6600,0,{"$f":"$D$4*'SBUH Model'!B1121","v":0},0,0,0,0,0,0,0,0,{"$error":"#DIV/0!"},{"$error":"#DIV/0!"},0,{"$error":"#DIV/0!"},{"$error":"#DIV/0!"}]
[6606,0,{"$f":"$D$4*'SBUH Model'!B1122","v":0},0,0,0,0,0,0,0,0,{"$error":"#DIV/0!"},{"$error":"#DIV/0!"},0,{"$error":"#DIV/0!"},{"$error":"#DIV/0!"}]
[6612,0,{"$f":"$D$4*'SBUH Model'!B1123","v":0},0,0,0,0,0,0,0,0,{"$error":"#DIV/0!"},{"$error":"#DIV/0!"},0,{"$error":"#DIV/0!"},{"$error":"#DIV/0!"}]
[6618,0,{"$f":"$D$4*'SBUH Model'!B1124","v":0},0,0,0,0,0,0,0,0,{"$error":"#DIV/0!"},{"$error":"#DIV/0!"},0,{"$error":"#DIV/0!"},{"$error":"#DIV/0!"}]
[6624,0,{"$f":"$D$4*'SBUH Model'!B1125","v":0},0,0,0,0,0,0,0,0,{"$error":"#DIV/0!"},{"$error":"#DIV/0!"},0,{"$error":"#DIV/0!"},{"$error":"#DIV/0!"}]
[6630,0,{"$f":"$D$4*'SBUH Model'!B1126","v":0},{"$f":"C1126+D1125","v":0},{"$f":"IF(D1126<0.2*F$8,0,(D1126-0.2*F$8)^2/(D1126+0.8*F$8))","v":0},{"$f":"MAX(0,E1126-E1125)","v":0},{"$f":"IF(D1126<0.2*F$11,0,(D1126-0.2*F$11)^2/(D1126+0.8*F$11))","v":0},{"$f":"MAX(0,G1126-G1125)","v":0},{"$f":"IF(D1126<0.2*F$12,0,(D1126-0.2*F$12)^2/(D1126+0.8*F$12))","v":0},{"$f":"MAX(0,I1126-I1125)","v":0},{"$f":"((F1126/12)*SUMPRODUCT(D$8:D$10,G$8:G$10)+(H1126/12)*D$11+(J1126/12)*D$12)/($D$5*60)","v":0},{"$error":"#DIV/0!"},{"$f":"L1126*($D$5*60)","v":{"$error":"#DIV/0!"}},{"$f":"(C1126/12)*O$4","v":0},{"$f":"-MIN(O$9*D$5*60,SUM(M1126,N1126,P1125))","v":{"$error":"#DIV/0!"}},{"$f":"P1125+SUM(M1126:O1126)","v":{"$error":"#DIV/0!"}}]
[6636,0,{"$f":"$D$4*'SBUH Model'!B1127","v":0},0,0,0,0,0,0,0,0,{"$error":"#DIV/0!"},{"$error":"#DIV/0!"},0,{"$error":"#DIV/0!"},{"$error":"#DIV/0!"}]
[6642,0,{"$f":"$D$4*'SBUH Model'!B1128","v":0},0,0,0,0,0,0,0,0,{"$error":"#DIV/0!"},{"$error":"#DIV/0!"},0,{"$error":"#DIV/0!"},{"$error":"#DIV/0!"}]
[6648,0,{"$f":"$D$4*'SBUH Model'!B1129","v":0},0,0,0,0,0,0,0,0,{"$error":"#DIV/0!"},{"$error":"#DIV/0!"},0,{"$error":"#DIV/0!"},{"$error":"#DIV/0!"}]
[6654,0,{"$f":"$D$4*'SBUH Model'!B1130","v":0},0,0,0,0,0,0,0,0,{"$error":"#DIV/0!"},{"$error":"#DIV/0!"},0,{"$error":"#DIV/0!"},{"$error":"#DIV/0!"}]
[6660,0,{"$f":"$D$4*'SBUH Model'!B1131","v":0},0,0,0,0,0,0,0,0,{"$error":"#DIV/0!"},{"$error":"#DIV/0!"},0,{"$error":"#DIV/0!"},{"$error":"#DIV/0!"}]
[6666,0,{"$f":"$D$4*'SBUH Model'!B1132","v":0},0,0,0,0,0,0,0,0,{"$error":"#DIV/0!"},{"$error":"#DIV/0!"},0,{"$error":"#DIV/0!"},{"$error":"#DIV/0!"}]
[6672,0,{"$f":"$D$4*'SBUH Model'!B1133","v":0},0,0,0,0,0,0,0,0,{"$error":"#DIV/0!"},{"$error":"#DIV/0!"},0,{"$error":"#DIV/0!"},{"$error":"#DIV/0!"}]
[6678,0,{"$f":"$D$4*'SBUH Model'!B1134","v":0},0,0,0,0,0,0,0,0,{"$error":"#DIV/0!"},{"$error":"#DIV/0!"},0,{"$error":"#DIV/0!"},{"$error":"#DIV/0!"}]
[6684,0,{"$f":"$D$4*'SBUH Model'!B1135","v":0},0,0,0,0,0,0,0,0,{"$error":"#DIV/0!"},{"$error":"#DIV/0!"},0,{"$error":"#DIV/0!"},{"$error":"#DIV/0!"}]
[6690,0,{"$f":"$D$4*'SBUH Model'!B1136","v":0},0,0,0,0,0,0,0,0,{"$error":"#DIV/0!"},{"$error":"#DIV/0!"},0,{"$error":"#DIV/0!"},{"$error":"#DIV/0!"}]
[6696,0,{"$f":"$D$4*'SBUH Model'!B1137","v":0},0,0,0,0,0,0,0,0,{"$error":"#DIV/0!"},{"$error":"#DIV/0!"},0,{"$error":"#DIV/0!"},{"$error":"#DIV/0!"}]
[6702,0,{"$f":"$D$4*'SBUH Model'!B1138","v":0},0,0,0,0,0,0,0,0,{"$error":"#DIV/0!"},{"$error":"#DIV/0!"},0,{"$error":"#DIV/0!"},{"$error":"#DIV/0!"}]
[6708,0,{"$f":"$D$4*'SBUH Model'!B1139","v":0},0,0,0,0,0,0,0,0,{"$error":"#DIV/0!"},{"$error":"#DIV/0!"},0,{"$error":"#DIV/0!"},{"$error":"#DIV/0!"}]
[6714,0,{"$f":"$D$4*'SBUH Model'!B1140","v":0},0,0,0,0,0,0,0,0,{"$error":"#DIV/0!"},{"$error":"#DIV/0!"},0,{"$error":"#DIV/0!"},{"$error":"#DIV/0!"}]
[6720,0,{"$f":"$D$4*'SBUH Model'!B1141","v":0},0,0,0,0,0,0,0,0,{"$error":"#DIV/0!"},{"$error":"#DIV/0!"},0,{"$error":"#DIV/0!"},{"$error":"#DIV/0!"}]
[6726,0,{"$f":"$D$4*'SBUH Model'!B1142","v":0},0,0,0,0,0,0,0,0,{"$error":"#DIV/0!"},{"$error":"#DIV/0!"},0,{"$error":"#DIV/0!"},{"$error":"#DIV/0!"}]
[6732,0,{"$f":"$D$4*'SBUH Model'!B1143","v":0},0,0,0,0,0,0,0,0,{"$error":"#DIV/0!"},{"$error":"#DIV/0!"},0,{"$error":"#DIV/0!"},{"$error":"#DIV/0!"}]
[6738,0,{"$f":"$D$4*'SBUH Model'!B1144","v":0},0,0,0,0,0,0,0,0,{"$error":"#DIV/0!"},{"$error":"#DIV/0!"},0,{"$error":"#DIV/0!"},{"$error":"#DIV/0!"}]
[6744,0,{"$f":"$D$4*'SBUH Model'!B1145","v":0},0,0,0,0,0,0,0,0,{"$error":"#DIV/0!"},{"$error":"#DIV/0!"},0,{"$error":"#DIV/0!"},{"$error":"#DIV/0!"}]
[6750,0,{"$f":"$D$4*'SBUH Model'!B1146","v":0},0,0,0,0,0,0,0,0,{"$error":"#DIV/0!"},{"$error":"#DIV/0!"},0,{"$error":"#DIV/0!"},{"$error":"#DIV/0!"}]
[6756,0,{"$f":"$D$4*'SBUH Model'!B1147","v":0},0,0,0,0,0,0,0,0,{"$error":"#DIV/0!"},{"$error":"#DIV/0!"},0,{"$error":"#DIV/0!"},{"$error":"#DIV/0!"}]
[6762,0,{"$f":"$D$4*'SBUH Model'!B1148","v":0},0,0,0,0,0,0,0,0,{"$error":"#DIV/0!"},{"$error":"#DIV/0!"},0,{"$error":"#DIV/0!"},{"$error":"#DIV/0!"}]
[6768,0,{"$f":"$D$4*'SBUH Model'!B1149","v":0},0,0,0,0,0,0,0,0,{"$error":"#DIV/0!"},{"$error":"#DIV/0!"},0,{"$error":"#DIV/0!"},{"$error":"#DIV/0!"}]
[6774,0,{"$f":"$D$4*'SBUH Model'!B1150","v":0},0,0,0,0,0,0,0,0,{"$error":"#DIV/0!"},{"$error":"#DIV/0!"},0,{"$error":"#DIV/0!"},{"$error":"#DIV/0!"}]
[6780,0,{"$f":"$D$4*'SBUH Model'!B1151","v":0},0,0,0,0,0,0,0,0,{"$error":"#DIV/0!"},{"$error":"#DIV/0!"},0,{"$error":"#DIV/0!"},{"$error":"#DIV/0!"}]
[6786,0,{"$f":"$D$4*'SBUH Model'!B1152","v":0},0,0,0,0,0,0,0,0,{"$error":"#DIV/0!"},{"$error":"#DIV/0!"},0,{"$error":"#DIV/0!"},{"$error":"#DIV/0!"}]
[6792,0,{"$f":"$D$4*'SBUH Model'!B1153","v":0},0,0,0,0,0,0,0,0,{"$error":"#DIV/0!"},{"$error":"#DIV/0!"},0,{"$error":"#DIV/0!"},{"$error":"#DIV/0!"}]
[6798,0,{"$f":"$D$4*'SBUH Model'!B1154","v":0},0,0,0,0,0,0,0,0,{"$error":"#DIV/0!"},{"$error":"#DIV/0!"},0,{"$error":"#DIV/0!"},{"$error":"#DIV/0!"}]
[6804,0,{"$f":"$D$4*'SBUH Model'!B1155","v":0},0,0,0,0,0,0,0,0,{"$error":"#DIV/0!"},{"$error":"#DIV/0!"},0,{"$error":"#DIV/0!"},{"$error":"#DIV/0!"}]
[6810,0,{"$f":"$D$4*'SBUH Model'!B1156","v":0},0,0,0,0,0,0,0,0,{"$error":"#DIV/0!"},{"$error":"#DIV/0!"},0,{"$error":"#DIV/0!"},{"$error":"#DIV/0!"}]
[6816,0,{"$f":"$D$4*'SBUH Model'!B1157","v":0},0,0,0,0,0,0,0,0,{"$error":"#DIV/0!"},{"$error":"#DIV/0!"},0,{"$error":"#DIV/0!"},{"$error":"#DIV/0!"}]
[6822,0,{"$f":"$D$4*'SBUH Model'!B1158","v":0},0,0,0,0,0,0,0,0,{"$error":"#DIV/0!"},{"$error":"#DIV/0!"},0,{"$error":"#DIV/0!"},{"$error":"#DIV/0!"}]
[6828,0,{"$f":"$D$4*'SBUH Model'!B1159","v":0},0,0,0,0,0,0,0,0,{"$error":"#DIV/0!"},{"$error":"#DIV/0!"},0,{"$error":"#DIV/0!"},{"$error":"#DIV/0!"}]
[6834,0,{"$f":"$D$4*'SBUH Model'!B1160","v":0},0,0,0,0,0,0,0,0,{"$error":"#DIV/0!"},{"$error":"#DIV/0!"},0,{"$error":"#DIV/0!"},{"$error":"#DIV/0!"}]
[6840,0,{"$f":"$D$4*'SBUH Model'!B1161","v":0},0,0,0,0,0,0,0,0,{"$error":"#DIV/0!"},{"$error":"#DIV/0!"},0,{"$error":"#DIV/0!"},{"$error":"#DIV/0!"}]
[6846,0,{"$f":"$D$4*'SBUH Model'!B1162","v":0},0,0,0,0,0,0,0,0,{"$error":"#DIV/0!"},{"$error":"#DIV/0!"},0,{"$error":"#DIV/0!"},{"$error":"#DIV/0!"}]
[6852,0,{"$f":"$D$4*'SBUH Model'!B1163","v":0},0,0,0,0,0,0,0,0,{"$error":"#DIV/0!"},{"$error":"#DIV/0!"},0,{"$error":"#DIV/0!"},{"$error":"#DIV/0!"}]
[6858,0,{"$f":"$D$4*'SBUH Model'!B1164","v":0},0,0,0,0,0,0,0,0,{"$error":"#DIV/0!"},{"$error":"#DIV/0!"},0,{"$error":"#DIV/0!"},{"$error":"#DIV/0!"}]
[6864,0,{"$f":"$D$4*'SBUH Model'!B1165","v":0},0,0,0,0,0,0,0,0,{"$error":"#DIV/0!"},{"$error":"#DIV/0!"},0,{"$error":"#DIV/0!"},{"$error":"#DIV/0!"}]
[6870,0,{"$f":"$D$4*'SBUH Model'!B1166","v":0},0,0,0,0,0,0,0,0,{"$error":"#DIV/0!"},{"$error":"#DIV/0!"},0,{"$error":"#DIV/0!"},{"$error":"#DIV/0!"}]
[6876,0,{"$f":"$D$4*'SBUH Model'!B1167","v":0},0,0,0,0,0,0,0,0,{"$error":"#DIV/0!"},{"$error":"#DIV/0!"},0,{"$error":"#DIV/0!"},{"$error":"#DIV/0!"}]
[6882,0,{"$f":"$D$4*'SBUH Model'!B1168","v":0},0,0,0,0,0,0,0,0,{"$error":"#DIV/0!"},{"$error":"#DIV/0!"},0,{"$error":"#DIV/0!"},{"$error":"#DIV/0!"}]
[6888,0,{"$f":"$D$4*'SBUH Model'!B1169","v":0},0,0,0,0,0,0,0,0,{"$error":"#DIV/0!"},{"$error":"#DIV/0!"},0,{"$error":"#DIV/0!"},{"$error":"#DIV/0!"}]
[6894,0,{"$f":"$D$4*'SBUH Model'!B1170","v":0},0,0,0,0,0,0,0,0,{"$error":"#DIV/0!"},{"$error":"#DIV/0!"},0,{"$error":"#DIV/0!"},{"$error":"#DIV/0!"}]
[6900,0,{"$f":"$D$4*'SBUH Model'!B1171","v":0},0,0,0,0,0,0,0,0,{"$error":"#DIV/0!"},{"$error":"#DIV/0!"},0,{"$error":"#DIV/0!"},{"$error":"#DIV/0!"}]
[6906,0,{"$f":"$D$4*'SBUH Model'!B1172","v":0},0,0,0,0,0,0,0,0,{"$error":"#DIV/0!"},{"$error":"#DIV/0!"},0,{"$error":"#DIV/0!"},{"$error":"#DIV/0!"}]
[6912,0,{"$f":"$D$4*'SBUH Model'!B1173","v":0},0,0,0,0,0,0,0,0,{"$error":"#DIV/0!"},{"$error":"#DIV/0!"},0,{"$error":"#DIV/0!"},{"$error":"#DIV/0!"}]
[6918,0,{"$f":"$D$4*'SBUH Model'!B1174","v":0},0,0,0,0,0,0,0,0,{"$error":"#DIV/0!"},{"$error":"#DIV/0!"},0,{"$error":"#DIV/0!"},{"$error":"#DIV/0!"}]
[{"$f":"A1174+6","v":6924},0,{"$f":"$D$4*'SBUH Model'!B1175","v":0},0,0,0,0,0,0,0,0,{"$f":"MAX(0,L1174+(D$5/(2*D$16+D$5))*(K1174+K1175-2*L1174))","v":{"$error":"#DIV/0!"}},{"$error":"#DIV/0!"},0,{"$error":"#DIV/0!"},{"$error":"#DIV/0!"}]
[6930,0,{"$f":"$D$4*'SBUH Model'!B1176","v":0},0,0,0,0,0,0,0,0,{"$error":"#DIV/0!"},{"$error":"#DIV/0!"},0,{"$error":"#DIV/0!"},{"$error":"#DIV/0!"}]
[6936,0,{"$f":"$D$4*'SBUH Model'!B1177","v":0},0,0,0,0,0,0,0,0,{"$error":"#DIV/0!"},{"$error":"#DIV/0!"},0,{"$error":"#DIV/0!"},{"$error":"#DIV/0!"}]
[6942,0,{"$f":"$D$4*'SBUH Model'!B1178","v":0},0,0,0,0,0,0,0,0,{"$error":"#DIV/0!"},{"$error":"#DIV/0!"},0,{"$error":"#DIV/0!"},{"$error":"#DIV/0!"}]
[6948,0,{"$f":"$D$4*'SBUH Model'!B1179","v":0},0,0,0,0,0,0,0,0,{"$error":"#DIV/0!"},{"$error":"#DIV/0!"},0,{"$error":"#DIV/0!"},{"$error":"#DIV/0!"}]
[6954,0,{"$f":"$D$4*'SBUH Model'!B1180","v":0},0,0,0,0,0,0,0,0,{"$error":"#DIV/0!"},{"$error":"#DIV/0!"},0,{"$error":"#DIV/0!"},{"$error":"#DIV/0!"}]
[6960,0,{"$f":"$D$4*'SBUH Model'!B1181","v":0},0,0,0,0,0,0,0,0,{"$error":"#DIV/0!"},{"$error":"#DIV/0!"},0,{"$error":"#DIV/0!"},{"$error":"#DIV/0!"}]
[6966,0,{"$f":"$D$4*'SBUH Model'!B1182","v":0},0,0,0,0,0,0,0,0,{"$error":"#DIV/0!"},{"$error":"#DIV/0!"},0,{"$error":"#DIV/0!"},{"$error":"#DIV/0!"}]
[6972,0,{"$f":"$D$4*'SBUH Model'!B1183","v":0},0,0,0,0,0,0,0,0,{"$error":"#DIV/0!"},{"$error":"#DIV/0!"},0,{"$error":"#DIV/0!"},{"$error":"#DIV/0!"}]
[6978,0,{"$f":"$D$4*'SBUH Model'!B1184","v":0},0,0,0,0,0,0,0,0,{"$error":"#DIV/0!"},{"$error":"#DIV/0!"},0,{"$error":"#DIV/0!"},{"$error":"#DIV/0!"}]
[6984,0,{"$f":"$D$4*'SBUH Model'!B1185","v":0},0,0,0,0,0,0,0,0,{"$error":"#DIV/0!"},{"$error":"#DIV/0!"},0,{"$error":"#DIV/0!"},{"$error":"#DIV/0!"}]
[6990,0,{"$f":"$D$4*'SBUH Model'!B1186","v":0},0,0,0,0,0,0,0,0,{"$error":"#DIV/0!"},{"$error":"#DIV/0!"},0,{"$error":"#DIV/0!"},{"$error":"#DIV/0!"}]
[6996,0,{"$f":"$D$4*'SBUH Model'!B1187","v":0},0,0,0,0,0,0,0,0,{"$error":"#DIV/0!"},{"$error":"#DIV/0!"},0,{"$error":"#DIV/0!"},{"$error":"#DIV/0!"}]
[7002,0,{"$f":"$D$4*'SBUH Model'!B1188","v":0},0,0,0,0,0,0,0,0,{"$error":"#DIV/0!"},{"$error":"#DIV/0!"},0,{"$error":"#DIV/0!"},{"$error":"#DIV/0!"}]
[7008,0,{"$f":"$D$4*'SBUH Model'!B1189","v":0},0,0,0,0,0,0,0,0,{"$error":"#DIV/0!"},{"$error":"#DIV/0!"},0,{"$error":"#DIV/0!"},{"$error":"#DIV/0!"}]
[7014,0,{"$f":"$D$4*'SBUH Model'!B1190","v":0},{"$f":"C1190+D1189","v":0},{"$f":"IF(D1190<0.2*F$8,0,(D1190-0.2*F$8)^2/(D1190+0.8*F$8))","v":0},{"$f":"MAX(0,E1190-E1189)","v":0},{"$f":"IF(D1190<0.2*F$11,0,(D1190-0.2*F$11)^2/(D1190+0.8*F$11))","v":0},{"$f":"MAX(0,G1190-G1189)","v":0},{"$f":"IF(D1190<0.2*F$12,0,(D1190-0.2*F$12)^2/(D1190+0.8*F$12))","v":0},{"$f":"MAX(0,I1190-I1189)","v":0},{"$f":"((F1190/12)*SUMPRODUCT(D$8:D$10,G$8:G$10)+(H1190/12)*D$11+(J1190/12)*D$12)/($D$5*60)","v":0},{"$error":"#DIV/0!"},{"$f":"L1190*($D$5*60)","v":{"$error":"#DIV/0!"}},{"$f":"(C1190/12)*O$4","v":0},{"$f":"-MIN(O$9*D$5*60,SUM(M1190,N1190,P1189))","v":{"$error":"#DIV/0!"}},{"$f":"P1189+SUM(M1190:O1190)","v":{"$error":"#DIV/0!"}}]
[7020,0,{"$f":"$D$4*'SBUH Model'!B1191","v":0},0,0,0,0,0,0,0,0,{"$error":"#DIV/0!"},{"$error":"#DIV/0!"},0,{"$error":"#DIV/0!"},{"$error":"#DIV/0!"}]
[7026,0,{"$f":"$D$4*'SBUH Model'!B1192","v":0},0,0,0,0,0,0,0,0,{"$error":"#DIV/0!"},{"$error":"#DIV/0!"},0,{"$error":"#DIV/0!"},{"$error":"#DIV/0!"}]
[7032,0,{"$f":"$D$4*'SBUH Model'!B1193","v":0},0,0,0,0,0,0,0,0,{"$error":"#DIV/0!"},{"$error":"#DIV/0!"},0,{"$error":"#DIV/0!"},{"$error":"#DIV/0!"}]
[7038,0,{"$f":"$D$4*'SBUH Model'!B1194","v":0},0,0,0,0,0,0,0,0,{"$error":"#DIV/0!"},{"$error":"#DIV/0!"},0,{"$error":"#DIV/0!"},{"$error":"#DIV/0!"}]
[7044,0,{"$f":"$D$4*'SBUH Model'!B1195","v":0},0,0,0,0,0,0,0,0,{"$error":"#DIV/0!"},{"$error":"#DIV/0!"},0,{"$error":"#DIV/0!"},{"$error":"#DIV/0!"}]
[7050,0,{"$f":"$D$4*'SBUH Model'!B1196","v":0},0,0,0,0,0,0,0,0,{"$error":"#DIV/0!"},{"$error":"#DIV/0!"},0,{"$error":"#DIV/0!"},{"$error":"#DIV/0!"}]
[7056,0,{"$f":"$D$4*'SBUH Model'!B1197","v":0},0,0,0,0,0,0,0,0,{"$error":"#DIV/0!"},{"$error":"#DIV/0!"},0,{"$error":"#DIV/0!"},{"$error":"#DIV/0!"}]
[7062,0,{"$f":"$D$4*'SBUH Model'!B1198","v":0},0,0,0,0,0,0,0,0,{"$error":"#DIV/0!"},{"$error":"#DIV/0!"},0,{"$error":"#DIV/0!"},{"$error":"#DIV/0!"}]
[7068,0,{"$f":"$D$4*'SBUH Model'!B1199","v":0},0,0,0,0,0,0,0,0,{"$error":"#DIV/0!"},{"$error":"#DIV/0!"},0,{"$error":"#DIV/0!"},{"$error":"#DIV/0!"}]
[7074,0,{"$f":"$D$4*'SBUH Model'!B1200","v":0},0,0,0,0,0,0,0,0,{"$error":"#DIV/0!"},{"$error":"#DIV/0!"},0,{"$error":"#DIV/0!"},{"$error":"#DIV/0!"}]
[7080,0,{"$f":"$D$4*'SBUH Model'!B1201","v":0},0,0,0,0,0,0,0,0,{"$error":"#DIV/0!"},{"$error":"#DIV/0!"},0,{"$error":"#DIV/0!"},{"$error":"#DIV/0!"}]
[7086,0,{"$f":"$D$4*'SBUH Model'!B1202","v":0},0,0,0,0,0,0,0,0,{"$error":"#DIV/0!"},{"$error":"#DIV/0!"},0,{"$error":"#DIV/0!"},{"$error":"#DIV/0!"}]
[7092,0,{"$f":"$D$4*'SBUH Model'!B1203","v":0},0,0,0,0,0,0,0,0,{"$error":"#DIV/0!"},{"$error":"#DIV/0!"},0,{"$error":"#DIV/0!"},{"$error":"#DIV/0!"}]
[7098,0,{"$f":"$D$4*'SBUH Model'!B1204","v":0},0,0,0,0,0,0,0,0,{"$error":"#DIV/0!"},{"$error":"#DIV/0!"},0,{"$error":"#DIV/0!"},{"$error":"#DIV/0!"}]
[7104,0,{"$f":"$D$4*'SBUH Model'!B1205","v":0},0,0,0,0,0,0,0,0,{"$error":"#DIV/0!"},{"$error":"#DIV/0!"},0,{"$error":"#DIV/0!"},{"$error":"#DIV/0!"}]
[7110,0,{"$f":"$D$4*'SBUH Model'!B1206","v":0},0,0,0,0,0,0,0,0,{"$error":"#DIV/0!"},{"$error":"#DIV/0!"},0,{"$error":"#DIV/0!"},{"$error":"#DIV/0!"}]
[7116,0,{"$f":"$D$4*'SBUH Model'!B1207","v":0},0,0,0,0,0,0,0,0,{"$error":"#DIV/0!"},{"$error":"#DIV/0!"},0,{"$error":"#DIV/0!"},{"$error":"#DIV/0!"}]
[7122,0,{"$f":"$D$4*'SBUH Model'!B1208","v":0},0,0,0,0,0,0,0,0,{"$error":"#DIV/0!"},{"$error":"#DIV/0!"},0,{"$error":"#DIV/0!"},{"$error":"#DIV/0!"}]
[7128,0,{"$f":"$D$4*'SBUH Model'!B1209","v":0},0,0,0,0,0,0,0,0,{"$error":"#DIV/0!"},{"$error":"#DIV/0!"},0,{"$error":"#DIV/0!"},{"$error":"#DIV/0!"}]
[7134,0,{"$f":"$D$4*'SBUH Model'!B1210","v":0},0,0,0,0,0,0,0,0,{"$error":"#DIV/0!"},{"$error":"#DIV/0!"},0,{"$error":"#DIV/0!"},{"$error":"#DIV/0!"}]
[7140,0,{"$f":"$D$4*'SBUH Model'!B1211","v":0},0,0,0,0,0,0,0,0,{"$error":"#DIV/0!"},{"$error":"#DIV/0!"},0,{"$error":"#DIV/0!"},{"$error":"#DIV/0!"}]
[7146,0,{"$f":"$D$4*'SBUH Model'!B1212","v":0},0,0,0,0,0,0,0,0,{"$error":"#DIV/0!"},{"$error":"#DIV/0!"},0,{"$error":"#DIV/0!"},{"$error":"#DIV/0!"}]
[7152,0,{"$f":"$D$4*'SBUH Model'!B1213","v":0},0,0,0,0,0,0,0,0,{"$error":"#DIV/0!"},{"$error":"#DIV/0!"},0,{"$error":"#DIV/0!"},{"$error":"#DIV/0!"}]
[7158,0,{"$f":"$D$4*'SBUH Model'!B1214","v":0},0,0,0,0,0,0,0,0,{"$error":"#DIV/0!"},{"$error":"#DIV/0!"},0,{"$error":"#DIV/0!"},{"$error":"#DIV/0!"}]
[7164,0,{"$f":"$D$4*'SBUH Model'!B1215","v":0},0,0,0,0,0,0,0,0,{"$error":"#DIV/0!"},{"$error":"#DIV/0!"},0,{"$error":"#DIV/0!"},{"$error":"#DIV/0!"}]
[7170,0,{"$f":"$D$4*'SBUH Model'!B1216","v":0},0,0,0,0,0,0,0,0,{"$error":"#DIV/0!"},{"$error":"#DIV/0!"},0,{"$error":"#DIV/0!"},{"$error":"#DIV/0!"}]
[7176,0,{"$f":"$D$4*'SBUH Model'!B1217","v":0},0,0,0,0,0,0,0,0,{"$error":"#DIV/0!"},{"$error":"#DIV/0!"},0,{"$error":"#DIV/0!"},{"$error":"#DIV/0!"}]
[7182,0,{"$f":"$D$4*'SBUH Model'!B1218","v":0},0,0,0,0,0,0,0,0,{"$error":"#DIV/0!"},{"$error":"#DIV/0!"},0,{"$error":"#DIV/0!"},{"$error":"#DIV/0!"}]
[7188,0,{"$f":"$D$4*'SBUH Model'!B1219","v":0},0,0,0,0,0,0,0,0,{"$error":"#DIV/0!"},{"$error":"#DIV/0!"},0,{"$error":"#DIV/0!"},{"$error":"#DIV/0!"}]
[7194,0,{"$f":"$D$4*'SBUH Model'!B1220","v":0},0,0,0,0,0,0,0,0,{"$error":"#DIV/0!"},{"$error":"#DIV/0!"},0,{"$error":"#DIV/0!"},{"$error":"#DIV/0!"}]
[7200,0,{"$f":"$D$4*'SBUH Model'!B1221","v":0},0,0,0,0,0,0,0,0,{"$error":"#DIV/0!"},{"$error":"#DIV/0!"},0,{"$error":"#DIV/0!"},{"$error":"#DIV/0!"}]

{"sheet":"SCS,SBUH Equations","index":2,"n_rows":244,"n_cols":12,"rows_kept":244,"cut":false,"hidden":false,"merged":[]}
["SCS Type I Distribution (6-min)",null,null,null,null,null,"Stormwater Runoff and Routing Equations: "]
[]
["Step","Minute","Cummulative Distribution","Incremental Distribution"]
[0,0,0,0,null,null,"Computing Runoff (SCS and SBUH are the same): "]
[1,6,1.74E-3,{"$f":"C5-C4","v":1.74E-3}]
[2,12,3.4819999999999999E-3,{"$f":"C6-C5","v":1.7419999999999998E-3}]
[3,18,5.2240000000000003E-3,1.7420000000000005E-3,null,null,null,null,null,"where: "]
[4,24,6.9680000000000002E-3,1.7439999999999999E-3,null,null,null,null,null,"R = runoff (in)"]
[5,30,8.7119999999999993E-3,1.743999999999999E-3,null,null,null,null,null,"P = rainfall (in)"]
[6,36,1.0458E-2,1.746000000000001E-3,null,null,null,null,null,"Ia = initial abstraction (in)"]
[7,42,1.2204E-2,1.7459999999999993E-3,null,null,null,null,null,"S = potential maximum soil moisture retention after runoff begins (in)"]
[8,48,1.3952000000000001E-2,1.7480000000000013E-3,null,null,null,null,null,"CN = runoff curve number"]
[9,54,1.5699999999999999E-2,1.7479999999999978E-3]
[10,60,1.745E-2,1.7500000000000016E-3]
[11,66,1.9199999999999998E-2,1.7499999999999981E-3]
[12,72,2.0951999999999998E-2,1.7520000000000001E-3]
[13,78,2.2703999999999998E-2,1.7520000000000001E-3]
[14,84,2.4458000000000001E-2,1.7540000000000021E-3,null,null,"SBUH Runoff Routing: "]
[15,90,2.6211999999999999E-2,1.7539999999999986E-3]
[16,96,2.7968E-2,1.7560000000000006E-3,null,null,null,null,null,null,null,"where: "]
[17,102,2.9724E-2,1.7560000000000006E-3,null,null,null,null,null,null,null,"It = instantaneous hydrograph (cfs)"]
[18,108,3.1482000000000003E-2,1.7580000000000026E-3,null,null,null,null,null,null,null,"Rt = runoff for current time step (in)"]
[19,114,3.3239999999999999E-2,1.7579999999999957E-3,null,null,null,null,null,null,null,"A = contributing area (ft)"]
[20,120,3.5000000000000003E-2,1.7600000000000046E-3,null,null,null,null,null,null,null,"dt = calculation time step (min)"]
[21,126,3.6775000000000002E-2,1.7749999999999988E-3]
[22,132,3.8578000000000001E-2,1.802999999999999E-3,null,null,null,null,null,null,null,"Qt = routed stormwater flow"]
[23,138,4.0411000000000002E-2,1.8330000000000013E-3,null,null,null,null,null,null,null,"w = routing function"]
[24,144,4.2271999999999997E-2,1.8609999999999946E-3,null,null,null,null,null,null,null,"Tc = time of concentration"]
[25,150,4.4163000000000001E-2,1.8910000000000038E-3]
[26,156,4.6081999999999998E-2,1.9189999999999971E-3,null,null,null,null,null,null,null,"n = Manning's roughness (0.011 for pavement)"]
[27,162,4.8030000000000003E-2,1.9480000000000053E-3,null,null,null,null,null,null,null,"L = flow lenth (ft; computed from tributary area)"]
[28,168,5.0007999999999997E-2,1.9779999999999937E-3,null,null,null,null,null,null,null,"P2 = 2-year, 24-hour rainfall (in)"]
[29,174,5.2013999999999998E-2,2.0060000000000008E-3,null,null,null,null,null,null,null,"s = 0.005 (ft/ft; assumed value)"]
[30,180,5.4050000000000001E-2,2.0360000000000031E-3,null,null,null,null,null,null,null,"Note: set minimum Tc = 5 minutes (Portland BES recommendation)"]
[31,186,5.6113999999999997E-2,2.0639999999999964E-3]
[32,192,5.8208000000000003E-2,2.0940000000000056E-3]
[33,198,6.0330000000000002E-2,2.1219999999999989E-3,null,null,"from TR-55 user manual… "]
[34,204,6.2482000000000003E-2,2.1520000000000011E-3]
[35,210,6.4661999999999997E-2,2.1799999999999944E-3]
[36,216,6.6872000000000001E-2,2.2100000000000036E-3]
[37,222,6.9110000000000005E-2,2.2380000000000039E-3]
[38,228,7.1377999999999997E-2,2.2679999999999922E-3]
[39,234,7.3675000000000004E-2,2.2970000000000074E-3]
[40,240,7.5999999999999998E-2,2.3249999999999937E-3]
[41,245.99999999999997,7.8344999999999998E-2,2.3449999999999999E-3]
[42,252,8.0701999999999996E-2,2.356999999999998E-3]
[43,258,8.3070000000000005E-2,2.368000000000009E-3]
[44,264,8.5447999999999996E-2,2.3779999999999912E-3]
[45,270,8.7836999999999998E-2,2.3890000000000022E-3]
[46,276,9.0237999999999999E-2,2.4010000000000004E-3]
[47,282,9.2648999999999995E-2,2.4109999999999965E-3]
[48,288,9.5072000000000004E-2,2.4230000000000085E-3]
[49,294,9.7504999999999994E-2,2.4329999999999907E-3]
[50,300,9.9949999999999997E-2,2.4450000000000027E-3]
[51,306,0.102405,2.4549999999999988E-3]
[52,312,0.10487200000000001,2.4670000000000109E-3]
[53,318,0.10735,2.4779999999999941E-3]
[54,324,0.10983800000000001,2.4880000000000041E-3]
[55,330,0.11233700000000001,2.4990000000000012E-3]
[56,336,0.11484800000000001,2.5109999999999993E-3]
[57,342,0.11737,2.5219999999999965E-3]
[58,348,0.11990199999999999,2.5319999999999926E-3]
[59,354,0.122445,2.5430000000000036E-3]
[60,360,0.125,2.5550000000000017E-3]
[61,366,0.12761400000000001,2.6140000000000052E-3]
[62,372,0.13033600000000001,2.7220000000000022E-3]
[63,378,0.13316600000000001,2.8299999999999992E-3]
[64,384,0.136104,2.9379999999999962E-3]
[65,390,0.13915,3.0459999999999932E-3]
[66,396,0.14230400000000001,{"$f":"C70-C69","v":3.1540000000000179E-3}]
[67,402,0.145566,3.2619999999999871E-3]
[68,408,0.14893600000000001,3.3700000000000119E-3]
[69,414,0.15241399999999999,3.4779999999999811E-3]
[70,420,0.156,3.5860000000000058E-3]
[71,426,0.15965599999999999,3.6559999999999926E-3]
[72,432,0.16334399999999999,3.6879999999999968E-3]
[73,438,0.16706399999999999,3.7200000000000011E-3]
[74,444,0.170816,3.7520000000000053E-3]
[75,450,0.17460000000000001,3.7840000000000096E-3]
[76,456,0.17841599999999999,3.8159999999999861E-3]
[77,462,0.18226400000000001,3.8480000000000181E-3]
[78,468,0.186144,3.8799999999999946E-3]
[79,474,0.190056,3.9119999999999988E-3]
[80,480,0.19400000000000001,3.9440000000000031E-3]
[81,486,0.19816800000000001,4.168000000000005E-3]
[82,491.99999999999994,0.20275199999999999,4.583999999999977E-3]
[83,498.00000000000006,0.20775199999999999,5.0000000000000044E-3]
[84,504,0.213168,5.4160000000000041E-3]
[85,510,0.219,5.8320000000000038E-3]
[86,516,0.22523199999999999,6.2319999999999875E-3]
[87,522,0.231848,6.6160000000000108E-3]
[88,528,0.238848,7.0000000000000062E-3]
[89,534,0.24623200000000001,7.3840000000000017E-3]
[90,540,0.254,7.7679999999999971E-3]
[91,546,0.26232800000000001,8.3280000000000021E-3]
[92,552,0.27139200000000002,9.0640000000000165E-3]
[93,558,0.281192,9.7999999999999754E-3]
[94,564,0.29172799999999999,1.053599999999999E-2]
[95,570,0.30299999999999999,1.1272000000000004E-2]
[96,576,0.31942399999999999,1.6423999999999994E-2]
[97,582,0.345416,2.5992000000000015E-2]
[98,588,0.38784299999999999,4.2426999999999992E-2]
[99,594,0.46316200000000002,7.5319000000000025E-2]
[100,600,0.51500000000000001,5.1837999999999995E-2]
[101,606,0.53220000000000001,1.7199999999999993E-2]
[102,612,0.54759999999999998,1.5399999999999969E-2]
[103,618,0.56120000000000003,1.3600000000000056E-2]
[104,624,0.57299999999999995,1.1799999999999922E-2]
[105,630,0.58299999999999996,1.0000000000000009E-2]
[106,636,0.59187999999999996,8.879999999999999E-3]
[107,642,0.60031999999999996,8.4400000000000031E-3]
[108,648,0.60831999999999997,8.0000000000000071E-3]
[109,654,0.61587999999999998,7.5600000000000112E-3]
[110,660,0.623,7.1200000000000152E-3]
[111,666,0.62982000000000005,6.8200000000000482E-3]
[112,672,0.63648000000000005,6.6599999999999993E-3]
[113,678,0.64298,6.4999999999999503E-3]
[114,684,0.64932000000000001,6.3400000000000123E-3]
[115,690,0.65549999999999997,6.1799999999999633E-3]
[116,696,0.66152,6.0200000000000253E-3]
[117,702,0.66737999999999997,5.8599999999999763E-3]
[118,708,0.67308000000000001,5.7000000000000384E-3]
[119,714,0.67862,5.5399999999999894E-3]
[120,720,0.68400000000000005,5.3800000000000514E-3]
[121,726,0.68925000000000003,5.2499999999999769E-3]
[122,732,0.69440000000000002,5.1499999999999879E-3]
[123,738,0.69945000000000002,5.0499999999999989E-3]
[124,744,0.70440000000000003,4.9500000000000099E-3]
[125,750,0.70925000000000005,4.850000000000021E-3]
[126,756,0.71399999999999997,4.749999999999921E-3]
[127,762,0.71865000000000001,4.650000000000043E-3]
[128,768,0.72319999999999995,4.549999999999943E-3]
[129,774,0.72765000000000002,4.450000000000065E-3]
[130,780,0.73199999999999998,{"$f":"C134-C133","v":4.349999999999965E-3}]
[131,786,0.73624999999999996,4.249999999999976E-3]
[132,792,0.74039999999999995,4.149999999999987E-3]
[133,798,0.74444999999999995,4.049999999999998E-3]
[134,804,0.74839999999999995,3.9500000000000091E-3]
[135,810,0.75224999999999997,3.8500000000000201E-3]
[136,816,0.75600000000000001,3.7500000000000311E-3]
[137,822,0.75965000000000005,3.6500000000000421E-3]
[138,828,0.76319999999999999,3.5499999999999421E-3]
[139,834,0.76665000000000005,3.4500000000000641E-3]
[140,840,0.77,3.3499999999999641E-3]
[141,846,0.77329000000000003,3.2900000000000151E-3]
[142,852,0.77656000000000003,3.2699999999999951E-3]
[143,858,0.77981,3.2499999999999751E-3]
[144,864,0.78303999999999996,3.2299999999999551E-3]
[145,870,0.78625,3.2100000000000461E-3]
[146,876,0.78944000000000003,3.1900000000000261E-3]
[147,882,0.79261000000000004,3.1700000000000061E-3]
[148,888,0.79576000000000002,3.1499999999999861E-3]
[149,894,0.79888999999999999,3.1299999999999661E-3]
[150,900,0.80200000000000005,3.1100000000000572E-3]
[151,906,0.80508999999999997,3.0899999999999261E-3]
[152,912,0.80815999999999999,3.0700000000000172E-3]
[153,918,0.81120999999999999,3.0499999999999972E-3]
[154,924,0.81423999999999996,3.0299999999999772E-3]
[155,930,0.81725000000000003,3.0100000000000682E-3]
[156,936,0.82023999999999997,2.9899999999999372E-3]
[157,942,0.82321,2.9700000000000282E-3]
[158,948,0.82616000000000001,2.9500000000000082E-3]
[159,954,0.82908999999999999,2.9299999999999882E-3]
[160,960,0.83199999999999996,2.9099999999999682E-3]
[161,966.00000000000011,0.83489000000000002,2.8900000000000592E-3]
[162,972,0.83775999999999995,2.8699999999999282E-3]
[163,978,0.84060999999999997,2.8500000000000192E-3]
[164,983.99999999999989,0.84343999999999997,2.8299999999999992E-3]
[165,990,0.84624999999999995,2.8099999999999792E-3]
[166,996.00000000000011,0.84904000000000002,2.7900000000000702E-3]
[167,1002,0.85180999999999996,2.7699999999999392E-3]
[168,1008,0.85455999999999999,2.7500000000000302E-3]
[169,1013.9999999999999,0.85729,2.7300000000000102E-3]
[170,1020,0.86,2.7099999999999902E-3]
[171,1026,0.86268999999999996,2.6899999999999702E-3]
[172,1032,0.86536000000000002,2.6700000000000612E-3]
[173,1038,0.86800999999999995,2.6499999999999302E-3]
[174,1044,0.87063999999999997,2.6300000000000212E-3]
[175,1050,0.87324999999999997,2.6100000000000012E-3]
[176,1056,0.87583999999999995,2.5899999999999812E-3]
[177,1062,0.87841000000000002,2.5700000000000722E-3]
[178,1068,0.88095999999999997,2.5499999999999412E-3]
[179,1074,0.88349,2.5300000000000322E-3]
[180,1080,0.88600000000000001,2.5100000000000122E-3]
[181,1086,0.88849,2.4899999999999922E-3]
[182,1092,0.89095999999999997,2.4699999999999722E-3]
[183,1098,0.89341000000000004,2.4500000000000632E-3]
[184,1104,0.89583999999999997,2.4299999999999322E-3]
[185,1110,0.89824999999999999,2.4100000000000232E-3]
[186,1116,0.90064,2.3900000000000032E-3]
[187,1122,0.90300999999999998,2.3699999999999832E-3]
[188,1128,0.90536000000000005,2.3500000000000743E-3]
[189,1134,0.90769,2.3299999999999432E-3]
[190,1140,0.91,2.3100000000000342E-3]
[191,1146,0.91229000000000005,2.2900000000000142E-3]
[192,1152,0.91456000000000004,2.2699999999999942E-3]
[193,1158,0.91681000000000001,2.2499999999999742E-3]
[194,1164,0.91903999999999997,{"$f":"C198-C197","v":2.2299999999999542E-3}]
[195,1170,0.92125000000000001,2.2100000000000453E-3]
[196,1176,0.92344000000000004,2.1900000000000253E-3]
[197,1182,0.92561000000000004,2.1700000000000053E-3]
[198,1188,0.92776000000000003,2.1499999999999853E-3]
[199,1194,0.92988999999999999,2.1299999999999653E-3]
[200,1200,0.93200000000000005,2.1100000000000563E-3]
[201,1206,0.93408999999999998,2.0899999999999253E-3]
[202,1212,0.93615999999999999,2.0700000000000163E-3]
[203,1218,0.93820999999999999,2.0499999999999963E-3]
[204,1224,0.94023999999999996,2.0299999999999763E-3]
[205,1230,0.94225000000000003,2.0100000000000673E-3]
[206,1236,0.94423999999999997,1.9899999999999363E-3]
[207,1242,0.94621,1.9700000000000273E-3]
[208,1248,0.94816,1.9500000000000073E-3]
[209,1254,0.95008999999999999,1.9299999999999873E-3]
[210,1260,0.95199999999999996,1.9099999999999673E-3]
[211,1266,0.95389000000000002,1.8900000000000583E-3]
[212,1272,0.95576000000000005,1.8700000000000383E-3]
[213,1278,0.95760999999999996,1.8499999999999073E-3]
[214,1284,0.95943999999999996,1.8299999999999983E-3]
[215,1290,0.96125000000000005,1.8100000000000893E-3]
[216,1296,0.96304000000000001,1.7899999999999583E-3]
[217,1302,0.96480999999999995,1.7699999999999383E-3]
[218,1308,0.96655999999999997,1.7500000000000293E-3]
[219,1314,0.96828999999999998,1.7300000000000093E-3]
[220,1320,0.97,1.7099999999999893E-3]
[221,1326,0.97169000000000005,1.6900000000000803E-3]
[222,1332,0.97336,1.6699999999999493E-3]
[223,1338,0.97501000000000004,1.6500000000000403E-3]
[224,1344,0.97663999999999995,1.6299999999999093E-3]
[225,1350,0.97824999999999995,1.6100000000000003E-3]
[226,1356,0.97984000000000004,1.5900000000000913E-3]
[227,1362,0.98141,1.5699999999999603E-3]
[228,1368,0.98295999999999994,1.5499999999999403E-3]
[229,1374,0.98448999999999998,1.5300000000000313E-3]
[230,1380,0.98599999999999999,1.5100000000000113E-3]
[231,1386,0.98748999999999998,1.4899999999999913E-3]
[232,1392,0.98895999999999995,1.4699999999999713E-3]
[233,1398,0.99041000000000001,1.4500000000000624E-3]
[234,1404,0.99184000000000005,1.4300000000000423E-3]
[235,1410,0.99324999999999997,1.4099999999999113E-3]
[236,1416,0.99463999999999997,1.3900000000000023E-3]
[237,1422,0.99600999999999995,1.3699999999999823E-3]
[238,1428,0.99736000000000002,1.3500000000000734E-3]
[239,1434,0.99868999999999997,1.3299999999999423E-3]
[240,1440,1,1.3100000000000334E-3]

{"sheet":"Lookups, Constants","index":3,"n_rows":54,"n_cols":6,"rows_kept":54,"cut":false,"hidden":false,"merged":[[0,3,0,5]]}
["Lookup Tables for Combo Boxes",null,null,"Hydraulic Constants"]
[]
["DMA Type","Code",null,null,"Gravel layer porosity: ",0.4]
["Self-Treating","STA"]
["Self-Retaining","SRA"]
["Drains to SCM","2SCM"]
["Drains to Self-Retaining","2SRA"]
[]
["SCM Type"]
["Bioretention"]
["Direct Infiltration"]
[]
["DMA Surface Types","Curve Number","Runoff Factor (WQ)"]
["Roof",98,1]
["Concrete or asphalt",98,1]
["Grouted unit pavers",98,1]
["Pervious concrete",null,0]
["Porous asphalt",null,0]
["Unit pavers set in sand",89,0.5]
["Open/porous pavers",null,0]
["Crushed aggregate",null,0]
["Turfblock",null,0]
["Landscape",68,0.1]
[]
["SCM Optimization"]
["Area"]
["Depth"]
[]
["USA Lookup"]
["Yes"]
["No"]
[]
["Compliance Approach"]
["Tier 2 - Treatment"]
["Tier 2 - Storage"]
["Tier 3 - Retention"]
[]
["Infiltration Rate"]
["HSG A/B"]
["HSG C/D"]
["Site-Specific"]
[]
["Impervious Type","Code"]
["New","NEW"]
["Replaced","RPL"]
["Replaced within a USA","RUSA"]
[]
["Flow Control Orifice"]
["Yes"]
["No"]
[]
["Reservoir Selection"]
["Depth (in)"]
["Volume (ft3)"]